BEGIN:VCALENDAR
VERSION:2.0
PRODID:-//Arts &amp; Science Council - ECPv6.15.20//NONSGML v1.0//EN
CALSCALE:GREGORIAN
METHOD:PUBLISH
X-WR-CALNAME:Arts &amp; Science Council
X-ORIGINAL-URL:https://artsandscience.org
X-WR-CALDESC:Events for Arts &amp; Science Council
REFRESH-INTERVAL;VALUE=DURATION:PT1H
X-Robots-Tag:noindex
X-PUBLISHED-TTL:PT1H
BEGIN:VTIMEZONE
TZID:UTC
BEGIN:STANDARD
TZOFFSETFROM:+0000
TZOFFSETTO:+0000
TZNAME:UTC
DTSTART:20240101T000000
END:STANDARD
END:VTIMEZONE
BEGIN:VEVENT
DTSTART;TZID=UTC:20250307T093000
DTEND;TZID=UTC:20250307T103000
DTSTAMP:20260426T001851
CREATED:20250203T184103Z
LAST-MODIFIED:20250210T182345Z
UID:10001245-1741339800-1741343400@artsandscience.org
SUMMARY:Community Grooves
DESCRIPTION:Presented by Piedmont Music Therapy\nWhen: Fridays from March 7 through March 28 (9:30 – 10:30am)\nWhere: Steele Creek Library (13620 Steele Creek Rd\, Charlotte\, NC 28273)\n \n\n\n\n\n\n\n\nFor Young Children & Guardians. \n\nNeighbors of all abilities are invited for Community Grooves\, a 4-week series to explore songs & instruments in connection with how music can help express & manage emotions. Participants are welcome to enjoy music-making to improve their day & connection to the community\, led by staff from Piedmont Music Therapy. No prior musical experience required.
URL:https://artsandscience.org/event/community-grooves-3/2025-03-07/
LOCATION:Steele Creek Library\, 13620 Steele Creek Rd\, Charlotte\, NC\, 28273\, United States
CATEGORIES:All abilities,Block 8: Steele Creek,Culture Blocks,Morning,Music,New
ATTACH;FMTTYPE=image/png:https://artsandscience.org/wp-content/uploads/2025/02/pmt-e1738607536587.png
END:VEVENT
END:VCALENDAR