BEGIN:VCALENDAR
VERSION:2.0
PRODID:-//Arts &amp; Science Council - ECPv6.15.20//NONSGML v1.0//EN
CALSCALE:GREGORIAN
METHOD:PUBLISH
X-WR-CALNAME:Arts &amp; Science Council
X-ORIGINAL-URL:https://artsandscience.org
X-WR-CALDESC:Events for Arts &amp; Science Council
REFRESH-INTERVAL;VALUE=DURATION:PT1H
X-Robots-Tag:noindex
X-PUBLISHED-TTL:PT1H
BEGIN:VTIMEZONE
TZID:UTC
BEGIN:STANDARD
TZOFFSETFROM:+0000
TZOFFSETTO:+0000
TZNAME:UTC
DTSTART:20230101T000000
END:STANDARD
END:VTIMEZONE
BEGIN:VEVENT
DTSTART;TZID=UTC:20251212T170000
DTEND;TZID=UTC:20251212T180000
DTSTAMP:20260425T124836
CREATED:20251027T170942Z
LAST-MODIFIED:20251027T170942Z
UID:10002146-1765558800-1765562400@artsandscience.org
SUMMARY:CELEBRA: Navidad Concert
DESCRIPTION:Presented by CrissCross Mangosauce\nWhen: December 12 (5pm)\nWhere: Lake Mist Apartments (1120-A Lakemist Dr\, Charlotte\, NC 28217)
URL:https://artsandscience.org/event/celebra-navidad-concert-2/
LOCATION:Lake Mist Apartments\, 1120-A Lakemist Dr.\, Charlotte\, NC\, 28217\, United States
CATEGORIES:Bilingual,Bilingual: Spanish,Block 5: Southwest Charlotte,Culture Blocks,Family-Friendly,Music,New
ATTACH;FMTTYPE=image/jpeg:https://artsandscience.org/wp-content/uploads/2025/10/NOVA-094-e1761584837810.jpg
END:VEVENT
BEGIN:VEVENT
DTSTART;TZID=UTC:20241211T170000
DTEND;TZID=UTC:20241211T180000
DTSTAMP:20260425T124836
CREATED:20241113T173316Z
LAST-MODIFIED:20241118T144628Z
UID:10000764-1733936400-1733940000@artsandscience.org
SUMMARY:Celebra Holiday Concert
DESCRIPTION:Presented by Criss Cross Mangosauce\nWhen: Wednesday\, December 11 (5:00pm)\nWhere: Lake Mist Apartments (1120-A Lakemist Dr\, Charlotte\, NC 28217)\n \n\n\n\n\n\n\nCome to celebrate the holidays with traditional Christmans Carols from Latinamerica. Bring alive our villancicos: \nEl Burrito Sabanero\, Campanas de Belén\, Tutaina\, Posadas. \nDances\, stories\, chocolate\, games and piñata. \niCelebra! is a vibrant bilingual concert that celebrates culture and music with a powerful message of hope\, reconciliation and peace.
URL:https://artsandscience.org/event/celebra-holiday-concert/
LOCATION:Lake Mist Apartments\, 1120-A Lakemist Dr.\, Charlotte\, NC\, 28217\, United States
CATEGORIES:Afternoon,Bilingual: Spanish,Block 5: Southwest Charlotte,Children,Culture Blocks,Dance,Family-Friendly,Music,New
ATTACH;FMTTYPE=image/jpeg:https://artsandscience.org/wp-content/uploads/2024/11/466924824_1000175768792174_7825492817381583014_n-e1731941094917.jpg
END:VEVENT
END:VCALENDAR