BEGIN:VCALENDAR
VERSION:2.0
PRODID:-//Arts &amp; Science Council - ECPv6.15.20//NONSGML v1.0//EN
CALSCALE:GREGORIAN
METHOD:PUBLISH
X-WR-CALNAME:Arts &amp; Science Council
X-ORIGINAL-URL:https://artsandscience.org
X-WR-CALDESC:Events for Arts &amp; Science Council
REFRESH-INTERVAL;VALUE=DURATION:PT1H
X-Robots-Tag:noindex
X-PUBLISHED-TTL:PT1H
BEGIN:VTIMEZONE
TZID:UTC
BEGIN:STANDARD
TZOFFSETFROM:+0000
TZOFFSETTO:+0000
TZNAME:UTC
DTSTART:20240101T000000
END:STANDARD
END:VTIMEZONE
BEGIN:VEVENT
DTSTART;TZID=UTC:20251018T100000
DTEND;TZID=UTC:20251018T210000
DTSTAMP:20260424T073242
CREATED:20251001T203549Z
LAST-MODIFIED:20251001T203549Z
UID:10002110-1760781600-1760821200@artsandscience.org
SUMMARY:27th Annual Pineville Fall Fest
DESCRIPTION:Presented by Pineville Parks & Rec\nWhen: October 16 – 18\nWhere: J D Hughes Park (513 Main St\, Pineville\, NC 28134) \n 
URL:https://artsandscience.org/event/27th-annual-pineville-fall-fest/2025-10-18/
LOCATION:J D Hughes Park\, 513 Main St\, Pineville\, 28134\, United States
CATEGORIES:Block 7: Pineville,Culture Blocks,New
ATTACH;FMTTYPE=image/jpeg:https://artsandscience.org/wp-content/uploads/2025/10/fall-fest-25-768x995-1-e1759350919727.jpg
END:VEVENT
BEGIN:VEVENT
DTSTART;TZID=UTC:20251017T170000
DTEND;TZID=UTC:20251017T210000
DTSTAMP:20260424T073242
CREATED:20251001T203549Z
LAST-MODIFIED:20251001T203549Z
UID:10002109-1760720400-1760734800@artsandscience.org
SUMMARY:27th Annual Pineville Fall Fest
DESCRIPTION:Presented by Pineville Parks & Rec\nWhen: October 16 – 18\nWhere: J D Hughes Park (513 Main St\, Pineville\, NC 28134) \n 
URL:https://artsandscience.org/event/27th-annual-pineville-fall-fest/2025-10-17/
LOCATION:J D Hughes Park\, 513 Main St\, Pineville\, 28134\, United States
CATEGORIES:Block 7: Pineville,Culture Blocks,New
ATTACH;FMTTYPE=image/jpeg:https://artsandscience.org/wp-content/uploads/2025/10/fall-fest-25-768x995-1-e1759350919727.jpg
END:VEVENT
BEGIN:VEVENT
DTSTART;TZID=UTC:20251016T170000
DTEND;TZID=UTC:20251016T210000
DTSTAMP:20260424T073242
CREATED:20251001T203549Z
LAST-MODIFIED:20251001T203549Z
UID:10002108-1760634000-1760648400@artsandscience.org
SUMMARY:27th Annual Pineville Fall Fest
DESCRIPTION:Presented by Pineville Parks & Rec\nWhen: October 16 – 18\nWhere: J D Hughes Park (513 Main St\, Pineville\, NC 28134) \n 
URL:https://artsandscience.org/event/27th-annual-pineville-fall-fest/2025-10-16/
LOCATION:J D Hughes Park\, 513 Main St\, Pineville\, 28134\, United States
CATEGORIES:Block 7: Pineville,Culture Blocks,New
ATTACH;FMTTYPE=image/jpeg:https://artsandscience.org/wp-content/uploads/2025/10/fall-fest-25-768x995-1-e1759350919727.jpg
END:VEVENT
END:VCALENDAR