BEGIN:VCALENDAR
VERSION:2.0
PRODID:-//Arts &amp; Science Council - ECPv6.15.20//NONSGML v1.0//EN
CALSCALE:GREGORIAN
METHOD:PUBLISH
X-WR-CALNAME:Arts &amp; Science Council
X-ORIGINAL-URL:https://artsandscience.org
X-WR-CALDESC:Events for Arts &amp; Science Council
REFRESH-INTERVAL;VALUE=DURATION:PT1H
X-Robots-Tag:noindex
X-PUBLISHED-TTL:PT1H
BEGIN:VTIMEZONE
TZID:UTC
BEGIN:STANDARD
TZOFFSETFROM:+0000
TZOFFSETTO:+0000
TZNAME:UTC
DTSTART:20250101T000000
END:STANDARD
END:VTIMEZONE
BEGIN:VEVENT
DTSTART;TZID=UTC:20260729T170000
DTEND;TZID=UTC:20260729T180000
DTSTAMP:20260423T175626
CREATED:20260327T165357Z
LAST-MODIFIED:20260327T165357Z
UID:10003034-1785344400-1785348000@artsandscience.org
SUMMARY:Just Dance Class
DESCRIPTION:Presented by Inspire Inclusion Dance\nWhen: Wednesdays 5-6pm\nWhere: Gigi’s Playhouse (9101 Kings Parade Blvd\, Charlotte\, NC 28273) \n\n\nFor teens\, adults and seniors with or without disabilities. \nApril 1\, 15\, 22\, 29\nMay 6\, 13\, 20\, 27\nJune 3\, 10\, 17\, 24\nJuly 8\, 15\, 22\, 29\nAugust 5\, 12\, 19\, 26\nSeptember 2\, 9\, 16\, 23\, 30\nOctober 7\, 14\, 21\, 28\nNovember 4\,11\, 18
URL:https://artsandscience.org/event/just-dance-class/2026-07-29/
LOCATION:Gigi’s Playhouse\, 9101 Kings Parade Blvd\, Charlotte\, NC\, 28273\, United States
CATEGORIES:Afternoon,All abilities,Block 8: Steele Creek,Culture Blocks,Dance,New
END:VEVENT
BEGIN:VEVENT
DTSTART;TZID=UTC:20260805T170000
DTEND;TZID=UTC:20260805T180000
DTSTAMP:20260423T175626
CREATED:20260327T165357Z
LAST-MODIFIED:20260327T165357Z
UID:10003035-1785949200-1785952800@artsandscience.org
SUMMARY:Just Dance Class
DESCRIPTION:Presented by Inspire Inclusion Dance\nWhen: Wednesdays 5-6pm\nWhere: Gigi’s Playhouse (9101 Kings Parade Blvd\, Charlotte\, NC 28273) \n\n\nFor teens\, adults and seniors with or without disabilities. \nApril 1\, 15\, 22\, 29\nMay 6\, 13\, 20\, 27\nJune 3\, 10\, 17\, 24\nJuly 8\, 15\, 22\, 29\nAugust 5\, 12\, 19\, 26\nSeptember 2\, 9\, 16\, 23\, 30\nOctober 7\, 14\, 21\, 28\nNovember 4\,11\, 18
URL:https://artsandscience.org/event/just-dance-class/2026-08-05/
LOCATION:Gigi’s Playhouse\, 9101 Kings Parade Blvd\, Charlotte\, NC\, 28273\, United States
CATEGORIES:Afternoon,All abilities,Block 8: Steele Creek,Culture Blocks,Dance,New
END:VEVENT
BEGIN:VEVENT
DTSTART;TZID=UTC:20260812T170000
DTEND;TZID=UTC:20260812T180000
DTSTAMP:20260423T175626
CREATED:20260327T165357Z
LAST-MODIFIED:20260327T165357Z
UID:10003036-1786554000-1786557600@artsandscience.org
SUMMARY:Just Dance Class
DESCRIPTION:Presented by Inspire Inclusion Dance\nWhen: Wednesdays 5-6pm\nWhere: Gigi’s Playhouse (9101 Kings Parade Blvd\, Charlotte\, NC 28273) \n\n\nFor teens\, adults and seniors with or without disabilities. \nApril 1\, 15\, 22\, 29\nMay 6\, 13\, 20\, 27\nJune 3\, 10\, 17\, 24\nJuly 8\, 15\, 22\, 29\nAugust 5\, 12\, 19\, 26\nSeptember 2\, 9\, 16\, 23\, 30\nOctober 7\, 14\, 21\, 28\nNovember 4\,11\, 18
URL:https://artsandscience.org/event/just-dance-class/2026-08-12/
LOCATION:Gigi’s Playhouse\, 9101 Kings Parade Blvd\, Charlotte\, NC\, 28273\, United States
CATEGORIES:Afternoon,All abilities,Block 8: Steele Creek,Culture Blocks,Dance,New
END:VEVENT
BEGIN:VEVENT
DTSTART;TZID=UTC:20260819T170000
DTEND;TZID=UTC:20260819T180000
DTSTAMP:20260423T175626
CREATED:20260327T165357Z
LAST-MODIFIED:20260327T165357Z
UID:10003037-1787158800-1787162400@artsandscience.org
SUMMARY:Just Dance Class
DESCRIPTION:Presented by Inspire Inclusion Dance\nWhen: Wednesdays 5-6pm\nWhere: Gigi’s Playhouse (9101 Kings Parade Blvd\, Charlotte\, NC 28273) \n\n\nFor teens\, adults and seniors with or without disabilities. \nApril 1\, 15\, 22\, 29\nMay 6\, 13\, 20\, 27\nJune 3\, 10\, 17\, 24\nJuly 8\, 15\, 22\, 29\nAugust 5\, 12\, 19\, 26\nSeptember 2\, 9\, 16\, 23\, 30\nOctober 7\, 14\, 21\, 28\nNovember 4\,11\, 18
URL:https://artsandscience.org/event/just-dance-class/2026-08-19/
LOCATION:Gigi’s Playhouse\, 9101 Kings Parade Blvd\, Charlotte\, NC\, 28273\, United States
CATEGORIES:Afternoon,All abilities,Block 8: Steele Creek,Culture Blocks,Dance,New
END:VEVENT
BEGIN:VEVENT
DTSTART;TZID=UTC:20260826T170000
DTEND;TZID=UTC:20260826T180000
DTSTAMP:20260423T175626
CREATED:20260327T165357Z
LAST-MODIFIED:20260327T165357Z
UID:10003038-1787763600-1787767200@artsandscience.org
SUMMARY:Just Dance Class
DESCRIPTION:Presented by Inspire Inclusion Dance\nWhen: Wednesdays 5-6pm\nWhere: Gigi’s Playhouse (9101 Kings Parade Blvd\, Charlotte\, NC 28273) \n\n\nFor teens\, adults and seniors with or without disabilities. \nApril 1\, 15\, 22\, 29\nMay 6\, 13\, 20\, 27\nJune 3\, 10\, 17\, 24\nJuly 8\, 15\, 22\, 29\nAugust 5\, 12\, 19\, 26\nSeptember 2\, 9\, 16\, 23\, 30\nOctober 7\, 14\, 21\, 28\nNovember 4\,11\, 18
URL:https://artsandscience.org/event/just-dance-class/2026-08-26/
LOCATION:Gigi’s Playhouse\, 9101 Kings Parade Blvd\, Charlotte\, NC\, 28273\, United States
CATEGORIES:Afternoon,All abilities,Block 8: Steele Creek,Culture Blocks,Dance,New
END:VEVENT
BEGIN:VEVENT
DTSTART;TZID=UTC:20260902T170000
DTEND;TZID=UTC:20260902T180000
DTSTAMP:20260423T175626
CREATED:20260327T165357Z
LAST-MODIFIED:20260327T165357Z
UID:10003039-1788368400-1788372000@artsandscience.org
SUMMARY:Just Dance Class
DESCRIPTION:Presented by Inspire Inclusion Dance\nWhen: Wednesdays 5-6pm\nWhere: Gigi’s Playhouse (9101 Kings Parade Blvd\, Charlotte\, NC 28273) \n\n\nFor teens\, adults and seniors with or without disabilities. \nApril 1\, 15\, 22\, 29\nMay 6\, 13\, 20\, 27\nJune 3\, 10\, 17\, 24\nJuly 8\, 15\, 22\, 29\nAugust 5\, 12\, 19\, 26\nSeptember 2\, 9\, 16\, 23\, 30\nOctober 7\, 14\, 21\, 28\nNovember 4\,11\, 18
URL:https://artsandscience.org/event/just-dance-class/2026-09-02/
LOCATION:Gigi’s Playhouse\, 9101 Kings Parade Blvd\, Charlotte\, NC\, 28273\, United States
CATEGORIES:Afternoon,All abilities,Block 8: Steele Creek,Culture Blocks,Dance,New
END:VEVENT
BEGIN:VEVENT
DTSTART;TZID=UTC:20260909T170000
DTEND;TZID=UTC:20260909T180000
DTSTAMP:20260423T175626
CREATED:20260327T165357Z
LAST-MODIFIED:20260327T165357Z
UID:10003040-1788973200-1788976800@artsandscience.org
SUMMARY:Just Dance Class
DESCRIPTION:Presented by Inspire Inclusion Dance\nWhen: Wednesdays 5-6pm\nWhere: Gigi’s Playhouse (9101 Kings Parade Blvd\, Charlotte\, NC 28273) \n\n\nFor teens\, adults and seniors with or without disabilities. \nApril 1\, 15\, 22\, 29\nMay 6\, 13\, 20\, 27\nJune 3\, 10\, 17\, 24\nJuly 8\, 15\, 22\, 29\nAugust 5\, 12\, 19\, 26\nSeptember 2\, 9\, 16\, 23\, 30\nOctober 7\, 14\, 21\, 28\nNovember 4\,11\, 18
URL:https://artsandscience.org/event/just-dance-class/2026-09-09/
LOCATION:Gigi’s Playhouse\, 9101 Kings Parade Blvd\, Charlotte\, NC\, 28273\, United States
CATEGORIES:Afternoon,All abilities,Block 8: Steele Creek,Culture Blocks,Dance,New
END:VEVENT
BEGIN:VEVENT
DTSTART;TZID=UTC:20260916T170000
DTEND;TZID=UTC:20260916T180000
DTSTAMP:20260423T175626
CREATED:20260327T165357Z
LAST-MODIFIED:20260327T165357Z
UID:10003041-1789578000-1789581600@artsandscience.org
SUMMARY:Just Dance Class
DESCRIPTION:Presented by Inspire Inclusion Dance\nWhen: Wednesdays 5-6pm\nWhere: Gigi’s Playhouse (9101 Kings Parade Blvd\, Charlotte\, NC 28273) \n\n\nFor teens\, adults and seniors with or without disabilities. \nApril 1\, 15\, 22\, 29\nMay 6\, 13\, 20\, 27\nJune 3\, 10\, 17\, 24\nJuly 8\, 15\, 22\, 29\nAugust 5\, 12\, 19\, 26\nSeptember 2\, 9\, 16\, 23\, 30\nOctober 7\, 14\, 21\, 28\nNovember 4\,11\, 18
URL:https://artsandscience.org/event/just-dance-class/2026-09-16/
LOCATION:Gigi’s Playhouse\, 9101 Kings Parade Blvd\, Charlotte\, NC\, 28273\, United States
CATEGORIES:Afternoon,All abilities,Block 8: Steele Creek,Culture Blocks,Dance,New
END:VEVENT
BEGIN:VEVENT
DTSTART;TZID=UTC:20260923T170000
DTEND;TZID=UTC:20260923T180000
DTSTAMP:20260423T175626
CREATED:20260327T165357Z
LAST-MODIFIED:20260327T165357Z
UID:10003042-1790182800-1790186400@artsandscience.org
SUMMARY:Just Dance Class
DESCRIPTION:Presented by Inspire Inclusion Dance\nWhen: Wednesdays 5-6pm\nWhere: Gigi’s Playhouse (9101 Kings Parade Blvd\, Charlotte\, NC 28273) \n\n\nFor teens\, adults and seniors with or without disabilities. \nApril 1\, 15\, 22\, 29\nMay 6\, 13\, 20\, 27\nJune 3\, 10\, 17\, 24\nJuly 8\, 15\, 22\, 29\nAugust 5\, 12\, 19\, 26\nSeptember 2\, 9\, 16\, 23\, 30\nOctober 7\, 14\, 21\, 28\nNovember 4\,11\, 18
URL:https://artsandscience.org/event/just-dance-class/2026-09-23/
LOCATION:Gigi’s Playhouse\, 9101 Kings Parade Blvd\, Charlotte\, NC\, 28273\, United States
CATEGORIES:Afternoon,All abilities,Block 8: Steele Creek,Culture Blocks,Dance,New
END:VEVENT
BEGIN:VEVENT
DTSTART;TZID=UTC:20260930T170000
DTEND;TZID=UTC:20260930T180000
DTSTAMP:20260423T175626
CREATED:20260327T165357Z
LAST-MODIFIED:20260327T165357Z
UID:10003043-1790787600-1790791200@artsandscience.org
SUMMARY:Just Dance Class
DESCRIPTION:Presented by Inspire Inclusion Dance\nWhen: Wednesdays 5-6pm\nWhere: Gigi’s Playhouse (9101 Kings Parade Blvd\, Charlotte\, NC 28273) \n\n\nFor teens\, adults and seniors with or without disabilities. \nApril 1\, 15\, 22\, 29\nMay 6\, 13\, 20\, 27\nJune 3\, 10\, 17\, 24\nJuly 8\, 15\, 22\, 29\nAugust 5\, 12\, 19\, 26\nSeptember 2\, 9\, 16\, 23\, 30\nOctober 7\, 14\, 21\, 28\nNovember 4\,11\, 18
URL:https://artsandscience.org/event/just-dance-class/2026-09-30/
LOCATION:Gigi’s Playhouse\, 9101 Kings Parade Blvd\, Charlotte\, NC\, 28273\, United States
CATEGORIES:Afternoon,All abilities,Block 8: Steele Creek,Culture Blocks,Dance,New
END:VEVENT
BEGIN:VEVENT
DTSTART;TZID=UTC:20261007T170000
DTEND;TZID=UTC:20261007T180000
DTSTAMP:20260423T175626
CREATED:20260327T165357Z
LAST-MODIFIED:20260327T165357Z
UID:10003044-1791392400-1791396000@artsandscience.org
SUMMARY:Just Dance Class
DESCRIPTION:Presented by Inspire Inclusion Dance\nWhen: Wednesdays 5-6pm\nWhere: Gigi’s Playhouse (9101 Kings Parade Blvd\, Charlotte\, NC 28273) \n\n\nFor teens\, adults and seniors with or without disabilities. \nApril 1\, 15\, 22\, 29\nMay 6\, 13\, 20\, 27\nJune 3\, 10\, 17\, 24\nJuly 8\, 15\, 22\, 29\nAugust 5\, 12\, 19\, 26\nSeptember 2\, 9\, 16\, 23\, 30\nOctober 7\, 14\, 21\, 28\nNovember 4\,11\, 18
URL:https://artsandscience.org/event/just-dance-class/2026-10-07/
LOCATION:Gigi’s Playhouse\, 9101 Kings Parade Blvd\, Charlotte\, NC\, 28273\, United States
CATEGORIES:Afternoon,All abilities,Block 8: Steele Creek,Culture Blocks,Dance,New
END:VEVENT
BEGIN:VEVENT
DTSTART;TZID=UTC:20261014T170000
DTEND;TZID=UTC:20261014T180000
DTSTAMP:20260423T175626
CREATED:20260327T165357Z
LAST-MODIFIED:20260327T165357Z
UID:10003045-1791997200-1792000800@artsandscience.org
SUMMARY:Just Dance Class
DESCRIPTION:Presented by Inspire Inclusion Dance\nWhen: Wednesdays 5-6pm\nWhere: Gigi’s Playhouse (9101 Kings Parade Blvd\, Charlotte\, NC 28273) \n\n\nFor teens\, adults and seniors with or without disabilities. \nApril 1\, 15\, 22\, 29\nMay 6\, 13\, 20\, 27\nJune 3\, 10\, 17\, 24\nJuly 8\, 15\, 22\, 29\nAugust 5\, 12\, 19\, 26\nSeptember 2\, 9\, 16\, 23\, 30\nOctober 7\, 14\, 21\, 28\nNovember 4\,11\, 18
URL:https://artsandscience.org/event/just-dance-class/2026-10-14/
LOCATION:Gigi’s Playhouse\, 9101 Kings Parade Blvd\, Charlotte\, NC\, 28273\, United States
CATEGORIES:Afternoon,All abilities,Block 8: Steele Creek,Culture Blocks,Dance,New
END:VEVENT
BEGIN:VEVENT
DTSTART;TZID=UTC:20261021T170000
DTEND;TZID=UTC:20261021T180000
DTSTAMP:20260423T175626
CREATED:20260327T165357Z
LAST-MODIFIED:20260327T165357Z
UID:10003046-1792602000-1792605600@artsandscience.org
SUMMARY:Just Dance Class
DESCRIPTION:Presented by Inspire Inclusion Dance\nWhen: Wednesdays 5-6pm\nWhere: Gigi’s Playhouse (9101 Kings Parade Blvd\, Charlotte\, NC 28273) \n\n\nFor teens\, adults and seniors with or without disabilities. \nApril 1\, 15\, 22\, 29\nMay 6\, 13\, 20\, 27\nJune 3\, 10\, 17\, 24\nJuly 8\, 15\, 22\, 29\nAugust 5\, 12\, 19\, 26\nSeptember 2\, 9\, 16\, 23\, 30\nOctober 7\, 14\, 21\, 28\nNovember 4\,11\, 18
URL:https://artsandscience.org/event/just-dance-class/2026-10-21/
LOCATION:Gigi’s Playhouse\, 9101 Kings Parade Blvd\, Charlotte\, NC\, 28273\, United States
CATEGORIES:Afternoon,All abilities,Block 8: Steele Creek,Culture Blocks,Dance,New
END:VEVENT
BEGIN:VEVENT
DTSTART;TZID=UTC:20261028T170000
DTEND;TZID=UTC:20261028T180000
DTSTAMP:20260423T175626
CREATED:20260327T165357Z
LAST-MODIFIED:20260327T165357Z
UID:10003047-1793206800-1793210400@artsandscience.org
SUMMARY:Just Dance Class
DESCRIPTION:Presented by Inspire Inclusion Dance\nWhen: Wednesdays 5-6pm\nWhere: Gigi’s Playhouse (9101 Kings Parade Blvd\, Charlotte\, NC 28273) \n\n\nFor teens\, adults and seniors with or without disabilities. \nApril 1\, 15\, 22\, 29\nMay 6\, 13\, 20\, 27\nJune 3\, 10\, 17\, 24\nJuly 8\, 15\, 22\, 29\nAugust 5\, 12\, 19\, 26\nSeptember 2\, 9\, 16\, 23\, 30\nOctober 7\, 14\, 21\, 28\nNovember 4\,11\, 18
URL:https://artsandscience.org/event/just-dance-class/2026-10-28/
LOCATION:Gigi’s Playhouse\, 9101 Kings Parade Blvd\, Charlotte\, NC\, 28273\, United States
CATEGORIES:Afternoon,All abilities,Block 8: Steele Creek,Culture Blocks,Dance,New
END:VEVENT
BEGIN:VEVENT
DTSTART;TZID=UTC:20261104T170000
DTEND;TZID=UTC:20261104T180000
DTSTAMP:20260423T175626
CREATED:20260327T165357Z
LAST-MODIFIED:20260327T165357Z
UID:10003048-1793811600-1793815200@artsandscience.org
SUMMARY:Just Dance Class
DESCRIPTION:Presented by Inspire Inclusion Dance\nWhen: Wednesdays 5-6pm\nWhere: Gigi’s Playhouse (9101 Kings Parade Blvd\, Charlotte\, NC 28273) \n\n\nFor teens\, adults and seniors with or without disabilities. \nApril 1\, 15\, 22\, 29\nMay 6\, 13\, 20\, 27\nJune 3\, 10\, 17\, 24\nJuly 8\, 15\, 22\, 29\nAugust 5\, 12\, 19\, 26\nSeptember 2\, 9\, 16\, 23\, 30\nOctober 7\, 14\, 21\, 28\nNovember 4\,11\, 18
URL:https://artsandscience.org/event/just-dance-class/2026-11-04/
LOCATION:Gigi’s Playhouse\, 9101 Kings Parade Blvd\, Charlotte\, NC\, 28273\, United States
CATEGORIES:Afternoon,All abilities,Block 8: Steele Creek,Culture Blocks,Dance,New
END:VEVENT
BEGIN:VEVENT
DTSTART;TZID=UTC:20261111T170000
DTEND;TZID=UTC:20261111T180000
DTSTAMP:20260423T175626
CREATED:20260327T165357Z
LAST-MODIFIED:20260327T165357Z
UID:10003049-1794416400-1794420000@artsandscience.org
SUMMARY:Just Dance Class
DESCRIPTION:Presented by Inspire Inclusion Dance\nWhen: Wednesdays 5-6pm\nWhere: Gigi’s Playhouse (9101 Kings Parade Blvd\, Charlotte\, NC 28273) \n\n\nFor teens\, adults and seniors with or without disabilities. \nApril 1\, 15\, 22\, 29\nMay 6\, 13\, 20\, 27\nJune 3\, 10\, 17\, 24\nJuly 8\, 15\, 22\, 29\nAugust 5\, 12\, 19\, 26\nSeptember 2\, 9\, 16\, 23\, 30\nOctober 7\, 14\, 21\, 28\nNovember 4\,11\, 18
URL:https://artsandscience.org/event/just-dance-class/2026-11-11/
LOCATION:Gigi’s Playhouse\, 9101 Kings Parade Blvd\, Charlotte\, NC\, 28273\, United States
CATEGORIES:Afternoon,All abilities,Block 8: Steele Creek,Culture Blocks,Dance,New
END:VEVENT
BEGIN:VEVENT
DTSTART;TZID=UTC:20261118T170000
DTEND;TZID=UTC:20261118T180000
DTSTAMP:20260423T175626
CREATED:20260327T165357Z
LAST-MODIFIED:20260327T165357Z
UID:10003050-1795021200-1795024800@artsandscience.org
SUMMARY:Just Dance Class
DESCRIPTION:Presented by Inspire Inclusion Dance\nWhen: Wednesdays 5-6pm\nWhere: Gigi’s Playhouse (9101 Kings Parade Blvd\, Charlotte\, NC 28273) \n\n\nFor teens\, adults and seniors with or without disabilities. \nApril 1\, 15\, 22\, 29\nMay 6\, 13\, 20\, 27\nJune 3\, 10\, 17\, 24\nJuly 8\, 15\, 22\, 29\nAugust 5\, 12\, 19\, 26\nSeptember 2\, 9\, 16\, 23\, 30\nOctober 7\, 14\, 21\, 28\nNovember 4\,11\, 18
URL:https://artsandscience.org/event/just-dance-class/2026-11-18/
LOCATION:Gigi’s Playhouse\, 9101 Kings Parade Blvd\, Charlotte\, NC\, 28273\, United States
CATEGORIES:Afternoon,All abilities,Block 8: Steele Creek,Culture Blocks,Dance,New
END:VEVENT
END:VCALENDAR