BEGIN:VCALENDAR
VERSION:2.0
PRODID:-//Arts &amp; Science Council - ECPv6.15.20//NONSGML v1.0//EN
CALSCALE:GREGORIAN
METHOD:PUBLISH
X-ORIGINAL-URL:https://artsandscience.org
X-WR-CALDESC:Events for Arts &amp; Science Council
REFRESH-INTERVAL;VALUE=DURATION:PT1H
X-Robots-Tag:noindex
X-PUBLISHED-TTL:PT1H
BEGIN:VTIMEZONE
TZID:UTC
BEGIN:STANDARD
TZOFFSETFROM:+0000
TZOFFSETTO:+0000
TZNAME:UTC
DTSTART:20250101T000000
END:STANDARD
END:VTIMEZONE
BEGIN:VEVENT
DTSTART;TZID=UTC:20260421T160000
DTEND;TZID=UTC:20260421T180000
DTSTAMP:20260423T162746
CREATED:20260413T132026Z
LAST-MODIFIED:20260413T132026Z
UID:10003066-1776787200-1776794400@artsandscience.org
SUMMARY:Studio Hours: Create Your Crown Hat Design Workshop
DESCRIPTION:Presented by\nWhen: Tuesday\, April 21 & Thursday April 22 (4–6 PM)\nWhere: Do Greater Charlotte (2400 Greenland Ave\, Charlotte\, NC 28208) \n\n\nIn this two-part workshop\, students will get the opportunity to step into the world of apparel design and experience what it takes to create a product from concept to finished piece. Over two days\, students will explore the fundamentals of design\, understand the value of creativity in the fashion industry\, and develop their own original hat design using Canva Pro. On production day\, students will get the opportunity to cut their DTF designs\, learn how to use a heat press\, and walk away with two custom hats they designed and made themselves.
URL:https://artsandscience.org/event/studio-hours-create-your-crown-hat-design-workshop/2026-04-21/
LOCATION:Do Greater\, 2400 Greenland Ave\, Charlotte\, NC\, 28208\, United States
CATEGORIES:Block 4: West Charlotte,Culture Blocks,New,Workshop
ATTACH;FMTTYPE=image/png:https://artsandscience.org/wp-content/uploads/2026/04/crown-e1776086420303.png
END:VEVENT
BEGIN:VEVENT
DTSTART;TZID=UTC:20260326T160000
DTEND;TZID=UTC:20260326T180000
DTSTAMP:20260423T162746
CREATED:20260303T192253Z
LAST-MODIFIED:20260309T180247Z
UID:10002860-1774540800-1774548000@artsandscience.org
SUMMARY:Food Photography Workshop
DESCRIPTION:Presented by Do Greater\nWhen: Tuesday\, March 24 & Thursday\, March 26 (4–6 pm)\nWhere: Do Greater (2400 Greenland Ave\, Charlotte\, NC 28208) \n\nStep into the world of food photography in this two-part\, hands-on workshop! Students will learn how to style\, frame\, and light food to make it look irresistible\, then capture professional-quality images using real photography equipment. \n⚠️ Students must attend both sessions to participate.\nSpots are limited—don’t miss this chance to get creative behind the camera! Register here.
URL:https://artsandscience.org/event/food-photography-workshop/2026-03-26/
LOCATION:Do Greater\, 2400 Greenland Ave\, Charlotte\, NC\, 28208\, United States
CATEGORIES:Afternoon,Block 4: West Charlotte,Culture Blocks,New,Photography,Teens,Workshop
ATTACH;FMTTYPE=image/png:https://artsandscience.org/wp-content/uploads/2026/03/flavorandframe-e1772565696860.png
END:VEVENT
BEGIN:VEVENT
DTSTART;TZID=UTC:20260324T160000
DTEND;TZID=UTC:20260324T180000
DTSTAMP:20260423T162746
CREATED:20260303T192253Z
LAST-MODIFIED:20260309T180247Z
UID:10002859-1774368000-1774375200@artsandscience.org
SUMMARY:Food Photography Workshop
DESCRIPTION:Presented by Do Greater\nWhen: Tuesday\, March 24 & Thursday\, March 26 (4–6 pm)\nWhere: Do Greater (2400 Greenland Ave\, Charlotte\, NC 28208) \n\nStep into the world of food photography in this two-part\, hands-on workshop! Students will learn how to style\, frame\, and light food to make it look irresistible\, then capture professional-quality images using real photography equipment. \n⚠️ Students must attend both sessions to participate.\nSpots are limited—don’t miss this chance to get creative behind the camera! Register here.
URL:https://artsandscience.org/event/food-photography-workshop/2026-03-24/
LOCATION:Do Greater\, 2400 Greenland Ave\, Charlotte\, NC\, 28208\, United States
CATEGORIES:Afternoon,Block 4: West Charlotte,Culture Blocks,New,Photography,Teens,Workshop
ATTACH;FMTTYPE=image/png:https://artsandscience.org/wp-content/uploads/2026/03/flavorandframe-e1772565696860.png
END:VEVENT
END:VCALENDAR