BEGIN:VCALENDAR
VERSION:2.0
PRODID:-//Arts &amp; Science Council - ECPv6.15.20//NONSGML v1.0//EN
CALSCALE:GREGORIAN
METHOD:PUBLISH
X-ORIGINAL-URL:https://artsandscience.org
X-WR-CALDESC:Events for Arts &amp; Science Council
REFRESH-INTERVAL;VALUE=DURATION:PT1H
X-Robots-Tag:noindex
X-PUBLISHED-TTL:PT1H
BEGIN:VTIMEZONE
TZID:UTC
BEGIN:STANDARD
TZOFFSETFROM:+0000
TZOFFSETTO:+0000
TZNAME:UTC
DTSTART:20250101T000000
END:STANDARD
END:VTIMEZONE
BEGIN:VEVENT
DTSTART;TZID=UTC:20260425T130000
DTEND;TZID=UTC:20260425T220000
DTSTAMP:20260423T175755
CREATED:20260421T135429Z
LAST-MODIFIED:20260421T135429Z
UID:10003068-1777122000-1777154400@artsandscience.org
SUMMARY:Queen City Culture Film Festival
DESCRIPTION:Presented by Queen City Culture Film Festival\nWhen: April 25 (1 – 10pm)\nWhere: Ayrsley Grand Cinema (9110 Kings Parade Blvd\, Charlotte\, NC 28273) \n\n\nGet ready for a celebration of all things cultural and cinematic at the Queen City Culture Film Festival! \nWelcome to the Queen City Culture Film Festival! Get ready for a day filled with captivating films and inspiring stories at the Ayrsley Grand Cinema. Join us on April 25\, 2026 at 1:00 PM (Eastern Time) for a cinematic experience like no other. Immerse yourself in the world of film and celebrate the art of storytelling with fellow movie enthusiasts. Don’t miss this opportunity to be part of a cultural event that will leave you feeling entertained and enlightened. See you there!
URL:https://artsandscience.org/event/queen-city-culture-film-festival/
LOCATION:Ayrsley Grand Cinema\, 9110 Kings Parade Blvd\, Charlotte\, NC\, 28273\, United States
CATEGORIES:Block 8: Steele Creek,Culture Blocks,Film,New
ATTACH;FMTTYPE=image/webp:https://artsandscience.org/wp-content/uploads/2026/04/QCCFF-1-White-And-Blue-3-scaled-1-e1776779644615.webp
END:VEVENT
END:VCALENDAR