BEGIN:VCALENDAR
VERSION:2.0
PRODID:-//Arts &amp; Science Council - ECPv6.15.20//NONSGML v1.0//EN
CALSCALE:GREGORIAN
METHOD:PUBLISH
X-WR-CALNAME:Arts &amp; Science Council
X-ORIGINAL-URL:https://artsandscience.org
X-WR-CALDESC:Events for Arts &amp; Science Council
REFRESH-INTERVAL;VALUE=DURATION:PT1H
X-Robots-Tag:noindex
X-PUBLISHED-TTL:PT1H
BEGIN:VTIMEZONE
TZID:UTC
BEGIN:STANDARD
TZOFFSETFROM:+0000
TZOFFSETTO:+0000
TZNAME:UTC
DTSTART:20230101T000000
END:STANDARD
END:VTIMEZONE
BEGIN:VEVENT
DTSTART;TZID=UTC:20250923T140000
DTEND;TZID=UTC:20250923T150000
DTSTAMP:20260425T202053
CREATED:20250819T173117Z
LAST-MODIFIED:20250819T173117Z
UID:10002038-1758636000-1758639600@artsandscience.org
SUMMARY:Tiny Tunes & Dapper Tales
DESCRIPTION:Presented by Dapper Street Productions\nWhen: Tuesday\, September 23 (2:00pm-3:00pm)\nWhere: Pineville Library (505 Main St #100\, Pineville\, NC 28134) \nGet ready for a magical hour of music\, rhythm\, and storytelling designed to spark your child’s imagination! Tiny Tunes & Dapper Tales brings the joy of live music and vivid storytelling to life in a fun\, engaging library setting. Featuring JAZZABUG! this event is perfect for kids ages 2-6 who love to move\, sing\, and explore new adventures through sound and story. Parents\, bring your little ones for an exciting and enriching experience that encourages early literacy\, creativity\, and a love for music and stories. Tiny Tunes & Dapper Tales is a Dapper Street Production sponsored by Culture Blocks; a community partnership funded by Mecklenburg County. \n 
URL:https://artsandscience.org/event/tiny-tunes-dapper-tales/
LOCATION:Pineville Library\, 505 Main St #100\, Pineville\, NC\, 28134\, United States
CATEGORIES:Afternoon,Block 7: Pineville,Culture Blocks,New
ATTACH;FMTTYPE=image/jpeg:https://artsandscience.org/wp-content/uploads/2025/08/pineville-branch-2_orig-e1755624655851.jpg
END:VEVENT
BEGIN:VEVENT
DTSTART;TZID=UTC:20250823T120000
DTEND;TZID=UTC:20250823T160000
DTSTAMP:20260425T202053
CREATED:20250819T152917Z
LAST-MODIFIED:20250819T152917Z
UID:10002034-1755950400-1755964800@artsandscience.org
SUMMARY:Back To School Family Fun Day
DESCRIPTION:Presented by Dapper Street Productions\nWhen: Saturday\, August 23 (12pm-4pm)\nWhere: Albemarle Road Rec. Center (5027 Idlewild Rd\, N\, Charlotte\, NC 28227) \n 
URL:https://artsandscience.org/event/back-to-school-family-fun-day/
LOCATION:Albemarle Road Recreation Center\, 5027 Idlewild Rd N.\, Charlotte\, NC\, 28227\, United States
CATEGORIES:Afternoon,Block 3: East Charlotte,Culture Blocks,New
ATTACH;FMTTYPE=image/jpeg:https://artsandscience.org/wp-content/uploads/2025/08/August-23rd-Albemarle-Road-Rec-e1755617306569.jpg
END:VEVENT
BEGIN:VEVENT
DTSTART;TZID=UTC:20250614T120000
DTEND;TZID=UTC:20250614T160000
DTSTAMP:20260425T202053
CREATED:20250226T220036Z
LAST-MODIFIED:20250226T220036Z
UID:10001293-1749902400-1749916800@artsandscience.org
SUMMARY:Jazz Soul & R&B Live: Community Celebration with DJ Tab
DESCRIPTION:Presented by Dapper Street Productions\nWhen: June 14 (12pm-4pm)\nWhere: Berewick Recreation Center (5910 Dixie River Rd\, Charlotte\, NC 28278) \n\n\n\n\n\n\n\nGet ready for a day of music\, fun\, and togetherness at the Community Celebration with DJ Tab! Hosted on the west side of Charlotte\, this family-friendly event brings the community together for an unforgettable afternoon filled with great vibes\, delicious food\, and interactive games.This event is all about celebrating community\, culture\, and connection—so bring your friends\, bring your family\, and come ready to dance\, play\, and enjoy a beautiful day with great people.
URL:https://artsandscience.org/event/jazz-soul-rb-live-community-celebration-with-dj-tab/
LOCATION:Berewick Recreation Center\, 5910 Dixie River Rd.\, Charlotte\, NC\, 28278
CATEGORIES:Afternoon,Block 8: Steele Creek,Culture Blocks,Music,New
ATTACH;FMTTYPE=image/jpeg:https://artsandscience.org/wp-content/uploads/2025/02/June-14th-Dapper-Street-e1740607226873.jpg
END:VEVENT
BEGIN:VEVENT
DTSTART;TZID=UTC:20250424T183000
DTEND;TZID=UTC:20250424T200000
DTSTAMP:20260425T202053
CREATED:20250226T215710Z
LAST-MODIFIED:20250226T215710Z
UID:10001292-1745519400-1745524800@artsandscience.org
SUMMARY:Jazz Soul R&B Live: Gospel Celebration Featuring Tina Ratliff
DESCRIPTION:Presented by Dapper Street Productions\nWhen: April 24 (6:30-8pm)\nWhere: Methodist Home Recreation Center (3200 Shamrock Dr\, Charlotte\, NC 28205) \n\n\n\n\n\n\n\nPrepare for a soul-stirring afternoon of gospel music as Dapper Street Productions presents Gospel Celebration and Inspiration featuring Tina Ratliff!
URL:https://artsandscience.org/event/jazz-soul-rb-live-gospel-celebration-featuring-tina-ratliff/
LOCATION:Methodist Home Recreation Center\, 3200 Shamrock Dr.\, Charlotte\, 28205\, United States
CATEGORIES:Block 3: East Charlotte,Culture Blocks,Evening,Music,New
ATTACH;FMTTYPE=image/jpeg:https://artsandscience.org/wp-content/uploads/2025/02/April-24th-Dapper-Street-e1740606991374.jpg
END:VEVENT
BEGIN:VEVENT
DTSTART;TZID=UTC:20250322T140000
DTEND;TZID=UTC:20250322T150000
DTSTAMP:20260425T202053
CREATED:20250226T215314Z
LAST-MODIFIED:20250226T215314Z
UID:10001291-1742652000-1742655600@artsandscience.org
SUMMARY:Jazz Soul R&B Live: The Blues featuring Tracy Brathwaite
DESCRIPTION:Presented by Dapper Street Productions\nWhen: March 22 (2-4pm)\nWhere: Berewick Recreation Center (5910 Dixie River Rd\, Charlotte\, NC 28278) \n\n\n\n\n\n\n\nJoin us for a night of soul\, grit\, and blues magic as Tracy Brathwaite takes you on a journey through the heart and soul of the genre. Don’t miss this electrifying performance
URL:https://artsandscience.org/event/jazz-soul-rb-live-the-blues-featuring-tracy-brathwaite/
LOCATION:Berewick Recreation Center\, 5910 Dixie River Rd.\, Charlotte\, NC\, 28278
CATEGORIES:Afternoon,Block 8: Steele Creek,Culture Blocks,Music,New
ATTACH;FMTTYPE=image/jpeg:https://artsandscience.org/wp-content/uploads/2025/02/March-22nd-Dapper-Street-TB-e1740606784443.jpg
END:VEVENT
BEGIN:VEVENT
DTSTART;TZID=UTC:20250308T140000
DTEND;TZID=UTC:20250308T150000
DTSTAMP:20260425T202053
CREATED:20250226T214541Z
LAST-MODIFIED:20250226T214541Z
UID:10001290-1741442400-1741446000@artsandscience.org
SUMMARY:PIANO JAZZ  - The Intimate Experience
DESCRIPTION:Presented by Dapper Street Productions\nWhen: March 8 (2-4pm)\nWhere: Cornelius Library (21105 Catawba Ave. Cornelius\, NC 28031) \n\n\n\n\n\n\n\nExperience an afternoon of intimate and soul-stirring jazz as Dapper Street presents Piano Jazz featuring Sean Higgins. Hosted at the Cornelius Library\, this special performance showcases one of Charlotte’s most talented pianists\, known for his masterful touch\, rich harmonies\, and captivating improvisation.
URL:https://artsandscience.org/event/piano-jazz-the-intimate-experience/
LOCATION:Cornelius Library\, 21105 Catawba Avenue\, Cornelius\, NC\, 28031\, United States
CATEGORIES:Afternoon,Block 10: North County,Culture Blocks,Music,New
ATTACH;FMTTYPE=image/jpeg:https://artsandscience.org/wp-content/uploads/2025/02/MARCH-8TH-PIANO-JAZZ--e1740606328994.jpg
END:VEVENT
BEGIN:VEVENT
DTSTART;TZID=UTC:20241123T130000
DTEND;TZID=UTC:20241123T140000
DTSTAMP:20260425T202053
CREATED:20241022T174912Z
LAST-MODIFIED:20241022T174912Z
UID:10000637-1732366800-1732370400@artsandscience.org
SUMMARY:La Salsa
DESCRIPTION:Presented by Dapper Street Productions\nWhen: Saturday\, November 23 (1pm)\nWhere: Methodist Home Recreation Center (3200 Shamrock Dr\, Charlotte\, NC 28205)\n \n\n\n\n\n\n\nJoin us for “La Salsa!”—a vibrant Latin Music Concert featuring the electrifying live sounds of “Sonbacha\,” led by the talented Ricardo. This community celebration is designed for the Latin community to come together\, connect\, and enjoy the lively rhythms of salsa music. Dance the afternoon away\, meet your neighbors\, and savor delicious bites from a local food truck. It’s a festive afternoon of music\, culture\, and connection—don’t miss out on the fun!
URL:https://artsandscience.org/event/la-salsa/
LOCATION:Methodist Home Recreation Center\, 3200 Shamrock Dr.\, Charlotte\, 28205\, United States
CATEGORIES:Afternoon,Bilingual: Spanish,Block 3: East Charlotte,Culture Blocks,Music,New
ATTACH;FMTTYPE=image/jpeg:https://artsandscience.org/wp-content/uploads/2024/10/16982_701x397.56541729259936.jpg
END:VEVENT
BEGIN:VEVENT
DTSTART;TZID=UTC:20241120T110000
DTEND;TZID=UTC:20241120T120000
DTSTAMP:20260425T202053
CREATED:20241022T174442Z
LAST-MODIFIED:20241022T174442Z
UID:10000636-1732100400-1732104000@artsandscience.org
SUMMARY:Jazzin' with The Seniors
DESCRIPTION:Presented by Dapper Street Productions\nWhen: Wednesday\, November 20 (11am)\nWhere: Ivory Baker recreation Center (1920 Stroud Park Ct\, Charlotte\, NC 28206)\n \n\n\n\n\n\n\n“Jazzin’ with the Seniors\,” featuring Vince Rivers! This one-hour musical experience is filled with foot-stomping\, finger-snapping fun designed especially for our beloved seniors. It’s an interactive event where you can sway to the rhythm\, tap your feet\, and maybe even sing along. Bring a friend and immerse yourself in the vibrant sounds of classic jazz as the Dapper Street Jazz Band delivers a performance you won’t forget. Let’s celebrate our seniors with music\, joy\, and community!
URL:https://artsandscience.org/event/jazzin-with-the-seniors/
LOCATION:Ivory Baker Recreation Center\, 1920 Stroud Park Ct.\, Charlotte\, 28206\, United States
CATEGORIES:Block 2: North End, Sugar Creek, Hidden Valley,Culture Blocks,Morning,Music,New
ATTACH;FMTTYPE=image/jpeg:https://artsandscience.org/wp-content/uploads/2024/10/Jazzin-with-the-seniors.jpg
END:VEVENT
BEGIN:VEVENT
DTSTART;TZID=UTC:20241108T190000
DTEND;TZID=UTC:20241108T200000
DTSTAMP:20260425T202053
CREATED:20241022T173715Z
LAST-MODIFIED:20241022T174552Z
UID:10000635-1731092400-1731096000@artsandscience.org
SUMMARY:Autumn Jazz
DESCRIPTION:Presented by Dapper Street productions\nWhen: Friday\, November 8 (7pm)\nWhere: Matthews Community Center (100 E McDowell St\, Matthews\, NC 28105)\n \n\n\n\n\n\n\nUnwind at “Autumn Jazz\,” featuring the smooth and melodic sounds of the Letron Brantley and Friends. Join us for an evening of relaxing music\, good vibes\, and community connection. Mingle with neighbors and let the soothing jazz melodies set the perfect tone for a cozy autumn night.
URL:https://artsandscience.org/event/autumn-jazz/
LOCATION:Matthews Community Center\, 100 E McDowell St\, Matthews\, NC\, 28105\, United States
CATEGORIES:Block 9: Matthews & Mint Hill,Culture Blocks,Evening,Music,New
ATTACH;FMTTYPE=image/jpeg:https://artsandscience.org/wp-content/uploads/2024/10/16985_701x397.33621729260996.jpg
END:VEVENT
END:VCALENDAR