BEGIN:VCALENDAR
VERSION:2.0
PRODID:-//Arts &amp; Science Council - ECPv6.15.20//NONSGML v1.0//EN
CALSCALE:GREGORIAN
METHOD:PUBLISH
X-WR-CALNAME:Arts &amp; Science Council
X-ORIGINAL-URL:https://artsandscience.org
X-WR-CALDESC:Events for Arts &amp; Science Council
REFRESH-INTERVAL;VALUE=DURATION:PT1H
X-Robots-Tag:noindex
X-PUBLISHED-TTL:PT1H
BEGIN:VTIMEZONE
TZID:UTC
BEGIN:STANDARD
TZOFFSETFROM:+0000
TZOFFSETTO:+0000
TZNAME:UTC
DTSTART:20250101T000000
END:STANDARD
END:VTIMEZONE
BEGIN:VEVENT
DTSTART;TZID=UTC:20260424T110000
DTEND;TZID=UTC:20260424T120000
DTSTAMP:20260423T161601
CREATED:20260327T163539Z
LAST-MODIFIED:20260327T163539Z
UID:10002958-1777028400-1777032000@artsandscience.org
SUMMARY:Full Radius Technique Dance Class
DESCRIPTION:Presented by Inspire Inclusion Dance\nWhen: Fridays 11am-12pm\nWhere: Open Door Studios (3706 Central Ave.\, Charlotte\, NC 28205) \n\n\nFor teens\, adults and seniors with or without disabilities. \nApril 3\, 17\, 24\nMay 8\, 15\, 22\, 29\nJune 5\, 12\, 19\, 26\nJuly 10\, 17\, 24\, 31\nAugust 7\, 14\, 21\, 28\nSeptember 4\, 11\, 18\, 25\nOctober 2\, 9\, 16\, 23\, 30\nNovember 6\, 13\, 20
URL:https://artsandscience.org/event/full-radius-technique-dance-class/2026-04-24/
LOCATION:Open Door Studios\, 3706 Central Ave\, Charlotte\, 28205\, United States
CATEGORIES:All abilities,Block 3: East Charlotte,Culture Blocks,Morning,New
ATTACH;FMTTYPE=image/png:https://artsandscience.org/wp-content/uploads/2026/03/radius.png
END:VEVENT
BEGIN:VEVENT
DTSTART;TZID=UTC:20260508T110000
DTEND;TZID=UTC:20260508T120000
DTSTAMP:20260423T161601
CREATED:20260327T163539Z
LAST-MODIFIED:20260327T163539Z
UID:10002959-1778238000-1778241600@artsandscience.org
SUMMARY:Full Radius Technique Dance Class
DESCRIPTION:Presented by Inspire Inclusion Dance\nWhen: Fridays 11am-12pm\nWhere: Open Door Studios (3706 Central Ave.\, Charlotte\, NC 28205) \n\n\nFor teens\, adults and seniors with or without disabilities. \nApril 3\, 17\, 24\nMay 8\, 15\, 22\, 29\nJune 5\, 12\, 19\, 26\nJuly 10\, 17\, 24\, 31\nAugust 7\, 14\, 21\, 28\nSeptember 4\, 11\, 18\, 25\nOctober 2\, 9\, 16\, 23\, 30\nNovember 6\, 13\, 20
URL:https://artsandscience.org/event/full-radius-technique-dance-class/2026-05-08/
LOCATION:Open Door Studios\, 3706 Central Ave\, Charlotte\, 28205\, United States
CATEGORIES:All abilities,Block 3: East Charlotte,Culture Blocks,Morning,New
ATTACH;FMTTYPE=image/png:https://artsandscience.org/wp-content/uploads/2026/03/radius.png
END:VEVENT
BEGIN:VEVENT
DTSTART;TZID=UTC:20260515T110000
DTEND;TZID=UTC:20260515T120000
DTSTAMP:20260423T161601
CREATED:20260327T163539Z
LAST-MODIFIED:20260327T163539Z
UID:10002960-1778842800-1778846400@artsandscience.org
SUMMARY:Full Radius Technique Dance Class
DESCRIPTION:Presented by Inspire Inclusion Dance\nWhen: Fridays 11am-12pm\nWhere: Open Door Studios (3706 Central Ave.\, Charlotte\, NC 28205) \n\n\nFor teens\, adults and seniors with or without disabilities. \nApril 3\, 17\, 24\nMay 8\, 15\, 22\, 29\nJune 5\, 12\, 19\, 26\nJuly 10\, 17\, 24\, 31\nAugust 7\, 14\, 21\, 28\nSeptember 4\, 11\, 18\, 25\nOctober 2\, 9\, 16\, 23\, 30\nNovember 6\, 13\, 20
URL:https://artsandscience.org/event/full-radius-technique-dance-class/2026-05-15/
LOCATION:Open Door Studios\, 3706 Central Ave\, Charlotte\, 28205\, United States
CATEGORIES:All abilities,Block 3: East Charlotte,Culture Blocks,Morning,New
ATTACH;FMTTYPE=image/png:https://artsandscience.org/wp-content/uploads/2026/03/radius.png
END:VEVENT
BEGIN:VEVENT
DTSTART;TZID=UTC:20260522T110000
DTEND;TZID=UTC:20260522T120000
DTSTAMP:20260423T161601
CREATED:20260327T163539Z
LAST-MODIFIED:20260327T163539Z
UID:10002961-1779447600-1779451200@artsandscience.org
SUMMARY:Full Radius Technique Dance Class
DESCRIPTION:Presented by Inspire Inclusion Dance\nWhen: Fridays 11am-12pm\nWhere: Open Door Studios (3706 Central Ave.\, Charlotte\, NC 28205) \n\n\nFor teens\, adults and seniors with or without disabilities. \nApril 3\, 17\, 24\nMay 8\, 15\, 22\, 29\nJune 5\, 12\, 19\, 26\nJuly 10\, 17\, 24\, 31\nAugust 7\, 14\, 21\, 28\nSeptember 4\, 11\, 18\, 25\nOctober 2\, 9\, 16\, 23\, 30\nNovember 6\, 13\, 20
URL:https://artsandscience.org/event/full-radius-technique-dance-class/2026-05-22/
LOCATION:Open Door Studios\, 3706 Central Ave\, Charlotte\, 28205\, United States
CATEGORIES:All abilities,Block 3: East Charlotte,Culture Blocks,Morning,New
ATTACH;FMTTYPE=image/png:https://artsandscience.org/wp-content/uploads/2026/03/radius.png
END:VEVENT
BEGIN:VEVENT
DTSTART;TZID=UTC:20260529T110000
DTEND;TZID=UTC:20260529T120000
DTSTAMP:20260423T161601
CREATED:20260327T163539Z
LAST-MODIFIED:20260327T163539Z
UID:10002962-1780052400-1780056000@artsandscience.org
SUMMARY:Full Radius Technique Dance Class
DESCRIPTION:Presented by Inspire Inclusion Dance\nWhen: Fridays 11am-12pm\nWhere: Open Door Studios (3706 Central Ave.\, Charlotte\, NC 28205) \n\n\nFor teens\, adults and seniors with or without disabilities. \nApril 3\, 17\, 24\nMay 8\, 15\, 22\, 29\nJune 5\, 12\, 19\, 26\nJuly 10\, 17\, 24\, 31\nAugust 7\, 14\, 21\, 28\nSeptember 4\, 11\, 18\, 25\nOctober 2\, 9\, 16\, 23\, 30\nNovember 6\, 13\, 20
URL:https://artsandscience.org/event/full-radius-technique-dance-class/2026-05-29/
LOCATION:Open Door Studios\, 3706 Central Ave\, Charlotte\, 28205\, United States
CATEGORIES:All abilities,Block 3: East Charlotte,Culture Blocks,Morning,New
ATTACH;FMTTYPE=image/png:https://artsandscience.org/wp-content/uploads/2026/03/radius.png
END:VEVENT
BEGIN:VEVENT
DTSTART;TZID=UTC:20260605T110000
DTEND;TZID=UTC:20260605T120000
DTSTAMP:20260423T161601
CREATED:20260327T163539Z
LAST-MODIFIED:20260327T163539Z
UID:10002963-1780657200-1780660800@artsandscience.org
SUMMARY:Full Radius Technique Dance Class
DESCRIPTION:Presented by Inspire Inclusion Dance\nWhen: Fridays 11am-12pm\nWhere: Open Door Studios (3706 Central Ave.\, Charlotte\, NC 28205) \n\n\nFor teens\, adults and seniors with or without disabilities. \nApril 3\, 17\, 24\nMay 8\, 15\, 22\, 29\nJune 5\, 12\, 19\, 26\nJuly 10\, 17\, 24\, 31\nAugust 7\, 14\, 21\, 28\nSeptember 4\, 11\, 18\, 25\nOctober 2\, 9\, 16\, 23\, 30\nNovember 6\, 13\, 20
URL:https://artsandscience.org/event/full-radius-technique-dance-class/2026-06-05/
LOCATION:Open Door Studios\, 3706 Central Ave\, Charlotte\, 28205\, United States
CATEGORIES:All abilities,Block 3: East Charlotte,Culture Blocks,Morning,New
ATTACH;FMTTYPE=image/png:https://artsandscience.org/wp-content/uploads/2026/03/radius.png
END:VEVENT
BEGIN:VEVENT
DTSTART;TZID=UTC:20260612T110000
DTEND;TZID=UTC:20260612T120000
DTSTAMP:20260423T161601
CREATED:20260327T163539Z
LAST-MODIFIED:20260327T163539Z
UID:10002964-1781262000-1781265600@artsandscience.org
SUMMARY:Full Radius Technique Dance Class
DESCRIPTION:Presented by Inspire Inclusion Dance\nWhen: Fridays 11am-12pm\nWhere: Open Door Studios (3706 Central Ave.\, Charlotte\, NC 28205) \n\n\nFor teens\, adults and seniors with or without disabilities. \nApril 3\, 17\, 24\nMay 8\, 15\, 22\, 29\nJune 5\, 12\, 19\, 26\nJuly 10\, 17\, 24\, 31\nAugust 7\, 14\, 21\, 28\nSeptember 4\, 11\, 18\, 25\nOctober 2\, 9\, 16\, 23\, 30\nNovember 6\, 13\, 20
URL:https://artsandscience.org/event/full-radius-technique-dance-class/2026-06-12/
LOCATION:Open Door Studios\, 3706 Central Ave\, Charlotte\, 28205\, United States
CATEGORIES:All abilities,Block 3: East Charlotte,Culture Blocks,Morning,New
ATTACH;FMTTYPE=image/png:https://artsandscience.org/wp-content/uploads/2026/03/radius.png
END:VEVENT
BEGIN:VEVENT
DTSTART;TZID=UTC:20260619T110000
DTEND;TZID=UTC:20260619T120000
DTSTAMP:20260423T161601
CREATED:20260327T163539Z
LAST-MODIFIED:20260327T163539Z
UID:10002965-1781866800-1781870400@artsandscience.org
SUMMARY:Full Radius Technique Dance Class
DESCRIPTION:Presented by Inspire Inclusion Dance\nWhen: Fridays 11am-12pm\nWhere: Open Door Studios (3706 Central Ave.\, Charlotte\, NC 28205) \n\n\nFor teens\, adults and seniors with or without disabilities. \nApril 3\, 17\, 24\nMay 8\, 15\, 22\, 29\nJune 5\, 12\, 19\, 26\nJuly 10\, 17\, 24\, 31\nAugust 7\, 14\, 21\, 28\nSeptember 4\, 11\, 18\, 25\nOctober 2\, 9\, 16\, 23\, 30\nNovember 6\, 13\, 20
URL:https://artsandscience.org/event/full-radius-technique-dance-class/2026-06-19/
LOCATION:Open Door Studios\, 3706 Central Ave\, Charlotte\, 28205\, United States
CATEGORIES:All abilities,Block 3: East Charlotte,Culture Blocks,Morning,New
ATTACH;FMTTYPE=image/png:https://artsandscience.org/wp-content/uploads/2026/03/radius.png
END:VEVENT
BEGIN:VEVENT
DTSTART;TZID=UTC:20260626T110000
DTEND;TZID=UTC:20260626T120000
DTSTAMP:20260423T161601
CREATED:20260327T163539Z
LAST-MODIFIED:20260327T163539Z
UID:10002966-1782471600-1782475200@artsandscience.org
SUMMARY:Full Radius Technique Dance Class
DESCRIPTION:Presented by Inspire Inclusion Dance\nWhen: Fridays 11am-12pm\nWhere: Open Door Studios (3706 Central Ave.\, Charlotte\, NC 28205) \n\n\nFor teens\, adults and seniors with or without disabilities. \nApril 3\, 17\, 24\nMay 8\, 15\, 22\, 29\nJune 5\, 12\, 19\, 26\nJuly 10\, 17\, 24\, 31\nAugust 7\, 14\, 21\, 28\nSeptember 4\, 11\, 18\, 25\nOctober 2\, 9\, 16\, 23\, 30\nNovember 6\, 13\, 20
URL:https://artsandscience.org/event/full-radius-technique-dance-class/2026-06-26/
LOCATION:Open Door Studios\, 3706 Central Ave\, Charlotte\, 28205\, United States
CATEGORIES:All abilities,Block 3: East Charlotte,Culture Blocks,Morning,New
ATTACH;FMTTYPE=image/png:https://artsandscience.org/wp-content/uploads/2026/03/radius.png
END:VEVENT
BEGIN:VEVENT
DTSTART;TZID=UTC:20260710T110000
DTEND;TZID=UTC:20260710T120000
DTSTAMP:20260423T161601
CREATED:20260327T163539Z
LAST-MODIFIED:20260327T163539Z
UID:10002967-1783681200-1783684800@artsandscience.org
SUMMARY:Full Radius Technique Dance Class
DESCRIPTION:Presented by Inspire Inclusion Dance\nWhen: Fridays 11am-12pm\nWhere: Open Door Studios (3706 Central Ave.\, Charlotte\, NC 28205) \n\n\nFor teens\, adults and seniors with or without disabilities. \nApril 3\, 17\, 24\nMay 8\, 15\, 22\, 29\nJune 5\, 12\, 19\, 26\nJuly 10\, 17\, 24\, 31\nAugust 7\, 14\, 21\, 28\nSeptember 4\, 11\, 18\, 25\nOctober 2\, 9\, 16\, 23\, 30\nNovember 6\, 13\, 20
URL:https://artsandscience.org/event/full-radius-technique-dance-class/2026-07-10/
LOCATION:Open Door Studios\, 3706 Central Ave\, Charlotte\, 28205\, United States
CATEGORIES:All abilities,Block 3: East Charlotte,Culture Blocks,Morning,New
ATTACH;FMTTYPE=image/png:https://artsandscience.org/wp-content/uploads/2026/03/radius.png
END:VEVENT
BEGIN:VEVENT
DTSTART;TZID=UTC:20260717T110000
DTEND;TZID=UTC:20260717T120000
DTSTAMP:20260423T161601
CREATED:20260327T163539Z
LAST-MODIFIED:20260327T163539Z
UID:10002968-1784286000-1784289600@artsandscience.org
SUMMARY:Full Radius Technique Dance Class
DESCRIPTION:Presented by Inspire Inclusion Dance\nWhen: Fridays 11am-12pm\nWhere: Open Door Studios (3706 Central Ave.\, Charlotte\, NC 28205) \n\n\nFor teens\, adults and seniors with or without disabilities. \nApril 3\, 17\, 24\nMay 8\, 15\, 22\, 29\nJune 5\, 12\, 19\, 26\nJuly 10\, 17\, 24\, 31\nAugust 7\, 14\, 21\, 28\nSeptember 4\, 11\, 18\, 25\nOctober 2\, 9\, 16\, 23\, 30\nNovember 6\, 13\, 20
URL:https://artsandscience.org/event/full-radius-technique-dance-class/2026-07-17/
LOCATION:Open Door Studios\, 3706 Central Ave\, Charlotte\, 28205\, United States
CATEGORIES:All abilities,Block 3: East Charlotte,Culture Blocks,Morning,New
ATTACH;FMTTYPE=image/png:https://artsandscience.org/wp-content/uploads/2026/03/radius.png
END:VEVENT
BEGIN:VEVENT
DTSTART;TZID=UTC:20260724T110000
DTEND;TZID=UTC:20260724T120000
DTSTAMP:20260423T161601
CREATED:20260327T163539Z
LAST-MODIFIED:20260327T163539Z
UID:10002969-1784890800-1784894400@artsandscience.org
SUMMARY:Full Radius Technique Dance Class
DESCRIPTION:Presented by Inspire Inclusion Dance\nWhen: Fridays 11am-12pm\nWhere: Open Door Studios (3706 Central Ave.\, Charlotte\, NC 28205) \n\n\nFor teens\, adults and seniors with or without disabilities. \nApril 3\, 17\, 24\nMay 8\, 15\, 22\, 29\nJune 5\, 12\, 19\, 26\nJuly 10\, 17\, 24\, 31\nAugust 7\, 14\, 21\, 28\nSeptember 4\, 11\, 18\, 25\nOctober 2\, 9\, 16\, 23\, 30\nNovember 6\, 13\, 20
URL:https://artsandscience.org/event/full-radius-technique-dance-class/2026-07-24/
LOCATION:Open Door Studios\, 3706 Central Ave\, Charlotte\, 28205\, United States
CATEGORIES:All abilities,Block 3: East Charlotte,Culture Blocks,Morning,New
ATTACH;FMTTYPE=image/png:https://artsandscience.org/wp-content/uploads/2026/03/radius.png
END:VEVENT
BEGIN:VEVENT
DTSTART;TZID=UTC:20260731T110000
DTEND;TZID=UTC:20260731T120000
DTSTAMP:20260423T161601
CREATED:20260327T163539Z
LAST-MODIFIED:20260327T163539Z
UID:10002970-1785495600-1785499200@artsandscience.org
SUMMARY:Full Radius Technique Dance Class
DESCRIPTION:Presented by Inspire Inclusion Dance\nWhen: Fridays 11am-12pm\nWhere: Open Door Studios (3706 Central Ave.\, Charlotte\, NC 28205) \n\n\nFor teens\, adults and seniors with or without disabilities. \nApril 3\, 17\, 24\nMay 8\, 15\, 22\, 29\nJune 5\, 12\, 19\, 26\nJuly 10\, 17\, 24\, 31\nAugust 7\, 14\, 21\, 28\nSeptember 4\, 11\, 18\, 25\nOctober 2\, 9\, 16\, 23\, 30\nNovember 6\, 13\, 20
URL:https://artsandscience.org/event/full-radius-technique-dance-class/2026-07-31/
LOCATION:Open Door Studios\, 3706 Central Ave\, Charlotte\, 28205\, United States
CATEGORIES:All abilities,Block 3: East Charlotte,Culture Blocks,Morning,New
ATTACH;FMTTYPE=image/png:https://artsandscience.org/wp-content/uploads/2026/03/radius.png
END:VEVENT
BEGIN:VEVENT
DTSTART;TZID=UTC:20260807T110000
DTEND;TZID=UTC:20260807T120000
DTSTAMP:20260423T161601
CREATED:20260327T163539Z
LAST-MODIFIED:20260327T163539Z
UID:10002971-1786100400-1786104000@artsandscience.org
SUMMARY:Full Radius Technique Dance Class
DESCRIPTION:Presented by Inspire Inclusion Dance\nWhen: Fridays 11am-12pm\nWhere: Open Door Studios (3706 Central Ave.\, Charlotte\, NC 28205) \n\n\nFor teens\, adults and seniors with or without disabilities. \nApril 3\, 17\, 24\nMay 8\, 15\, 22\, 29\nJune 5\, 12\, 19\, 26\nJuly 10\, 17\, 24\, 31\nAugust 7\, 14\, 21\, 28\nSeptember 4\, 11\, 18\, 25\nOctober 2\, 9\, 16\, 23\, 30\nNovember 6\, 13\, 20
URL:https://artsandscience.org/event/full-radius-technique-dance-class/2026-08-07/
LOCATION:Open Door Studios\, 3706 Central Ave\, Charlotte\, 28205\, United States
CATEGORIES:All abilities,Block 3: East Charlotte,Culture Blocks,Morning,New
ATTACH;FMTTYPE=image/png:https://artsandscience.org/wp-content/uploads/2026/03/radius.png
END:VEVENT
BEGIN:VEVENT
DTSTART;TZID=UTC:20260814T110000
DTEND;TZID=UTC:20260814T120000
DTSTAMP:20260423T161601
CREATED:20260327T163539Z
LAST-MODIFIED:20260327T163539Z
UID:10002972-1786705200-1786708800@artsandscience.org
SUMMARY:Full Radius Technique Dance Class
DESCRIPTION:Presented by Inspire Inclusion Dance\nWhen: Fridays 11am-12pm\nWhere: Open Door Studios (3706 Central Ave.\, Charlotte\, NC 28205) \n\n\nFor teens\, adults and seniors with or without disabilities. \nApril 3\, 17\, 24\nMay 8\, 15\, 22\, 29\nJune 5\, 12\, 19\, 26\nJuly 10\, 17\, 24\, 31\nAugust 7\, 14\, 21\, 28\nSeptember 4\, 11\, 18\, 25\nOctober 2\, 9\, 16\, 23\, 30\nNovember 6\, 13\, 20
URL:https://artsandscience.org/event/full-radius-technique-dance-class/2026-08-14/
LOCATION:Open Door Studios\, 3706 Central Ave\, Charlotte\, 28205\, United States
CATEGORIES:All abilities,Block 3: East Charlotte,Culture Blocks,Morning,New
ATTACH;FMTTYPE=image/png:https://artsandscience.org/wp-content/uploads/2026/03/radius.png
END:VEVENT
BEGIN:VEVENT
DTSTART;TZID=UTC:20260821T110000
DTEND;TZID=UTC:20260821T120000
DTSTAMP:20260423T161601
CREATED:20260327T163539Z
LAST-MODIFIED:20260327T163539Z
UID:10002973-1787310000-1787313600@artsandscience.org
SUMMARY:Full Radius Technique Dance Class
DESCRIPTION:Presented by Inspire Inclusion Dance\nWhen: Fridays 11am-12pm\nWhere: Open Door Studios (3706 Central Ave.\, Charlotte\, NC 28205) \n\n\nFor teens\, adults and seniors with or without disabilities. \nApril 3\, 17\, 24\nMay 8\, 15\, 22\, 29\nJune 5\, 12\, 19\, 26\nJuly 10\, 17\, 24\, 31\nAugust 7\, 14\, 21\, 28\nSeptember 4\, 11\, 18\, 25\nOctober 2\, 9\, 16\, 23\, 30\nNovember 6\, 13\, 20
URL:https://artsandscience.org/event/full-radius-technique-dance-class/2026-08-21/
LOCATION:Open Door Studios\, 3706 Central Ave\, Charlotte\, 28205\, United States
CATEGORIES:All abilities,Block 3: East Charlotte,Culture Blocks,Morning,New
ATTACH;FMTTYPE=image/png:https://artsandscience.org/wp-content/uploads/2026/03/radius.png
END:VEVENT
BEGIN:VEVENT
DTSTART;TZID=UTC:20260828T110000
DTEND;TZID=UTC:20260828T120000
DTSTAMP:20260423T161601
CREATED:20260327T163539Z
LAST-MODIFIED:20260327T163539Z
UID:10002974-1787914800-1787918400@artsandscience.org
SUMMARY:Full Radius Technique Dance Class
DESCRIPTION:Presented by Inspire Inclusion Dance\nWhen: Fridays 11am-12pm\nWhere: Open Door Studios (3706 Central Ave.\, Charlotte\, NC 28205) \n\n\nFor teens\, adults and seniors with or without disabilities. \nApril 3\, 17\, 24\nMay 8\, 15\, 22\, 29\nJune 5\, 12\, 19\, 26\nJuly 10\, 17\, 24\, 31\nAugust 7\, 14\, 21\, 28\nSeptember 4\, 11\, 18\, 25\nOctober 2\, 9\, 16\, 23\, 30\nNovember 6\, 13\, 20
URL:https://artsandscience.org/event/full-radius-technique-dance-class/2026-08-28/
LOCATION:Open Door Studios\, 3706 Central Ave\, Charlotte\, 28205\, United States
CATEGORIES:All abilities,Block 3: East Charlotte,Culture Blocks,Morning,New
ATTACH;FMTTYPE=image/png:https://artsandscience.org/wp-content/uploads/2026/03/radius.png
END:VEVENT
BEGIN:VEVENT
DTSTART;TZID=UTC:20260904T110000
DTEND;TZID=UTC:20260904T120000
DTSTAMP:20260423T161601
CREATED:20260327T163539Z
LAST-MODIFIED:20260327T163539Z
UID:10002975-1788519600-1788523200@artsandscience.org
SUMMARY:Full Radius Technique Dance Class
DESCRIPTION:Presented by Inspire Inclusion Dance\nWhen: Fridays 11am-12pm\nWhere: Open Door Studios (3706 Central Ave.\, Charlotte\, NC 28205) \n\n\nFor teens\, adults and seniors with or without disabilities. \nApril 3\, 17\, 24\nMay 8\, 15\, 22\, 29\nJune 5\, 12\, 19\, 26\nJuly 10\, 17\, 24\, 31\nAugust 7\, 14\, 21\, 28\nSeptember 4\, 11\, 18\, 25\nOctober 2\, 9\, 16\, 23\, 30\nNovember 6\, 13\, 20
URL:https://artsandscience.org/event/full-radius-technique-dance-class/2026-09-04/
LOCATION:Open Door Studios\, 3706 Central Ave\, Charlotte\, 28205\, United States
CATEGORIES:All abilities,Block 3: East Charlotte,Culture Blocks,Morning,New
ATTACH;FMTTYPE=image/png:https://artsandscience.org/wp-content/uploads/2026/03/radius.png
END:VEVENT
BEGIN:VEVENT
DTSTART;TZID=UTC:20260911T110000
DTEND;TZID=UTC:20260911T120000
DTSTAMP:20260423T161601
CREATED:20260327T163539Z
LAST-MODIFIED:20260327T163539Z
UID:10002976-1789124400-1789128000@artsandscience.org
SUMMARY:Full Radius Technique Dance Class
DESCRIPTION:Presented by Inspire Inclusion Dance\nWhen: Fridays 11am-12pm\nWhere: Open Door Studios (3706 Central Ave.\, Charlotte\, NC 28205) \n\n\nFor teens\, adults and seniors with or without disabilities. \nApril 3\, 17\, 24\nMay 8\, 15\, 22\, 29\nJune 5\, 12\, 19\, 26\nJuly 10\, 17\, 24\, 31\nAugust 7\, 14\, 21\, 28\nSeptember 4\, 11\, 18\, 25\nOctober 2\, 9\, 16\, 23\, 30\nNovember 6\, 13\, 20
URL:https://artsandscience.org/event/full-radius-technique-dance-class/2026-09-11/
LOCATION:Open Door Studios\, 3706 Central Ave\, Charlotte\, 28205\, United States
CATEGORIES:All abilities,Block 3: East Charlotte,Culture Blocks,Morning,New
ATTACH;FMTTYPE=image/png:https://artsandscience.org/wp-content/uploads/2026/03/radius.png
END:VEVENT
BEGIN:VEVENT
DTSTART;TZID=UTC:20260918T110000
DTEND;TZID=UTC:20260918T120000
DTSTAMP:20260423T161601
CREATED:20260327T163539Z
LAST-MODIFIED:20260327T163539Z
UID:10002977-1789729200-1789732800@artsandscience.org
SUMMARY:Full Radius Technique Dance Class
DESCRIPTION:Presented by Inspire Inclusion Dance\nWhen: Fridays 11am-12pm\nWhere: Open Door Studios (3706 Central Ave.\, Charlotte\, NC 28205) \n\n\nFor teens\, adults and seniors with or without disabilities. \nApril 3\, 17\, 24\nMay 8\, 15\, 22\, 29\nJune 5\, 12\, 19\, 26\nJuly 10\, 17\, 24\, 31\nAugust 7\, 14\, 21\, 28\nSeptember 4\, 11\, 18\, 25\nOctober 2\, 9\, 16\, 23\, 30\nNovember 6\, 13\, 20
URL:https://artsandscience.org/event/full-radius-technique-dance-class/2026-09-18/
LOCATION:Open Door Studios\, 3706 Central Ave\, Charlotte\, 28205\, United States
CATEGORIES:All abilities,Block 3: East Charlotte,Culture Blocks,Morning,New
ATTACH;FMTTYPE=image/png:https://artsandscience.org/wp-content/uploads/2026/03/radius.png
END:VEVENT
BEGIN:VEVENT
DTSTART;TZID=UTC:20260925T110000
DTEND;TZID=UTC:20260925T120000
DTSTAMP:20260423T161601
CREATED:20260327T163539Z
LAST-MODIFIED:20260327T163539Z
UID:10002978-1790334000-1790337600@artsandscience.org
SUMMARY:Full Radius Technique Dance Class
DESCRIPTION:Presented by Inspire Inclusion Dance\nWhen: Fridays 11am-12pm\nWhere: Open Door Studios (3706 Central Ave.\, Charlotte\, NC 28205) \n\n\nFor teens\, adults and seniors with or without disabilities. \nApril 3\, 17\, 24\nMay 8\, 15\, 22\, 29\nJune 5\, 12\, 19\, 26\nJuly 10\, 17\, 24\, 31\nAugust 7\, 14\, 21\, 28\nSeptember 4\, 11\, 18\, 25\nOctober 2\, 9\, 16\, 23\, 30\nNovember 6\, 13\, 20
URL:https://artsandscience.org/event/full-radius-technique-dance-class/2026-09-25/
LOCATION:Open Door Studios\, 3706 Central Ave\, Charlotte\, 28205\, United States
CATEGORIES:All abilities,Block 3: East Charlotte,Culture Blocks,Morning,New
ATTACH;FMTTYPE=image/png:https://artsandscience.org/wp-content/uploads/2026/03/radius.png
END:VEVENT
BEGIN:VEVENT
DTSTART;TZID=UTC:20261002T110000
DTEND;TZID=UTC:20261002T120000
DTSTAMP:20260423T161601
CREATED:20260327T163539Z
LAST-MODIFIED:20260327T163539Z
UID:10002979-1790938800-1790942400@artsandscience.org
SUMMARY:Full Radius Technique Dance Class
DESCRIPTION:Presented by Inspire Inclusion Dance\nWhen: Fridays 11am-12pm\nWhere: Open Door Studios (3706 Central Ave.\, Charlotte\, NC 28205) \n\n\nFor teens\, adults and seniors with or without disabilities. \nApril 3\, 17\, 24\nMay 8\, 15\, 22\, 29\nJune 5\, 12\, 19\, 26\nJuly 10\, 17\, 24\, 31\nAugust 7\, 14\, 21\, 28\nSeptember 4\, 11\, 18\, 25\nOctober 2\, 9\, 16\, 23\, 30\nNovember 6\, 13\, 20
URL:https://artsandscience.org/event/full-radius-technique-dance-class/2026-10-02/
LOCATION:Open Door Studios\, 3706 Central Ave\, Charlotte\, 28205\, United States
CATEGORIES:All abilities,Block 3: East Charlotte,Culture Blocks,Morning,New
ATTACH;FMTTYPE=image/png:https://artsandscience.org/wp-content/uploads/2026/03/radius.png
END:VEVENT
BEGIN:VEVENT
DTSTART;TZID=UTC:20261009T110000
DTEND;TZID=UTC:20261009T120000
DTSTAMP:20260423T161601
CREATED:20260327T163539Z
LAST-MODIFIED:20260327T163539Z
UID:10002980-1791543600-1791547200@artsandscience.org
SUMMARY:Full Radius Technique Dance Class
DESCRIPTION:Presented by Inspire Inclusion Dance\nWhen: Fridays 11am-12pm\nWhere: Open Door Studios (3706 Central Ave.\, Charlotte\, NC 28205) \n\n\nFor teens\, adults and seniors with or without disabilities. \nApril 3\, 17\, 24\nMay 8\, 15\, 22\, 29\nJune 5\, 12\, 19\, 26\nJuly 10\, 17\, 24\, 31\nAugust 7\, 14\, 21\, 28\nSeptember 4\, 11\, 18\, 25\nOctober 2\, 9\, 16\, 23\, 30\nNovember 6\, 13\, 20
URL:https://artsandscience.org/event/full-radius-technique-dance-class/2026-10-09/
LOCATION:Open Door Studios\, 3706 Central Ave\, Charlotte\, 28205\, United States
CATEGORIES:All abilities,Block 3: East Charlotte,Culture Blocks,Morning,New
ATTACH;FMTTYPE=image/png:https://artsandscience.org/wp-content/uploads/2026/03/radius.png
END:VEVENT
BEGIN:VEVENT
DTSTART;TZID=UTC:20261016T110000
DTEND;TZID=UTC:20261016T120000
DTSTAMP:20260423T161601
CREATED:20260327T163539Z
LAST-MODIFIED:20260327T163539Z
UID:10002981-1792148400-1792152000@artsandscience.org
SUMMARY:Full Radius Technique Dance Class
DESCRIPTION:Presented by Inspire Inclusion Dance\nWhen: Fridays 11am-12pm\nWhere: Open Door Studios (3706 Central Ave.\, Charlotte\, NC 28205) \n\n\nFor teens\, adults and seniors with or without disabilities. \nApril 3\, 17\, 24\nMay 8\, 15\, 22\, 29\nJune 5\, 12\, 19\, 26\nJuly 10\, 17\, 24\, 31\nAugust 7\, 14\, 21\, 28\nSeptember 4\, 11\, 18\, 25\nOctober 2\, 9\, 16\, 23\, 30\nNovember 6\, 13\, 20
URL:https://artsandscience.org/event/full-radius-technique-dance-class/2026-10-16/
LOCATION:Open Door Studios\, 3706 Central Ave\, Charlotte\, 28205\, United States
CATEGORIES:All abilities,Block 3: East Charlotte,Culture Blocks,Morning,New
ATTACH;FMTTYPE=image/png:https://artsandscience.org/wp-content/uploads/2026/03/radius.png
END:VEVENT
BEGIN:VEVENT
DTSTART;TZID=UTC:20261023T110000
DTEND;TZID=UTC:20261023T120000
DTSTAMP:20260423T161601
CREATED:20260327T163539Z
LAST-MODIFIED:20260327T163539Z
UID:10002982-1792753200-1792756800@artsandscience.org
SUMMARY:Full Radius Technique Dance Class
DESCRIPTION:Presented by Inspire Inclusion Dance\nWhen: Fridays 11am-12pm\nWhere: Open Door Studios (3706 Central Ave.\, Charlotte\, NC 28205) \n\n\nFor teens\, adults and seniors with or without disabilities. \nApril 3\, 17\, 24\nMay 8\, 15\, 22\, 29\nJune 5\, 12\, 19\, 26\nJuly 10\, 17\, 24\, 31\nAugust 7\, 14\, 21\, 28\nSeptember 4\, 11\, 18\, 25\nOctober 2\, 9\, 16\, 23\, 30\nNovember 6\, 13\, 20
URL:https://artsandscience.org/event/full-radius-technique-dance-class/2026-10-23/
LOCATION:Open Door Studios\, 3706 Central Ave\, Charlotte\, 28205\, United States
CATEGORIES:All abilities,Block 3: East Charlotte,Culture Blocks,Morning,New
ATTACH;FMTTYPE=image/png:https://artsandscience.org/wp-content/uploads/2026/03/radius.png
END:VEVENT
BEGIN:VEVENT
DTSTART;TZID=UTC:20261030T110000
DTEND;TZID=UTC:20261030T120000
DTSTAMP:20260423T161601
CREATED:20260327T163539Z
LAST-MODIFIED:20260327T163539Z
UID:10002983-1793358000-1793361600@artsandscience.org
SUMMARY:Full Radius Technique Dance Class
DESCRIPTION:Presented by Inspire Inclusion Dance\nWhen: Fridays 11am-12pm\nWhere: Open Door Studios (3706 Central Ave.\, Charlotte\, NC 28205) \n\n\nFor teens\, adults and seniors with or without disabilities. \nApril 3\, 17\, 24\nMay 8\, 15\, 22\, 29\nJune 5\, 12\, 19\, 26\nJuly 10\, 17\, 24\, 31\nAugust 7\, 14\, 21\, 28\nSeptember 4\, 11\, 18\, 25\nOctober 2\, 9\, 16\, 23\, 30\nNovember 6\, 13\, 20
URL:https://artsandscience.org/event/full-radius-technique-dance-class/2026-10-30/
LOCATION:Open Door Studios\, 3706 Central Ave\, Charlotte\, 28205\, United States
CATEGORIES:All abilities,Block 3: East Charlotte,Culture Blocks,Morning,New
ATTACH;FMTTYPE=image/png:https://artsandscience.org/wp-content/uploads/2026/03/radius.png
END:VEVENT
BEGIN:VEVENT
DTSTART;TZID=UTC:20261106T110000
DTEND;TZID=UTC:20261106T120000
DTSTAMP:20260423T161601
CREATED:20260327T163539Z
LAST-MODIFIED:20260327T163539Z
UID:10002984-1793962800-1793966400@artsandscience.org
SUMMARY:Full Radius Technique Dance Class
DESCRIPTION:Presented by Inspire Inclusion Dance\nWhen: Fridays 11am-12pm\nWhere: Open Door Studios (3706 Central Ave.\, Charlotte\, NC 28205) \n\n\nFor teens\, adults and seniors with or without disabilities. \nApril 3\, 17\, 24\nMay 8\, 15\, 22\, 29\nJune 5\, 12\, 19\, 26\nJuly 10\, 17\, 24\, 31\nAugust 7\, 14\, 21\, 28\nSeptember 4\, 11\, 18\, 25\nOctober 2\, 9\, 16\, 23\, 30\nNovember 6\, 13\, 20
URL:https://artsandscience.org/event/full-radius-technique-dance-class/2026-11-06/
LOCATION:Open Door Studios\, 3706 Central Ave\, Charlotte\, 28205\, United States
CATEGORIES:All abilities,Block 3: East Charlotte,Culture Blocks,Morning,New
ATTACH;FMTTYPE=image/png:https://artsandscience.org/wp-content/uploads/2026/03/radius.png
END:VEVENT
BEGIN:VEVENT
DTSTART;TZID=UTC:20261113T110000
DTEND;TZID=UTC:20261113T120000
DTSTAMP:20260423T161601
CREATED:20260327T163539Z
LAST-MODIFIED:20260327T163539Z
UID:10002985-1794567600-1794571200@artsandscience.org
SUMMARY:Full Radius Technique Dance Class
DESCRIPTION:Presented by Inspire Inclusion Dance\nWhen: Fridays 11am-12pm\nWhere: Open Door Studios (3706 Central Ave.\, Charlotte\, NC 28205) \n\n\nFor teens\, adults and seniors with or without disabilities. \nApril 3\, 17\, 24\nMay 8\, 15\, 22\, 29\nJune 5\, 12\, 19\, 26\nJuly 10\, 17\, 24\, 31\nAugust 7\, 14\, 21\, 28\nSeptember 4\, 11\, 18\, 25\nOctober 2\, 9\, 16\, 23\, 30\nNovember 6\, 13\, 20
URL:https://artsandscience.org/event/full-radius-technique-dance-class/2026-11-13/
LOCATION:Open Door Studios\, 3706 Central Ave\, Charlotte\, 28205\, United States
CATEGORIES:All abilities,Block 3: East Charlotte,Culture Blocks,Morning,New
ATTACH;FMTTYPE=image/png:https://artsandscience.org/wp-content/uploads/2026/03/radius.png
END:VEVENT
BEGIN:VEVENT
DTSTART;TZID=UTC:20261120T110000
DTEND;TZID=UTC:20261120T120000
DTSTAMP:20260423T161601
CREATED:20260327T163539Z
LAST-MODIFIED:20260327T163539Z
UID:10002986-1795172400-1795176000@artsandscience.org
SUMMARY:Full Radius Technique Dance Class
DESCRIPTION:Presented by Inspire Inclusion Dance\nWhen: Fridays 11am-12pm\nWhere: Open Door Studios (3706 Central Ave.\, Charlotte\, NC 28205) \n\n\nFor teens\, adults and seniors with or without disabilities. \nApril 3\, 17\, 24\nMay 8\, 15\, 22\, 29\nJune 5\, 12\, 19\, 26\nJuly 10\, 17\, 24\, 31\nAugust 7\, 14\, 21\, 28\nSeptember 4\, 11\, 18\, 25\nOctober 2\, 9\, 16\, 23\, 30\nNovember 6\, 13\, 20
URL:https://artsandscience.org/event/full-radius-technique-dance-class/2026-11-20/
LOCATION:Open Door Studios\, 3706 Central Ave\, Charlotte\, 28205\, United States
CATEGORIES:All abilities,Block 3: East Charlotte,Culture Blocks,Morning,New
ATTACH;FMTTYPE=image/png:https://artsandscience.org/wp-content/uploads/2026/03/radius.png
END:VEVENT
END:VCALENDAR