BEGIN:VCALENDAR
VERSION:2.0
PRODID:-//Arts &amp; Science Council - ECPv6.15.20//NONSGML v1.0//EN
CALSCALE:GREGORIAN
METHOD:PUBLISH
X-ORIGINAL-URL:https://artsandscience.org
X-WR-CALDESC:Events for Arts &amp; Science Council
REFRESH-INTERVAL;VALUE=DURATION:PT1H
X-Robots-Tag:noindex
X-PUBLISHED-TTL:PT1H
BEGIN:VTIMEZONE
TZID:UTC
BEGIN:STANDARD
TZOFFSETFROM:+0000
TZOFFSETTO:+0000
TZNAME:UTC
DTSTART:20230101T000000
END:STANDARD
END:VTIMEZONE
BEGIN:VEVENT
DTSTART;TZID=UTC:20241218T110000
DTEND;TZID=UTC:20241218T120000
DTSTAMP:20260426T015214
CREATED:20241209T172302Z
LAST-MODIFIED:20241209T172302Z
UID:10000825-1734519600-1734523200@artsandscience.org
SUMMARY:Petit Mondrian
DESCRIPTION:Presented by VisArt Video\nWhen: Wednesday\, December 18 (11am & 3pm)\nWhere: VisArt Video (3104 Eastway Dr\, Charlotte\, NC 28205)\n \n\n\n\n\n\n\nInspired by the shapes and colors of modernist painter\, Piet Mondrian. \nThis 30-minute performance for babies (ages 0-5) and their caregivers is a whimsical and interactive show with puppetry\, animation\, and movement. We have two showtimes available.
URL:https://artsandscience.org/event/petit-mondrian/2024-12-18/1/
LOCATION:VisArt Video\, 3104 Eastway Dr.\, Charlotte\, NC\, 28205\, United States
CATEGORIES:Afternoon,Block 3: East Charlotte,Culture Blocks,Family-Friendly,Morning,New,Puppetry
ATTACH;FMTTYPE=image/png:https://artsandscience.org/wp-content/uploads/2024/12/petit-mondrian.png
END:VEVENT
BEGIN:VEVENT
DTSTART;TZID=UTC:20241218T150000
DTEND;TZID=UTC:20241218T160000
DTSTAMP:20260426T015214
CREATED:20241209T172302Z
LAST-MODIFIED:20241209T172302Z
UID:10000826-1734534000-1734537600@artsandscience.org
SUMMARY:Petit Mondrian
DESCRIPTION:Presented by VisArt Video\nWhen: Wednesday\, December 18 (11am & 3pm)\nWhere: VisArt Video (3104 Eastway Dr\, Charlotte\, NC 28205)\n \n\n\n\n\n\n\nInspired by the shapes and colors of modernist painter\, Piet Mondrian. \nThis 30-minute performance for babies (ages 0-5) and their caregivers is a whimsical and interactive show with puppetry\, animation\, and movement. We have two showtimes available.
URL:https://artsandscience.org/event/petit-mondrian/2024-12-18/2/
LOCATION:VisArt Video\, 3104 Eastway Dr.\, Charlotte\, NC\, 28205\, United States
CATEGORIES:Afternoon,Block 3: East Charlotte,Culture Blocks,Family-Friendly,Morning,New,Puppetry
ATTACH;FMTTYPE=image/png:https://artsandscience.org/wp-content/uploads/2024/12/petit-mondrian.png
END:VEVENT
END:VCALENDAR