BEGIN:VCALENDAR
VERSION:2.0
PRODID:-//Arts &amp; Science Council - ECPv6.15.20//NONSGML v1.0//EN
CALSCALE:GREGORIAN
METHOD:PUBLISH
X-WR-CALNAME:Arts &amp; Science Council
X-ORIGINAL-URL:https://artsandscience.org
X-WR-CALDESC:Events for Arts &amp; Science Council
REFRESH-INTERVAL;VALUE=DURATION:PT1H
X-Robots-Tag:noindex
X-PUBLISHED-TTL:PT1H
BEGIN:VTIMEZONE
TZID:UTC
BEGIN:STANDARD
TZOFFSETFROM:+0000
TZOFFSETTO:+0000
TZNAME:UTC
DTSTART:20230101T000000
END:STANDARD
END:VTIMEZONE
BEGIN:VEVENT
DTSTART;TZID=UTC:20241207T100000
DTEND;TZID=UTC:20241207T110000
DTSTAMP:20260426T015103
CREATED:20241121T195129Z
LAST-MODIFIED:20241121T195129Z
UID:10000770-1733565600-1733569200@artsandscience.org
SUMMARY:VisArt's Holly Jolly Craft Jam
DESCRIPTION:Presented by VisArt Video\nWhen: Saturday\, December 7 (10am)\nWhere: VisArt Video (3104 Eastway Dr\, Charlotte\, NC 28205)\n \n\n\n\n\n\n\nAt VisArt’s Holly Jolly Craft Jam\, kids and families will create festive finger puppets inspired by classic holiday characters\, using colorful felt\, fabric\, and fun embellishments. Guided by local artists\, this hands-on event also includes holiday cookies and refreshments\, making it the perfect seasonal celebration for families.
URL:https://artsandscience.org/event/visarts-holly-jolly-craft-jam/
LOCATION:VisArt Video\, 3104 Eastway Dr.\, Charlotte\, NC\, 28205\, United States
CATEGORIES:Block 3: East Charlotte,Culture Blocks,Family-Friendly,Morning,New,Puppetry
ATTACH;FMTTYPE=image/png:https://artsandscience.org/wp-content/uploads/2024/11/holly-jolly-craft.png
END:VEVENT
END:VCALENDAR