BEGIN:VCALENDAR
VERSION:2.0
PRODID:-//Arts &amp; Science Council - ECPv6.15.20//NONSGML v1.0//EN
CALSCALE:GREGORIAN
METHOD:PUBLISH
X-ORIGINAL-URL:https://artsandscience.org
X-WR-CALDESC:Events for Arts &amp; Science Council
REFRESH-INTERVAL;VALUE=DURATION:PT1H
X-Robots-Tag:noindex
X-PUBLISHED-TTL:PT1H
BEGIN:VTIMEZONE
TZID:UTC
BEGIN:STANDARD
TZOFFSETFROM:+0000
TZOFFSETTO:+0000
TZNAME:UTC
DTSTART:20230101T000000
END:STANDARD
END:VTIMEZONE
BEGIN:VEVENT
DTSTART;TZID=UTC:20241203T180000
DTEND;TZID=UTC:20241203T190000
DTSTAMP:20260426T015214
CREATED:20241121T194845Z
LAST-MODIFIED:20241121T194845Z
UID:10000769-1733248800-1733252400@artsandscience.org
SUMMARY:The Grinch will present How the Grinch Stole Christmas
DESCRIPTION:Presented by VisArt Video\nWhen: Tuesday\, December 3\, 2024 (6pm)\nWhere: VisArt Video (3104 Eastway Dr\, Charlotte\, NC 28205)\n \n\n\n\n\n\n\nThe Grinch (puppet) will present How the Grinch Stole Christmas  – the film!!
URL:https://artsandscience.org/event/the-grinch-will-present-how-the-grinch-stole-christmas/
LOCATION:VisArt Video\, 3104 Eastway Dr.\, Charlotte\, NC\, 28205\, United States
CATEGORIES:Block 3: East Charlotte,Culture Blocks,Evening,Family-Friendly,Film,New,Puppetry
ATTACH;FMTTYPE=image/png:https://artsandscience.org/wp-content/uploads/2024/11/grinch.png
END:VEVENT
END:VCALENDAR