BEGIN:VCALENDAR
VERSION:2.0
PRODID:-//Arts &amp; Science Council - ECPv6.15.20//NONSGML v1.0//EN
CALSCALE:GREGORIAN
METHOD:PUBLISH
X-ORIGINAL-URL:https://artsandscience.org
X-WR-CALDESC:Events for Arts &amp; Science Council
REFRESH-INTERVAL;VALUE=DURATION:PT1H
X-Robots-Tag:noindex
X-PUBLISHED-TTL:PT1H
BEGIN:VTIMEZONE
TZID:UTC
BEGIN:STANDARD
TZOFFSETFROM:+0000
TZOFFSETTO:+0000
TZNAME:UTC
DTSTART:20230101T000000
END:STANDARD
END:VTIMEZONE
BEGIN:VEVENT
DTSTART;TZID=UTC:20241124T140000
DTEND;TZID=UTC:20241124T150000
DTSTAMP:20260426T015043
CREATED:20241121T190416Z
LAST-MODIFIED:20241121T194521Z
UID:10000767-1732456800-1732460400@artsandscience.org
SUMMARY:Hansel & Gretel
DESCRIPTION:Presented by VisArt Video\nWhen: Sunday\, November 24 (2pm)\nWhere: VisArt Video (3104 Eastway Dr\, Charlotte\, NC 28205)\n \n\n\n\n\n\n\nHansel & Gretel is performed by Asheville Creative Arts. Explore the unchanging facets of life: darkness for night\, light for day\, and the enduring presence of poverty in this captivating tale. Witness a classic story with a twist as Hansel\, haunted by a white goose\, and the brave Gretel embark on a journey. Join us for a spellbinding performance where children will revel in puppetry’s charm\, while parents take home a profound message about the lasting effects of their actions with their loved ones. Don’t miss this thought-provoking play!
URL:https://artsandscience.org/event/hansel-gretel/
LOCATION:VisArt Video\, 3104 Eastway Dr.\, Charlotte\, NC\, 28205\, United States
CATEGORIES:Afternoon,Block 3: East Charlotte,Culture Blocks,Family-Friendly,New,Puppetry
ATTACH;FMTTYPE=image/webp:https://artsandscience.org/wp-content/uploads/2024/11/HANZELGRETEL3.webp
END:VEVENT
BEGIN:VEVENT
DTSTART;TZID=UTC:20241125T180000
DTEND;TZID=UTC:20241125T190000
DTSTAMP:20260426T015043
CREATED:20241121T194354Z
LAST-MODIFIED:20241121T200434Z
UID:10000768-1732557600-1732561200@artsandscience.org
SUMMARY:WhichCraft Puppet Workshop
DESCRIPTION:Presented by VisArt Video\nWhen: Monday\, November 25 (6pm)\nWhere: VisArt Video (3104 Eastway Dr\, Charlotte\, NC 28205)\n \n\n\n\n\n\n\nThis month we are making our own hand puppets! We’ll guide you through the steps of making your own best friend to take home.
URL:https://artsandscience.org/event/whichcraft-puppet-workshop/
LOCATION:VisArt Video\, 3104 Eastway Dr.\, Charlotte\, NC\, 28205\, United States
CATEGORIES:Afternoon,Block 3: East Charlotte,Culture Blocks,Family-Friendly,New,Puppetry
ATTACH;FMTTYPE=image/png:https://artsandscience.org/wp-content/uploads/2024/11/whtch.png
END:VEVENT
END:VCALENDAR