BEGIN:VCALENDAR
VERSION:2.0
PRODID:-//Arts &amp; Science Council - ECPv6.15.20//NONSGML v1.0//EN
CALSCALE:GREGORIAN
METHOD:PUBLISH
X-ORIGINAL-URL:https://artsandscience.org
X-WR-CALDESC:Events for Arts &amp; Science Council
REFRESH-INTERVAL;VALUE=DURATION:PT1H
X-Robots-Tag:noindex
X-PUBLISHED-TTL:PT1H
BEGIN:VTIMEZONE
TZID:UTC
BEGIN:STANDARD
TZOFFSETFROM:+0000
TZOFFSETTO:+0000
TZNAME:UTC
DTSTART:20250101T000000
END:STANDARD
END:VTIMEZONE
BEGIN:VEVENT
DTSTART;TZID=UTC:20260424T100000
DTEND;TZID=UTC:20260424T113000
DTSTAMP:20260423T182340
CREATED:20260217T204318Z
LAST-MODIFIED:20260217T204318Z
UID:10002803-1777024800-1777030200@artsandscience.org
SUMMARY:Mithila Motifs @ Pineville
DESCRIPTION:Presented by Rupam Varma\nWhen: Fridays from March 6 through May 8 (10-11:30am)\nWhere: Belle Johnston Community Center ( 1000 Johnston Dr\, Pineville\, NC 28134) \n\nJoin artist Rupam Varma to learn Mithila art\, a traditional Indian painting style. You will leave each session with your own Mithila motif.
URL:https://artsandscience.org/event/mithila-motifs-pineville/2026-04-24/
LOCATION:Belle Johnston Community Center\, 1000 Johnston Dr.\, Pineville\, NC\, 28134\, United States
CATEGORIES:Adults,Block 7: Pineville,Culture Blocks,Morning,New,Painting,Workshop
ATTACH;FMTTYPE=image/png:https://artsandscience.org/wp-content/uploads/2025/06/MITHILA2.png
END:VEVENT
END:VCALENDAR