BEGIN:VCALENDAR
VERSION:2.0
PRODID:-//Arts &amp; Science Council - ECPv6.15.20//NONSGML v1.0//EN
CALSCALE:GREGORIAN
METHOD:PUBLISH
X-ORIGINAL-URL:https://artsandscience.org
X-WR-CALDESC:Events for Arts &amp; Science Council
REFRESH-INTERVAL;VALUE=DURATION:PT1H
X-Robots-Tag:noindex
X-PUBLISHED-TTL:PT1H
BEGIN:VTIMEZONE
TZID:UTC
BEGIN:STANDARD
TZOFFSETFROM:+0000
TZOFFSETTO:+0000
TZNAME:UTC
DTSTART:20250101T000000
END:STANDARD
END:VTIMEZONE
BEGIN:VEVENT
DTSTART;TZID=UTC:20260502T140000
DTEND;TZID=UTC:20260502T160000
DTSTAMP:20260424T092624
CREATED:20260217T213017Z
LAST-MODIFIED:20260303T170353Z
UID:10002806-1777730400-1777737600@artsandscience.org
SUMMARY:Creating the Soundtrack of Your Life - Workshop/Performance (Bilingual)
DESCRIPTION:Presented by Ana Lucia Divins\nWhen: May 2 (2-4pm)\nWhere: Pineville Public Library (505 Main St\, Pineville\, NC\, 28134) \nJoin this bilingual (English/Spanish)\, intergenerational music and memory experience that brings families and community members together through the songs that shape our lives. You are invited to this interactive workshop/performance\, where participants of all ages are guided to create a personal digital playlist—their own “life soundtrack”—using meaningful songs connected to memories of childhood\, family\, migration\, love\, celebration\, and healing. Gentle prompts invite reflection\, journaling\, and simple creative expression. \n\nThe event also features an intimate acoustic performance by Ana Lucía Divins (vocals) and Carlos Crespo (guitar)\, sharing songs from their own journeys to inspire connection and conversation. Designed for children\, parents\, and grandparents to experience together\, this program creates space for storytelling\, cultural sharing\, and heartfelt connection across generations.\n\n\nRegister here.\nMore information: www.adivins.com\nIG: @DivinsMusic\nFB: Divins Music\nEmail: DivinsMusica@gmail.com
URL:https://artsandscience.org/event/creating-the-soundtrack-of-your-life-workshop-performance-bilingual-2/
LOCATION:Pineville Library\, 505 Main St #100\, Pineville\, NC\, 28134\, United States
CATEGORIES:Bilingual,Block 7: Pineville,Culture Blocks,Español,Family-Friendly,Music,New,Performance
ATTACH;FMTTYPE=image/png:https://artsandscience.org/wp-content/uploads/2026/02/pineville.png
END:VEVENT
BEGIN:VEVENT
DTSTART;TZID=UTC:20260502T150000
DTEND;TZID=UTC:20260502T200000
DTSTAMP:20260424T092624
CREATED:20260316T210502Z
LAST-MODIFIED:20260316T210502Z
UID:10002892-1777734000-1777752000@artsandscience.org
SUMMARY:Cinco de Mayo Celebration
DESCRIPTION:Presented by Carlotan Talents\nWhen: May 2 (3 – 8pm)\nWhere: Camp North End (1824 Statesville Avenue\, Charlotte\, NC) \n\n\nCelebrate Cinco de Mayo with a vibrant festival full of culture\, flavor\, and fun! Bring the whole family and enjoy live music\, authentic Mexican food\, colorful dance performances\, and refreshing drinks. It’s a lively celebration you won’t want to miss!
URL:https://artsandscience.org/event/cinco-de-mayo-celebration-2/
LOCATION:Camp North End\, 300 Camp Rd\, Charlotte\, NC\, 28206\, United States
CATEGORIES:Afternoon,Bilingual,Bilingual: Spanish,Block 2: North End, Sugar Creek, Hidden Valley,Culinary,Culture Blocks,Festival,Music,New
ATTACH;FMTTYPE=image/png:https://artsandscience.org/wp-content/uploads/2026/03/Cinco-CNE-e1773695073517.png
END:VEVENT
END:VCALENDAR