BEGIN:VCALENDAR
VERSION:2.0
PRODID:-//Arts &amp; Science Council - ECPv6.15.20//NONSGML v1.0//EN
CALSCALE:GREGORIAN
METHOD:PUBLISH
X-WR-CALNAME:Arts &amp; Science Council
X-ORIGINAL-URL:https://artsandscience.org
X-WR-CALDESC:Events for Arts &amp; Science Council
REFRESH-INTERVAL;VALUE=DURATION:PT1H
X-Robots-Tag:noindex
X-PUBLISHED-TTL:PT1H
BEGIN:VTIMEZONE
TZID:UTC
BEGIN:STANDARD
TZOFFSETFROM:+0000
TZOFFSETTO:+0000
TZNAME:UTC
DTSTART:20250101T000000
END:STANDARD
END:VTIMEZONE
BEGIN:VEVENT
DTSTART;TZID=UTC:20260427T110000
DTEND;TZID=UTC:20260427T121500
DTSTAMP:20260424T092506
CREATED:20260217T202130Z
LAST-MODIFIED:20260217T202130Z
UID:10002781-1777287600-1777292100@artsandscience.org
SUMMARY:Unleash Your Creativity: Senior Mixed Media Workshop
DESCRIPTION:Presented by LaDara Fine Art\nWhen: March 2 and April 27 (11am – 12:15pm)\nWhere: Ivory/Baker Recreation Center (1920 Stroud Park Ct\, Charlotte\, NC 28206) \n\nLed by skilled teaching artists\, each workshop offers inspiring guidance and a welcoming space to create\, connect and grow. Participants complete each workshop with original artwork\, practical skills and creative confidence. \nAll supplies provided. No experience needed. Limited to 16 participants per workshop.
URL:https://artsandscience.org/event/unleash-your-creativity-senior-mixed-media-workshop/2026-04-27/
LOCATION:Ivory Baker Recreation Center\, 1920 Stroud Park Ct.\, Charlotte\, 28206\, United States
CATEGORIES:Adults,Block 2: North End, Sugar Creek, Hidden Valley,Culture Blocks,Morning,New,Painting,Seniors,Workshop
ATTACH;FMTTYPE=image/png:https://artsandscience.org/wp-content/uploads/2025/12/facebook-events-cover-e1766518154765.png
END:VEVENT
END:VCALENDAR