BEGIN:VCALENDAR
VERSION:2.0
PRODID:-//Arts &amp; Science Council - ECPv6.15.20//NONSGML v1.0//EN
CALSCALE:GREGORIAN
METHOD:PUBLISH
X-ORIGINAL-URL:https://artsandscience.org
X-WR-CALDESC:Events for Arts &amp; Science Council
REFRESH-INTERVAL;VALUE=DURATION:PT1H
X-Robots-Tag:noindex
X-PUBLISHED-TTL:PT1H
BEGIN:VTIMEZONE
TZID:UTC
BEGIN:STANDARD
TZOFFSETFROM:+0000
TZOFFSETTO:+0000
TZNAME:UTC
DTSTART:20250101T000000
END:STANDARD
END:VTIMEZONE
BEGIN:VEVENT
DTSTART;TZID=UTC:20260426T120000
DTEND;TZID=UTC:20260426T160000
DTSTAMP:20260424T092546
CREATED:20260327T170140Z
LAST-MODIFIED:20260327T170140Z
UID:10003052-1777204800-1777219200@artsandscience.org
SUMMARY:International Circus & Dance Celebration
DESCRIPTION:Presented by Charlotte Cirque and Dance Center\nWhen: April 26 (12pm – 4pm)\nWhere: David B Waymer Rec Center (14008 Holbrooks Road\, Huntersville( \nJoin us for a celebration of dance and circus from around the globe.  Festivities include performances\, dance and circus workshops\, and arts & craft workshops such as juggling ball creation! \n12pm – 1pm: Senior focused programming1pm – 4pm: Family focused programming\n \nWhile this event is FREE\, space is limited.  Please RSVP to reserve your spot.
URL:https://artsandscience.org/event/international-circus-dance-celebration-2/
LOCATION:David B. Waymer Recreation Center\, 14008 Holbrooks Rd.\, Huntersville\, 28078\, United States
CATEGORIES:Block 10: North County,Circus,Culture Blocks,Family-Friendly,New,Performance,Seniors
END:VEVENT
BEGIN:VEVENT
DTSTART;TZID=UTC:20260426T150000
DTEND;TZID=UTC:20260426T170000
DTSTAMP:20260424T092546
CREATED:20260401T234229Z
LAST-MODIFIED:20260407T141847Z
UID:10003059-1777215600-1777222800@artsandscience.org
SUMMARY:Of Thee We Sing: Celebrate America's 250th!
DESCRIPTION:Presented by North Mecklenburg Community Chorus\nWhen: April 26 (3pm)\nWhere: Huntersville Veteran’s Park (201 Huntersville-Concord Rd\, Huntersville\, NC 28078) \nJoin us as we celebrate America turning 250! Take a musical journey and hear songs that shaped our nation’s rich cultural tapestry – ranging from soulful folk tunes\, heartfelt blues\, catchy pop hits and dazzling Broadway melodies. Experience the music that tells America’s story and echoes America’s history and ideals\, bringing 250 years of pride and passion to life through music.
URL:https://artsandscience.org/event/of-thee-we-sing-celebrate-americas-250th-2/
LOCATION:Veteran’s Park\, 201 Huntersville-Concord Road\, Huntersville\, NC\, 28078\, United States
CATEGORIES:Block 10: North County,Culture Blocks,Music,New,Performance
ATTACH;FMTTYPE=image/jpeg:https://artsandscience.org/wp-content/uploads/2026/04/NMCC-156-1-scaled-e1775086841294.jpeg
END:VEVENT
END:VCALENDAR