BEGIN:VCALENDAR
VERSION:2.0
PRODID:-//Arts &amp; Science Council - ECPv6.15.20//NONSGML v1.0//EN
CALSCALE:GREGORIAN
METHOD:PUBLISH
X-ORIGINAL-URL:https://artsandscience.org
X-WR-CALDESC:Events for Arts &amp; Science Council
REFRESH-INTERVAL;VALUE=DURATION:PT1H
X-Robots-Tag:noindex
X-PUBLISHED-TTL:PT1H
BEGIN:VTIMEZONE
TZID:UTC
BEGIN:STANDARD
TZOFFSETFROM:+0000
TZOFFSETTO:+0000
TZNAME:UTC
DTSTART:20250101T000000
END:STANDARD
END:VTIMEZONE
BEGIN:VEVENT
DTSTART;TZID=UTC:20260912T120000
DTEND;TZID=UTC:20260912T150000
DTSTAMP:20260425T221556
CREATED:20260303T212847Z
LAST-MODIFIED:20260303T212847Z
UID:10002865-1789214400-1789225200@artsandscience.org
SUMMARY:Songwriter Lock-in Series
DESCRIPTION:Presented by Grindhaus Studios\nWhen: August 15\, September 12 and October 10 (12-3pm)\nWhere: Grindhaus Studios (3717 Latrobe Dr STE 740\, Charlotte\, NC 28211) \nJoin us for an immersive songwriting experience designed to spark creativity and collaboration. \nYoung Icons “Songwriter Lock-in Series” sponsored by ASC’ Culture Blocks— a community partnership funded by Mecklenburg County. \nAre you ready to unleash your creativity and collaborate with fellow songwriters in a professional recording studio environment? Look no further than GRINDHAUS STUDIOS’ Songwriter Lock-in event! We’re opening the doors to all three of our cutting-edge studios\, inviting you to immerse yourself in a night of musical innovation\, camaraderie\, and pure artistic expression.
URL:https://artsandscience.org/event/songwriter-lock-in-series/2026-09-12/
LOCATION:Grindhaus Studios\, 3717 Latrobe Dr STE 740\, Charlotte\, NC\, 28211\, United States
CATEGORIES:Afternoon,Block 3: East Charlotte,Culture Blocks,Music,New,Teens
ATTACH;FMTTYPE=image/png:https://artsandscience.org/wp-content/uploads/2026/03/youngicons-e1772573321866.png
END:VEVENT
END:VCALENDAR