BEGIN:VCALENDAR
VERSION:2.0
PRODID:-//Arts &amp; Science Council - ECPv6.15.20//NONSGML v1.0//EN
CALSCALE:GREGORIAN
METHOD:PUBLISH
X-WR-CALNAME:Arts &amp; Science Council
X-ORIGINAL-URL:https://artsandscience.org
X-WR-CALDESC:Events for Arts &amp; Science Council
REFRESH-INTERVAL;VALUE=DURATION:PT1H
X-Robots-Tag:noindex
X-PUBLISHED-TTL:PT1H
BEGIN:VTIMEZONE
TZID:UTC
BEGIN:STANDARD
TZOFFSETFROM:+0000
TZOFFSETTO:+0000
TZNAME:UTC
DTSTART:20250101T000000
END:STANDARD
END:VTIMEZONE
BEGIN:VEVENT
DTSTART;TZID=UTC:20260221T130000
DTEND;TZID=UTC:20260221T140000
DTSTAMP:20260425T210340
CREATED:20260126T220030Z
LAST-MODIFIED:20260126T220030Z
UID:10002699-1771678800-1771682400@artsandscience.org
SUMMARY:Writing Lyrics with Myrt's Son
DESCRIPTION:Presented by Guerilla Poets\nWhen: February 21 (1pm)\nWhere: Goodyear Arts (301 Camp Rd #200\, Charlotte\, NC 28206) \n\nLearn how to write music and keep true to yourself while doing it. 
URL:https://artsandscience.org/event/writing-lyrics-with-myrts-son-2/
LOCATION:Goodyear Arts\, 301 Camp Rd #200\, Charlotte\, NC\, 28206\, United States
CATEGORIES:Block 2: North End, Sugar Creek, Hidden Valley,Culture Blocks,Music,New,Workshop
ATTACH;FMTTYPE=image/png:https://artsandscience.org/wp-content/uploads/2026/01/myrt2-e1769464823490.png
END:VEVENT
END:VCALENDAR