BEGIN:VCALENDAR
VERSION:2.0
PRODID:-//Arts &amp; Science Council - ECPv6.15.20//NONSGML v1.0//EN
CALSCALE:GREGORIAN
METHOD:PUBLISH
X-ORIGINAL-URL:https://artsandscience.org
X-WR-CALDESC:Events for Arts &amp; Science Council
REFRESH-INTERVAL;VALUE=DURATION:PT1H
X-Robots-Tag:noindex
X-PUBLISHED-TTL:PT1H
BEGIN:VTIMEZONE
TZID:UTC
BEGIN:STANDARD
TZOFFSETFROM:+0000
TZOFFSETTO:+0000
TZNAME:UTC
DTSTART:20250101T000000
END:STANDARD
END:VTIMEZONE
BEGIN:VEVENT
DTSTART;TZID=UTC:20260214T140000
DTEND;TZID=UTC:20260214T150000
DTSTAMP:20260425T210402
CREATED:20260109T201334Z
LAST-MODIFIED:20260109T201334Z
UID:10002378-1771077600-1771081200@artsandscience.org
SUMMARY:Guateke Sessions
DESCRIPTION:Presented by La Casa de la Cultura\nWhen: February 14\, March 7\, April 18\, May 9 (2 pm)\nWhere: South Blvd. Library (4429 South Boulevard\, Charlotte\, NC 28209) \n\n\n\n\n\n\nGuateke Sessions is a music series created by La Casa de la Cultura to celebrate the rhythms\, voices\, and ancestral memory of our Afro-Indigenous diasporas. Each session brings together local and emerging artists in a vibrant space of drum\, song\, and community\, where tradition meets contemporary creativity. expect live concerts and dance workshops.
URL:https://artsandscience.org/event/guateke-sessions-2/2026-02-14/
LOCATION:South Blvd. Library\, 4429 South Blvd.\, Charlotte\, 28209\, United States
CATEGORIES:Bilingual,Block 4: West Charlotte,Culture Blocks,Dance,Español,Music,New,Performance,Workshop
ATTACH;FMTTYPE=image/png:https://artsandscience.org/wp-content/uploads/2026/01/GUATEKE-Eventbrite.png
END:VEVENT
BEGIN:VEVENT
DTSTART;TZID=UTC:20260214T190000
DTEND;TZID=UTC:20260214T200000
DTSTAMP:20260425T210402
CREATED:20260121T181938Z
LAST-MODIFIED:20260121T181938Z
UID:10002491-1771095600-1771099200@artsandscience.org
SUMMARY:Trouble So Hard: Songs and Stories of Slavery\, Freedom\, and Civil Rights
DESCRIPTION:Presented by Trouble So Hard\nWhen: February 14 (7pm)\nWhere: Fullwood Theater (Matthews Playhouse) (100 McDowell St.\, Matthews\, NC) \nAudience Notice: This performance is not suitable for young children due to strong themes of violence. \n\nSlavery wasn’t new to the world when Spaniards brought the first enslaved Africans to what would become the state of Georgia. Some believe the turbulence of slavery\, freedom\, and civil rights no longer exists\, instead sequestered to the annals of history. On the contrary\, since the very beginning of North American settlement\, a relentless\, uncompassionate greed has worked to thwart freedom\, education\, and participation in democracy for Black people. There are scores of stories to tell. Trouble So Hard will explore some of those that comprise our American history\, and bring us to the here and now.
URL:https://artsandscience.org/event/trouble-so-hard-songs-and-stories-of-slavery-freedom-and-civil-rights-2/
LOCATION:Fullwood Theater\, 100 E McDowell St\, Matthews\, NC\, 28105\, United States
CATEGORIES:Adults,Block 9: Matthews & Mint Hill,Culture Blocks,Evening,History,Music,New
ATTACH;FMTTYPE=image/png:https://artsandscience.org/wp-content/uploads/2026/01/harry-e1769019432519.png
END:VEVENT
END:VCALENDAR