BEGIN:VCALENDAR
VERSION:2.0
PRODID:-//Arts &amp; Science Council - ECPv6.15.20//NONSGML v1.0//EN
CALSCALE:GREGORIAN
METHOD:PUBLISH
X-WR-CALNAME:Arts &amp; Science Council
X-ORIGINAL-URL:https://artsandscience.org
X-WR-CALDESC:Events for Arts &amp; Science Council
REFRESH-INTERVAL;VALUE=DURATION:PT1H
X-Robots-Tag:noindex
X-PUBLISHED-TTL:PT1H
BEGIN:VTIMEZONE
TZID:UTC
BEGIN:STANDARD
TZOFFSETFROM:+0000
TZOFFSETTO:+0000
TZNAME:UTC
DTSTART:20250101T000000
END:STANDARD
END:VTIMEZONE
BEGIN:VEVENT
DTSTART;TZID=UTC:20260207T113000
DTEND;TZID=UTC:20260207T123000
DTSTAMP:20260425T210340
CREATED:20260126T215725Z
LAST-MODIFIED:20260126T215725Z
UID:10002698-1770463800-1770467400@artsandscience.org
SUMMARY:Writing Lyrics with Myrt's Son
DESCRIPTION:Presented by Guerilla Poets\nWhen: February 7 (11:30am)\nWhere: Ivory Baker Recreation Center (1920 Stroud Park Ct\, Charlotte\, NC 28206) \n\nLearn how to write music and keep true to yourself while doing it. 
URL:https://artsandscience.org/event/writing-lyrics-with-myrts-son/
LOCATION:Ivory Baker Recreation Center\, 1920 Stroud Park Ct.\, Charlotte\, 28206\, United States
CATEGORIES:Block 2: North End, Sugar Creek, Hidden Valley,Culture Blocks,Music,New,Workshop
ATTACH;FMTTYPE=image/png:https://artsandscience.org/wp-content/uploads/2026/01/myrt1-e1769464599378.png
END:VEVENT
BEGIN:VEVENT
DTSTART;TZID=UTC:20260207T130000
DTEND;TZID=UTC:20260207T140000
DTSTAMP:20260425T210340
CREATED:20260121T181729Z
LAST-MODIFIED:20260121T181729Z
UID:10002489-1770469200-1770472800@artsandscience.org
SUMMARY:Trouble So Hard: Songs and Stories of Slavery\, Freedom\, and Civil Rights
DESCRIPTION:Presented by Trouble So Hard\nWhen: February 7 (1pm)\nWhere: Greater Vision United Methodist Church (11901 Eastfield Rd.\, Huntersville NC\, 28078) \nAudience Notice: This performance is not suitable for young children due to strong themes of violence. \n\nSlavery wasn’t new to the world when Spaniards brought the first enslaved Africans to what would become the state of Georgia. Some believe the turbulence of slavery\, freedom\, and civil rights no longer exists\, instead sequestered to the annals of history. On the contrary\, since the very beginning of North American settlement\, a relentless\, uncompassionate greed has worked to thwart freedom\, education\, and participation in democracy for Black people. There are scores of stories to tell. Trouble So Hard will explore some of those that comprise our American history\, and bring us to the here and now.
URL:https://artsandscience.org/event/trouble-so-hard-songs-and-stories-of-slavery-freedom-and-civil-rights/
LOCATION:Greater Vision United Methodist Church\, 11901 Eastfield Rd.\, Huntersville\, 28078\, United States
CATEGORIES:Adults,Afternoon,Block 10: North County,Culture Blocks,History,Music,New
ATTACH;FMTTYPE=image/png:https://artsandscience.org/wp-content/uploads/2026/01/harry-e1769019432519.png
END:VEVENT
END:VCALENDAR