BEGIN:VCALENDAR
VERSION:2.0
PRODID:-//Arts &amp; Science Council - ECPv6.15.20//NONSGML v1.0//EN
CALSCALE:GREGORIAN
METHOD:PUBLISH
X-ORIGINAL-URL:https://artsandscience.org
X-WR-CALDESC:Events for Arts &amp; Science Council
REFRESH-INTERVAL;VALUE=DURATION:PT1H
X-Robots-Tag:noindex
X-PUBLISHED-TTL:PT1H
BEGIN:VTIMEZONE
TZID:UTC
BEGIN:STANDARD
TZOFFSETFROM:+0000
TZOFFSETTO:+0000
TZNAME:UTC
DTSTART:20240101T000000
END:STANDARD
END:VTIMEZONE
BEGIN:VEVENT
DTSTART;TZID=UTC:20251018T100000
DTEND;TZID=UTC:20251018T110000
DTSTAMP:20260426T021620
CREATED:20251001T202043Z
LAST-MODIFIED:20251001T202043Z
UID:10002106-1760781600-1760785200@artsandscience.org
SUMMARY:Name That Tune
DESCRIPTION:Presented by Phoenix Down RPG\nWhen: October 18 (10am)\nWhere: Sugar Creek Library (4045 N Tryon St suite a\, Charlotte\, NC 28206) \n 
URL:https://artsandscience.org/event/name-that-tune-5/
LOCATION:Sugar Creek Library\, 4045 N Tryon St\, Charlotte\, NC\, 28206\, United States
CATEGORIES:Block 2: North End, Sugar Creek, Hidden Valley,Culture Blocks,Morning,Music,New
ATTACH;FMTTYPE=image/png:https://artsandscience.org/wp-content/uploads/2025/02/Name-That-Tune-Feb-Allegra-Westbrooks-e1739909717198.png
END:VEVENT
BEGIN:VEVENT
DTSTART;TZID=UTC:20251018T130000
DTEND;TZID=UTC:20251018T150000
DTSTAMP:20260426T021620
CREATED:20251001T201635Z
LAST-MODIFIED:20251001T201635Z
UID:10002103-1760792400-1760799600@artsandscience.org
SUMMARY:Chess Class Series
DESCRIPTION:Presented by The Knight School\nWhen: Saturdays in October (1-3pm)\nWhere: Matthews Community Center (100 E McDowell St\, Matthews\, NC 28105) \nJoin us for a fun and engaging introduction to The Knight School. With a fun and friendly spirit\, class is a high-energy chess experience where kids learn chess tactics with silly videos\, music-driven puzzlers for prizes\, and have fast-paced party-bead tournaments! \nOur series is designed to build confidence\, spark curiosity\, and make learning chess fun. \nClass meets at Matthews Community Center for 1 hour in the afternoon on Saturdays in October. \n1PM- 1:45PM [ages 4-6] \n2PM – 3PM [ages 6-11] \nRegistration opens SUNDAYS – one week before class- and will close when all spots are filled. \nClass 1 registration will open SEPTEMBER 28.
URL:https://artsandscience.org/event/chess-class-series/2025-10-18/
LOCATION:Matthews Community Center\, 100 E McDowell St\, Matthews\, NC\, 28105\, United States
CATEGORIES:Afternoon,Block 9: Matthews & Mint Hill,Culture Blocks,Morning,Music,New,Performance
ATTACH;FMTTYPE=image/jpeg:https://artsandscience.org/wp-content/uploads/2025/10/ks-e1759349731558.jpg
END:VEVENT
END:VCALENDAR