BEGIN:VCALENDAR
VERSION:2.0
PRODID:-//Arts &amp; Science Council - ECPv6.15.20//NONSGML v1.0//EN
CALSCALE:GREGORIAN
METHOD:PUBLISH
X-ORIGINAL-URL:https://artsandscience.org
X-WR-CALDESC:Events for Arts &amp; Science Council
REFRESH-INTERVAL;VALUE=DURATION:PT1H
X-Robots-Tag:noindex
X-PUBLISHED-TTL:PT1H
BEGIN:VTIMEZONE
TZID:UTC
BEGIN:STANDARD
TZOFFSETFROM:+0000
TZOFFSETTO:+0000
TZNAME:UTC
DTSTART:20240101T000000
END:STANDARD
END:VTIMEZONE
BEGIN:VEVENT
DTSTART;TZID=UTC:20251003T090000
DTEND;TZID=UTC:20251003T100000
DTSTAMP:20260426T021619
CREATED:20250617T004251Z
LAST-MODIFIED:20250617T004251Z
UID:10001436-1759482000-1759485600@artsandscience.org
SUMMARY:Community Dance Classes for Seniors
DESCRIPTION:Presented by Movement Migration\nWhen: Every Friday through December 2025 (9am)*\nWhere: David B. Waymer Recreation Center (14008 Holbrooks Rd\, Huntersville\, NC 28078) \n*Please note: There will be no classes on May 23 (Memorial Day\, observed)\, June 27\, July 4 (Independence Day)\, November 28 (Thanksgiving Friday)\, and December 26 (Christmas Friday). \n \n\n\n\n\n\n\n\n\nJoin Movement Migration for free community dance classes for seniors. Classes will be taught by Movement Migration dance artists and select classes will have live music by local musicians! \n\n\n\n\n\n\n\n\n\n \n\n\n\n\n\n\n\n\n\n\n 
URL:https://artsandscience.org/event/community-dance-classes-for-seniors/2025-10-03/
LOCATION:David B. Waymer Recreation Center\, 14008 Holbrooks Rd.\, Huntersville\, 28078\, United States
CATEGORIES:Block 10: North County,Culture Blocks,Dance,Morning,Music,New,Seniors
ATTACH;FMTTYPE=image/png:https://artsandscience.org/wp-content/uploads/2023/06/movement.png
END:VEVENT
BEGIN:VEVENT
DTSTART;TZID=UTC:20251003T093000
DTEND;TZID=UTC:20251003T103000
DTSTAMP:20260426T021619
CREATED:20250617T002349Z
LAST-MODIFIED:20250617T002349Z
UID:10001420-1759483800-1759487400@artsandscience.org
SUMMARY:Community Grooves (Young Children & Guardians)
DESCRIPTION:Presented by Piedmont Music Therapy\nWhen: Fridays\, October 3 – 24 (9:30am)\nWhere: Steele Creek Library (13620 Steele Creek Rd\, Charlotte\, NC 28273) \n\n\n\n\n\n\n\n\nNeighbors of all abilities are invited for a 4-week series to explore songs & instruments in connection with how music can help express & manage emotions. Participants are welcome to enjoy music-making to improve their day & connection to the community! Check locations for young children\, adolescents\, adults with disabilities or senior program availability\, led by staff from Piedmont Music Therapy. No prior musical experience required. Register online or via phone (803-206-2044)
URL:https://artsandscience.org/event/community-grooves-young-children-guardians-2/2025-10-03/
LOCATION:Steele Creek Library\, 13620 Steele Creek Rd\, Charlotte\, NC\, 28273\, United States
CATEGORIES:Block 8: Steele Creek,Children,Culture Blocks,Family-Friendly,Morning,Music,New
END:VEVENT
END:VCALENDAR