BEGIN:VCALENDAR
VERSION:2.0
PRODID:-//Arts &amp; Science Council - ECPv6.15.20//NONSGML v1.0//EN
CALSCALE:GREGORIAN
METHOD:PUBLISH
X-WR-CALNAME:Arts &amp; Science Council
X-ORIGINAL-URL:https://artsandscience.org
X-WR-CALDESC:Events for Arts &amp; Science Council
REFRESH-INTERVAL;VALUE=DURATION:PT1H
X-Robots-Tag:noindex
X-PUBLISHED-TTL:PT1H
BEGIN:VTIMEZONE
TZID:UTC
BEGIN:STANDARD
TZOFFSETFROM:+0000
TZOFFSETTO:+0000
TZNAME:UTC
DTSTART:20250101T000000
END:STANDARD
END:VTIMEZONE
BEGIN:VEVENT
DTSTART;TZID=UTC:20260307T140000
DTEND;TZID=UTC:20260307T150000
DTSTAMP:20260425T173142
CREATED:20260109T201334Z
LAST-MODIFIED:20260109T201334Z
UID:10002379-1772892000-1772895600@artsandscience.org
SUMMARY:Guateke Sessions
DESCRIPTION:Presented by La Casa de la Cultura\nWhen: February 14\, March 7\, April 18\, May 9 (2 pm)\nWhere: South Blvd. Library (4429 South Boulevard\, Charlotte\, NC 28209) \n\n\n\n\n\n\nGuateke Sessions is a music series created by La Casa de la Cultura to celebrate the rhythms\, voices\, and ancestral memory of our Afro-Indigenous diasporas. Each session brings together local and emerging artists in a vibrant space of drum\, song\, and community\, where tradition meets contemporary creativity. expect live concerts and dance workshops.
URL:https://artsandscience.org/event/guateke-sessions-2/2026-03-07/
LOCATION:South Blvd. Library\, 4429 South Blvd.\, Charlotte\, 28209\, United States
CATEGORIES:Bilingual,Block 4: West Charlotte,Culture Blocks,Dance,Español,Music,New,Performance,Workshop
ATTACH;FMTTYPE=image/png:https://artsandscience.org/wp-content/uploads/2026/01/GUATEKE-Eventbrite.png
END:VEVENT
BEGIN:VEVENT
DTSTART;TZID=UTC:20260307T140000
DTEND;TZID=UTC:20260307T160000
DTSTAMP:20260425T173142
CREATED:20260217T212043Z
LAST-MODIFIED:20260217T212043Z
UID:10002753-1772892000-1772899200@artsandscience.org
SUMMARY:Creating the Soundtrack of Your Life - Workshop/Performance (Bilingual)
DESCRIPTION:Presented by Ana Lucia Divins\nWhen: March 7 (2-4pm)\nWhere: Matthews Public Library (230 Matthews Station St\, Matthews\, NC\, 28105) \nJoin this bilingual (English/Spanish)\, intergenerational music and memory experience that brings\nfamilies and community members together through the songs that shape our lives. You are invited to this interactive workshop/performance\, where participants of all ages are guided to create a personal digital playlist—their own “life soundtrack”—using meaningful songs connected to memories of childhood\, family\, migration\, love\, celebration\, and healing. Gentle prompts invite reflection\, journaling\, and simple creative expression. \nThe event also features an intimate acoustic performance by Ana Lucía Divins (vocals) and Carlos Crespo (guitar)\, sharing songs from their own journeys to inspire connection and conversation. Designed for children\, parents\, and grandparents to experience together\, this program creates space for storytelling\, cultural sharing\, and heartfelt connection across generations. \nMore information: www.adivins.com\nIG: @DivinsMusic\nFB: Divins Music\nEmail: DivinsMusica@gmail.com \n\nRegister here.
URL:https://artsandscience.org/event/creating-the-soundtrack-of-your-life-workshop-performance-bilingual/
LOCATION:Matthews Library\, 230 Matthews Station St\, Matthews\, NC\, 28105\, United States
CATEGORIES:Bilingual,Block 9: Matthews & Mint Hill,Culture Blocks,Español,Family-Friendly,Music,New,Performance
ATTACH;FMTTYPE=image/png:https://artsandscience.org/wp-content/uploads/2026/02/matthews.png
END:VEVENT
BEGIN:VEVENT
DTSTART;TZID=UTC:20260311T180000
DTEND;TZID=UTC:20260311T200000
DTSTAMP:20260425T173142
CREATED:20260126T205743Z
LAST-MODIFIED:20260126T205743Z
UID:10002686-1773252000-1773259200@artsandscience.org
SUMMARY:Roots in Motion Cambodian Dance Program
DESCRIPTION:Presented by Cambodian Legacy Project\nWhen: Wednesdays Feb 11\, Mar 11\, May 13\, July 8\, Sep 9\, Oct 14\, Dec 9 (6:00 PM – 8:00 PM)\nWhere: Bereweick Recreation Center (5910 Dixie River Rd\, Charlotte\, NC 28278) \n\n\nRoots in Motion is a free Cambodian dance program that celebrates tradition through movement\, rhythm\, and storytelling. Participants learn a variety of traditional Cambodian dances while building cultural pride\, confidence\, and community connection. This program welcomes all ages and experience levels to engage with Cambodian culture in an inclusive and meaningful way.
URL:https://artsandscience.org/event/roots-in-motion-cambodian-dance-program/2026-03-11/
LOCATION:Berewick Recreation Center\, 5910 Dixie River Rd.\, Charlotte\, NC\, 28278
CATEGORIES:Bilingual,Block 8: Steele Creek,Culture Blocks,Dance,Evening,Music,New
ATTACH;FMTTYPE=image/png:https://artsandscience.org/wp-content/uploads/2026/01/3-e1769460949293.png
END:VEVENT
BEGIN:VEVENT
DTSTART;TZID=UTC:20260313T110000
DTEND;TZID=UTC:20260313T120000
DTSTAMP:20260425T173142
CREATED:20260203T144729Z
LAST-MODIFIED:20260203T144729Z
UID:10002728-1773399600-1773403200@artsandscience.org
SUMMARY:Chair Movement and Dance for Seniors
DESCRIPTION:Presented by Movement Migration\nWhen: Once a month on Fridays throughout 2026 (11AM-12PM)\nWhere: Mint Hill Library (6840 Matthews Mint Hill Rd\, Mint Hill\, NC 28227) \n\nJoin Movement Migration Dance Company for free community dance classes for seniors throughout the greater Charlotte area! Classes will be taught by Movement Migration dance artists and select classes will have live music by local musicians! See the schedule below with locations and dates.
URL:https://artsandscience.org/event/chair-movement-and-dance-for-seniors-3/2026-03-13/
LOCATION:Mint Hill Library\, 6840 Matthews-Mint Hill Rd\, Mint Hill\, 28227\, United States
CATEGORIES:Block 9: Matthews & Mint Hill,Culture Blocks,Dance,Music,New,Seniors
ATTACH;FMTTYPE=image/jpeg:https://artsandscience.org/wp-content/uploads/2024/10/DSC_1520_ByCorineOlarte.jpg
END:VEVENT
BEGIN:VEVENT
DTSTART;TZID=UTC:20260313T183000
DTEND;TZID=UTC:20260313T200000
DTSTAMP:20260425T173142
CREATED:20260303T214452Z
LAST-MODIFIED:20260303T214452Z
UID:10002868-1773426600-1773432000@artsandscience.org
SUMMARY:Sound Makers Social
DESCRIPTION:Presented by The Collaboration Corp.\nWhen: March 13\, April 10\, May 15 (6:30pm)\nWhere: Dupp&Swat (1824 Statesville Ave #105\, Charlotte\, NC 28206) \n\nStep into the world of sound at Sound Makers Social—a creative hub where music\, culture\, and connection collide. This isn’t just another event; it’s a gathering of artists\, producers\, and music lovers ready to experience new sounds and build real connections. \nEach edition features 5 producers taking the stage for high-energy 10 – 15 minute sets\, showcasing their unique styles\, beats\, and live creations. It’s your chance to hear what’s next\, whether you’re an artist looking for your next producer\, a producer searching for collaborators\, or simply someone who loves discovering fresh music. \nFor the lyricists in the room\, the Emcee Cyphers keep the mic alive and raw. Step up\, spit your bars\, and let your voice be heard—because we’re always scouting for talent to spotlight in future opportunities. \nAnd don’t miss the crowd-favorite Pass The Aux\, where selected producers and artists get two minutes to play their sounds—whether it’s a new track\, an unreleased beat\, or a rough draft idea. Limited spots mean you’ll want to lock in early\, but the payoff is worth it: a chance to share your creativity with an audience that’s all ears. \nSound Makers Social is more than a show—it’s a space where community\, collaboration\, and culture thrive. Come through\, vibe out\, and be part of the sound.
URL:https://artsandscience.org/event/sound-makers-social/2026-03-13/
LOCATION:Dupp&Swat\, 1824 Statesville Avenue\, Ste 105\, Charlotte\, 28206\, United States
CATEGORIES:Adults,Block 2: North End, Sugar Creek, Hidden Valley,Culture Blocks,Evening,Music,New,Performance
ATTACH;FMTTYPE=image/jpeg:https://artsandscience.org/wp-content/uploads/2026/03/3.13-scaled-e1772574281357.jpg
END:VEVENT
BEGIN:VEVENT
DTSTART;TZID=UTC:20260318T110000
DTEND;TZID=UTC:20260318T120000
DTSTAMP:20260425T173142
CREATED:20260223T194758Z
LAST-MODIFIED:20260223T194758Z
UID:10002824-1773831600-1773835200@artsandscience.org
SUMMARY:EXPLORE: Community Concert Series ft. Songwriters in the Round
DESCRIPTION:Presented by Dear Soul Music\nWhen: March 18 (11am)\nWhere: Mallard Creek Rec Center (2530 Johnston Oehler Rd\, Charlotte\, NC 28269)\n \nA monthly morning concert series at Mallard Creek Recreation Center. In celebration of Women’s History Month\, this month’s concert is a special Songwriters in The Round Edition featuring:\n\nMonalisa Musiq:MonaLisa Musiq is a sonic shapeshifter—part educator\, part performer\, all heart. A seasoned musician since 2005 with roots in Music Education\, she moves seamlessly between stages and studios\, bringing rhythm\, soul\, and storytelling wherever she lands.\nFrom cruise ships to corporate events with her band GrooveFood\, from festival crowds to quiet classrooms\, Mona’s voice and vision have resonated across genres and generations. Her teaching journey spans public schools\, non-profits\, and churches\, guiding both youth and adults in unlocking the power of music.As a producer and composer\, she leads MOAJO Productions\, crafting original scores for film\, television\, and stage plays. Her dream? To leave her mark on the big screen through unforgettable movie scores—and to help others find healing and wholeness through sound.\nWhether she’s building cinematic soundscapes\, coaching a vocalist\, or creating a safe space for self-expression\, Mona brings professionalism wrapped in soul. She continues to offer private lessons\, creative workshops\, and bespoke compositions for those ready to align their inner voice with the music they were meant to make.\n\nLisa De Novo:Lisa De Novo is a singer/songwriter in based in Charlotte\, NC. Lisa’s angelic\, yet soulful voice captivates the crowd. Her smile and positivity is contagious. Her genre is alternative pop rock with songs ranging from laid-back blues jams to high-energy rock songs. Lisa has played two independent coast-to-coast tours\, playing in 17 states. Her songs have been played on 106.5 the End and streamed by 65 countries. Her debut album – The Big Bang – and EP – Sunflowers Showers are out now on all streaming platforms.\n\nARSENA:ARSENA is an alternative R&B\, folk\, and soul-influenced singer-songwriter celebrated for her heartfelt melodies and multi-instrumental artistry. Born in Pittsburgh\, PA\, and raised in Charlotte\, NC\, ARSENA’s musical roots run deep. Her father\, the lead singer behind “Dance to the Drummers Beat (1978)”—sampled by icons like Michael Jackson and N.W.A.—not only shaped R&B legends like Monica but also influenced ARSENA’s artistic evolution.As an independent artist\, ARSENA has toured internationally\, earned an endorsement from Breedlove Guitars\, and received a standing ovation from Michael Jordan. Her latest release\, 5ive Sun (2025)\, co-produced with CTM Outlander Publishing\, showcases her growth and versatility as an artist. This follows her third album\, Metamorphosis: The Evolution of Arsena\, which highlights her signature introspection\, and her holiday single\, Santa Can You\, featured on WCCB TV.
URL:https://artsandscience.org/event/explore-community-concert-series-ft-songwriters-in-the-round/
LOCATION:Mallard Creek Recreation Center\, 2530 Johnston Oehler Rd.\, Charlotte\, NC\, 28269\, United States
CATEGORIES:Block 6: University City / Mallard Creek,Culture Blocks,Morning,Music,New,Performance
ATTACH;FMTTYPE=image/jpeg:https://artsandscience.org/wp-content/uploads/2026/02/600295569_1460309306094710_8006204745064459351_n-e1771876045173.jpg
END:VEVENT
BEGIN:VEVENT
DTSTART;TZID=UTC:20260321T110000
DTEND;TZID=UTC:20260321T120000
DTSTAMP:20260425T173142
CREATED:20260310T204728Z
LAST-MODIFIED:20260310T204728Z
UID:10002848-1774090800-1774094400@artsandscience.org
SUMMARY:Hip Hop & Healing: Opening the Space: Storytelling & Community Voice
DESCRIPTION:Presented by Arts Empowerment Project\nWhen: March 21 (11am)\nWhere: West Charlotte Recreation Center (2401 Kendall Drive\, Charlotte\, NC 28216) \nThe Mic as Medicine: Community Open Mic (Vol. 1) launches the residency and invites residents to share poetry\, rap\, and spoken word as tools for healing and expression.
URL:https://artsandscience.org/event/hip-hop-healing-opening-the-space-storytelling-community-voice/
LOCATION:West Charlotte Recreation Center\, 2401 Kendall Dr.\, Charlotte\, 28216\, United States
CATEGORIES:Block 4: West Charlotte,Culture Blocks,Morning,Music,New,Poetry
ATTACH;FMTTYPE=image/png:https://artsandscience.org/wp-content/uploads/2026/03/hiphop.png
END:VEVENT
BEGIN:VEVENT
DTSTART;TZID=UTC:20260321T130000
DTEND;TZID=UTC:20260321T170000
DTSTAMP:20260425T173142
CREATED:20260302T143059Z
LAST-MODIFIED:20260302T143059Z
UID:10002837-1774098000-1774112400@artsandscience.org
SUMMARY:Youth Arts Festival
DESCRIPTION:Presented by Charlotte Center for the Arts\nWhen: March 21 (1-5pm)\nWhere: Stumptown Park (120 S Trade St\, Matthews\, NC 28105) \nJoin Charlotte Center for the Arts on Saturday\, March 21st from 1:00-5:00 PM at Stumptown Park in Matthews for a celebration of youth creativity at our inaugural Youth Arts Festival! This vibrant\, family-friendly event showcases the incredible artistic talents of young people throughout the Charlotte area through live performances\, interactive art-making activities\, gallery displays\, and creative workshops. \nThroughout the afternoon\, families will experience a diverse array of artistic expressions including music performances\, dance showcases\, theater presentations\, and visual arts exhibitions created by talented youth artists from our community. Interactive stations invite attendees of all ages to explore their own creativity through hands-on projects led by professional teaching artists and community arts organizations. \nWhether you’re a parent supporting your young artist\, an arts educator\, a community member who values youth in the community\, or simply someone who loves experiencing diverse creative expressions\, the Youth Arts Festival offers something inspiring for everyone. \nAdmission is free\, making this celebration accessible to all families. Come celebrate the creativity\, courage\, and boundless imagination of our community’s young artists!
URL:https://artsandscience.org/event/youth-arts-festival/
LOCATION:Stumptown Park\, 120 South Trade Street\, Matthews\, NC\, 28105\, United States
CATEGORIES:Afternoon,Block 9: Matthews & Mint Hill,Children,Culture Blocks,Dance,Family-Friendly,Festival,Music,New,Painting,Performance,Teens
ATTACH;FMTTYPE=image/jpeg:https://artsandscience.org/wp-content/uploads/2026/03/c2906c_4fcaf38b167b43178862d45a53e3eac4mv2.jpg
END:VEVENT
BEGIN:VEVENT
DTSTART;TZID=UTC:20260328T110000
DTEND;TZID=UTC:20260328T120000
DTSTAMP:20260425T173142
CREATED:20260223T163842Z
LAST-MODIFIED:20260223T163950Z
UID:10002812-1774695600-1774699200@artsandscience.org
SUMMARY:PUEBLOS: Cuentos\, música y teatro para niños | Children storytime\, music and theater
DESCRIPTION:Presented by Criss Cross Mangosauce\nWhen: February 28\, March 28\, May 30 and June 20 (11am)\nWhere: Matthews Community Center (100 E McDowell St\, Matthews\, NC 28105) \n 
URL:https://artsandscience.org/event/pueblos-cuentos-musica-y-teatro-para-ninos-children-storytime-music-and-theater/2026-03-28/
LOCATION:Matthews Community Center\, 100 E McDowell St\, Matthews\, NC\, 28105\, United States
CATEGORIES:Bilingual,Bilingual: Spanish,Block 9: Matthews & Mint Hill,Children,Culture Blocks,Dance,Español,Family-Friendly,Morning,Music,New,Photography,Puppetry,Theater
ATTACH;FMTTYPE=image/jpeg:https://artsandscience.org/wp-content/uploads/2026/02/616029947_1341958251280589_3189660153167343956_n-e1771864782624.jpg
END:VEVENT
END:VCALENDAR