BEGIN:VCALENDAR
VERSION:2.0
PRODID:-//Arts &amp; Science Council - ECPv6.15.20//NONSGML v1.0//EN
CALSCALE:GREGORIAN
METHOD:PUBLISH
X-WR-CALNAME:Arts &amp; Science Council
X-ORIGINAL-URL:https://artsandscience.org
X-WR-CALDESC:Events for Arts &amp; Science Council
REFRESH-INTERVAL;VALUE=DURATION:PT1H
X-Robots-Tag:noindex
X-PUBLISHED-TTL:PT1H
BEGIN:VTIMEZONE
TZID:UTC
BEGIN:STANDARD
TZOFFSETFROM:+0000
TZOFFSETTO:+0000
TZNAME:UTC
DTSTART:20240101T000000
END:STANDARD
END:VTIMEZONE
BEGIN:VEVENT
DTSTART;TZID=UTC:20251204T110000
DTEND;TZID=UTC:20251204T120000
DTSTAMP:20260425T221729
CREATED:20251027T163717Z
LAST-MODIFIED:20251027T163717Z
UID:10002139-1764846000-1764849600@artsandscience.org
SUMMARY:Harold Finds A Voice
DESCRIPTION:Presented by Opera Carolina\nWhen: Thursday\, December 4 (11am)\nWhere: Hickory Grove Library (5935 Hickory Grove Rd\, Charlotte\, NC 28215)
URL:https://artsandscience.org/event/harold-finds-a-voice/
LOCATION:Hickory Grove Library\, 5935 Hickory Grove Rd\, Charlotte\, NC\, 28215\, United States
CATEGORIES:Block 3: East Charlotte,Children,Culture Blocks,Family-Friendly,Morning,Music,New
ATTACH;FMTTYPE=image/png:https://artsandscience.org/wp-content/uploads/2025/07/Musical-Storytime-General-Flyer-e1753733043571.png
END:VEVENT
BEGIN:VEVENT
DTSTART;TZID=UTC:20251205T090000
DTEND;TZID=UTC:20251205T100000
DTSTAMP:20260425T221729
CREATED:20250617T004251Z
LAST-MODIFIED:20250617T004251Z
UID:10001444-1764925200-1764928800@artsandscience.org
SUMMARY:Community Dance Classes for Seniors
DESCRIPTION:Presented by Movement Migration\nWhen: Every Friday through December 2025 (9am)*\nWhere: David B. Waymer Recreation Center (14008 Holbrooks Rd\, Huntersville\, NC 28078) \n*Please note: There will be no classes on May 23 (Memorial Day\, observed)\, June 27\, July 4 (Independence Day)\, November 28 (Thanksgiving Friday)\, and December 26 (Christmas Friday). \n \n\n\n\n\n\n\n\n\nJoin Movement Migration for free community dance classes for seniors. Classes will be taught by Movement Migration dance artists and select classes will have live music by local musicians! \n\n\n\n\n\n\n\n\n\n \n\n\n\n\n\n\n\n\n\n\n 
URL:https://artsandscience.org/event/community-dance-classes-for-seniors/2025-12-05/
LOCATION:David B. Waymer Recreation Center\, 14008 Holbrooks Rd.\, Huntersville\, 28078\, United States
CATEGORIES:Block 10: North County,Culture Blocks,Dance,Morning,Music,New,Seniors
ATTACH;FMTTYPE=image/png:https://artsandscience.org/wp-content/uploads/2023/06/movement.png
END:VEVENT
BEGIN:VEVENT
DTSTART;TZID=UTC:20251206T103000
DTEND;TZID=UTC:20251206T113000
DTSTAMP:20260425T221729
CREATED:20251027T163842Z
LAST-MODIFIED:20251027T163842Z
UID:10002140-1765017000-1765020600@artsandscience.org
SUMMARY:Harold Finds A Voice
DESCRIPTION:Presented by Opera Carolina\nWhen: Saturday\, December 6 (10:30am)\nWhere: West Blvd Library (2157 West Blvd\, Charlotte\, NC 28208)
URL:https://artsandscience.org/event/harold-finds-a-voice-2/
LOCATION:West Blvd. Library\, 2157 West Blvd\, Charlotte\, NC\, 28208\, United States
CATEGORIES:Block 4: West Charlotte,Children,Culture Blocks,Family-Friendly,Morning,Music,New
ATTACH;FMTTYPE=image/png:https://artsandscience.org/wp-content/uploads/2025/07/Musical-Storytime-General-Flyer-e1753733043571.png
END:VEVENT
BEGIN:VEVENT
DTSTART;TZID=UTC:20251206T110000
DTEND;TZID=UTC:20251206T120000
DTSTAMP:20260425T221729
CREATED:20251027T170757Z
LAST-MODIFIED:20251027T170757Z
UID:10002145-1765018800-1765022400@artsandscience.org
SUMMARY:CELEBRA: Navidad Concert
DESCRIPTION:Presented by CrissCross Mangosauce\nWhen: December 6 (11am)\nWhere: Methodist Recreational Center (3200 Shamrock Dr\, Charlotte\, NC 28205)
URL:https://artsandscience.org/event/celebra-navidad-concert/
LOCATION:Methodist Home Recreation Center\, 3200 Shamrock Dr.\, Charlotte\, 28205\, United States
CATEGORIES:Bilingual,Bilingual: Spanish,Block 3: East Charlotte,Culture Blocks,Family-Friendly,Music,New
ATTACH;FMTTYPE=image/jpeg:https://artsandscience.org/wp-content/uploads/2025/10/NOVA-094-e1761584837810.jpg
END:VEVENT
BEGIN:VEVENT
DTSTART;TZID=UTC:20251210T110000
DTEND;TZID=UTC:20251210T120000
DTSTAMP:20260425T221729
CREATED:20250728T193018Z
LAST-MODIFIED:20250728T193018Z
UID:10001632-1765364400-1765368000@artsandscience.org
SUMMARY:EXPLORE: Community Concerts at Mallard Creek Recreation
DESCRIPTION:Presented by Dear Soul Music\nWhen: Sep 17\, Oct 15\, Nov 19 and Dec 10\nWhere: Mallard Creek Rec Center (2530 Johnston Oehler Road Charlotte\, NC 28269) \nDear Soul Music Co Presents the EXPLORE: Community Concert sponsored by ASC Culture Blocks\, a community partnership funded by Mecklenburg County. Join us for a FREE afternoon concert featuring live music by the following 2025 line up: \nSept 17: ARSENA \nOct 15: Groove8 \nNov 19: Kenya Templeton \nDec 10: Amanda Hampton \nIt’s a free show hosted by Dear Soul Music Co. \nQuestions\, email: info@dearsoulmusic.co
URL:https://artsandscience.org/event/explore-community-concerts-at-mallard-creek-recreation/2025-12-10/
LOCATION:Mallard Creek Recreation Center\, 2530 Johnston Oehler Rd.\, Charlotte\, NC\, 28269\, United States
CATEGORIES:Block 6: University City / Mallard Creek,Culture Blocks,Morning,Music,New,Performance
ATTACH;FMTTYPE=image/jpeg:https://artsandscience.org/wp-content/uploads/2025/07/https___cdn.evbuc_.com_images_1026482383_169099210208_1_original.jpg
END:VEVENT
BEGIN:VEVENT
DTSTART;TZID=UTC:20251210T110000
DTEND;TZID=UTC:20251210T120000
DTSTAMP:20260425T221729
CREATED:20251014T152624Z
LAST-MODIFIED:20251014T152624Z
UID:10002128-1765364400-1765368000@artsandscience.org
SUMMARY:EXPLORE: Community Concerts at Mallard Creek Recreation!
DESCRIPTION:Presented by Dear Soul Music\nWhen:  October 15\, November 19 and December 10 (11am)\nWhere: Mallard Creek Rec Center (2530 Johnston Oehler Road Charlotte\, NC 28269) \nDear Soul Music Co Presents the EXPLORE: Community Concert sponsored by ASC Culture Blocks\, a community partnership funded by Mecklenburg County. Join us for a FREE afternoon concert featuring live music by the following 2025 line up: \nSept 17: ARSENA \nOct 15: Groove8 \nNov 19: Kenya Templeton \nDec 10: Amanda Hampton \nIt’s a free show hosted by Dear Soul Music Co. \nQuestions\, email: info@dearsoulmusic.co
URL:https://artsandscience.org/event/explore-community-concerts-at-mallard-creek-recreation-2/2025-12-10/
LOCATION:Mallard Creek Recreation Center\, 2530 Johnston Oehler Rd.\, Charlotte\, NC\, 28269\, United States
CATEGORIES:Block 6: University City / Mallard Creek,Culture Blocks,Morning,Music,New,Performance
ATTACH;FMTTYPE=image/jpeg:https://artsandscience.org/wp-content/uploads/2025/07/https___cdn.evbuc_.com_images_1026482383_169099210208_1_original.jpg
END:VEVENT
BEGIN:VEVENT
DTSTART;TZID=UTC:20251212T090000
DTEND;TZID=UTC:20251212T100000
DTSTAMP:20260425T221729
CREATED:20250617T004251Z
LAST-MODIFIED:20250617T004251Z
UID:10001445-1765530000-1765533600@artsandscience.org
SUMMARY:Community Dance Classes for Seniors
DESCRIPTION:Presented by Movement Migration\nWhen: Every Friday through December 2025 (9am)*\nWhere: David B. Waymer Recreation Center (14008 Holbrooks Rd\, Huntersville\, NC 28078) \n*Please note: There will be no classes on May 23 (Memorial Day\, observed)\, June 27\, July 4 (Independence Day)\, November 28 (Thanksgiving Friday)\, and December 26 (Christmas Friday). \n \n\n\n\n\n\n\n\n\nJoin Movement Migration for free community dance classes for seniors. Classes will be taught by Movement Migration dance artists and select classes will have live music by local musicians! \n\n\n\n\n\n\n\n\n\n \n\n\n\n\n\n\n\n\n\n\n 
URL:https://artsandscience.org/event/community-dance-classes-for-seniors/2025-12-12/
LOCATION:David B. Waymer Recreation Center\, 14008 Holbrooks Rd.\, Huntersville\, 28078\, United States
CATEGORIES:Block 10: North County,Culture Blocks,Dance,Morning,Music,New,Seniors
ATTACH;FMTTYPE=image/png:https://artsandscience.org/wp-content/uploads/2023/06/movement.png
END:VEVENT
BEGIN:VEVENT
DTSTART;TZID=UTC:20251212T170000
DTEND;TZID=UTC:20251212T180000
DTSTAMP:20260425T221729
CREATED:20251027T170942Z
LAST-MODIFIED:20251027T170942Z
UID:10002146-1765558800-1765562400@artsandscience.org
SUMMARY:CELEBRA: Navidad Concert
DESCRIPTION:Presented by CrissCross Mangosauce\nWhen: December 12 (5pm)\nWhere: Lake Mist Apartments (1120-A Lakemist Dr\, Charlotte\, NC 28217)
URL:https://artsandscience.org/event/celebra-navidad-concert-2/
LOCATION:Lake Mist Apartments\, 1120-A Lakemist Dr.\, Charlotte\, NC\, 28217\, United States
CATEGORIES:Bilingual,Bilingual: Spanish,Block 5: Southwest Charlotte,Culture Blocks,Family-Friendly,Music,New
ATTACH;FMTTYPE=image/jpeg:https://artsandscience.org/wp-content/uploads/2025/10/NOVA-094-e1761584837810.jpg
END:VEVENT
BEGIN:VEVENT
DTSTART;TZID=UTC:20251213T110000
DTEND;TZID=UTC:20251213T120000
DTSTAMP:20260425T221729
CREATED:20250902T191407Z
LAST-MODIFIED:20250902T191407Z
UID:10002076-1765623600-1765627200@artsandscience.org
SUMMARY:Bilingual Holiday Concert by Latin Band Café Amaretto
DESCRIPTION:Presented by Divins Music\nWhen: Saturday\, December 13 (11am)\nWhere: Pineville Public Library (505 Main St #100\, Pineville\, NC\, 28134) \nCelebrate the holidays by enjoying traditional Latin-American songs and more during this special concert featuring the Café Amaretto Band – Ana Lucía Divins (Vocals)\, Carlos Crespo (Guitar)\, Edgar Marcano (Percussion)\, Carlos Baez (Bass) & Tom Hanchett (Violin). This concert is part of the “Feel it with Music” series\, a program sponsored by ASC’s Culture Blocks – a community partnership funded by Mecklenburg County. \nCelebra las fiestas navideñas disfrutando de canciones tradicionales latinoamericanas y más en este especial concierto con Café Amaretto Band – Ana Lucía Divins (voz)\, Carlos Crespo (guitarra)\, Edgar Marcano (percusión)\, Carlos Báez (bajo) y Tom Hanchett (violín). Este concierto es parte de la serie “Siéntelo con Música”\, un programa patrocinado por Culture Blocks de ASC\, una colaboración comunitaria financiada por el condado de Mecklenburg.
URL:https://artsandscience.org/event/bilingual-holiday-concert-by-latin-band-cafe-amaretto-2/
LOCATION:Pineville Library\, 505 Main St #100\, Pineville\, NC\, 28134\, United States
CATEGORIES:Bilingual,Bilingual: Spanish,Block 7: Pineville,Culture Blocks,Morning,Music,New,Performance
ATTACH;FMTTYPE=image/jpeg:https://artsandscience.org/wp-content/uploads/2025/09/amareto-holidays.jpg
END:VEVENT
BEGIN:VEVENT
DTSTART;TZID=UTC:20251213T110000
DTEND;TZID=UTC:20251213T120000
DTSTAMP:20260425T221729
CREATED:20251027T164111Z
LAST-MODIFIED:20251027T164111Z
UID:10002141-1765623600-1765627200@artsandscience.org
SUMMARY:The Magic Flute 2.0 Session
DESCRIPTION:Presented by Opera Carolina\nWhen: Saturday\, December 13 (11am)\nWhere: South Blvd. Library (4429 South Blvd\, Charlotte\, NC 28209)
URL:https://artsandscience.org/event/the-magic-flute-2-0-session-3/
LOCATION:South Blvd. Library\, 4429 South Blvd.\, Charlotte\, 28209\, United States
CATEGORIES:Block 4: West Charlotte,Children,Culture Blocks,Family-Friendly,Morning,Music,New
ATTACH;FMTTYPE=image/png:https://artsandscience.org/wp-content/uploads/2025/07/Musical-Storytime-General-Flyer-e1753733043571.png
END:VEVENT
BEGIN:VEVENT
DTSTART;TZID=UTC:20251219T090000
DTEND;TZID=UTC:20251219T100000
DTSTAMP:20260425T221729
CREATED:20250617T004251Z
LAST-MODIFIED:20250617T004251Z
UID:10001446-1766134800-1766138400@artsandscience.org
SUMMARY:Community Dance Classes for Seniors
DESCRIPTION:Presented by Movement Migration\nWhen: Every Friday through December 2025 (9am)*\nWhere: David B. Waymer Recreation Center (14008 Holbrooks Rd\, Huntersville\, NC 28078) \n*Please note: There will be no classes on May 23 (Memorial Day\, observed)\, June 27\, July 4 (Independence Day)\, November 28 (Thanksgiving Friday)\, and December 26 (Christmas Friday). \n \n\n\n\n\n\n\n\n\nJoin Movement Migration for free community dance classes for seniors. Classes will be taught by Movement Migration dance artists and select classes will have live music by local musicians! \n\n\n\n\n\n\n\n\n\n \n\n\n\n\n\n\n\n\n\n\n 
URL:https://artsandscience.org/event/community-dance-classes-for-seniors/2025-12-19/
LOCATION:David B. Waymer Recreation Center\, 14008 Holbrooks Rd.\, Huntersville\, 28078\, United States
CATEGORIES:Block 10: North County,Culture Blocks,Dance,Morning,Music,New,Seniors
ATTACH;FMTTYPE=image/png:https://artsandscience.org/wp-content/uploads/2023/06/movement.png
END:VEVENT
END:VCALENDAR