BEGIN:VCALENDAR
VERSION:2.0
PRODID:-//Arts &amp; Science Council - ECPv6.15.20//NONSGML v1.0//EN
CALSCALE:GREGORIAN
METHOD:PUBLISH
X-ORIGINAL-URL:https://artsandscience.org
X-WR-CALDESC:Events for Arts &amp; Science Council
REFRESH-INTERVAL;VALUE=DURATION:PT1H
X-Robots-Tag:noindex
X-PUBLISHED-TTL:PT1H
BEGIN:VTIMEZONE
TZID:UTC
BEGIN:STANDARD
TZOFFSETFROM:+0000
TZOFFSETTO:+0000
TZNAME:UTC
DTSTART:20240101T000000
END:STANDARD
END:VTIMEZONE
BEGIN:VEVENT
DTSTART;TZID=UTC:20250904T164500
DTEND;TZID=UTC:20250904T174500
DTSTAMP:20260426T021341
CREATED:20250617T001153Z
LAST-MODIFIED:20250617T001153Z
UID:10001407-1757004300-1757007900@artsandscience.org
SUMMARY:Community Grooves (Adolescents)
DESCRIPTION:Presented by Piedmont Music Therapy\nWhen: Thursdays\, Sept. 4 – 27 (4:45pm)\nWhere: Arbor Glen Rec Center (1520 Clanton Rd\, Charlotte\, NC 28217) \n\n\n\n\n\n\n\n\nNeighbors of all abilities are invited for a 4-week series to explore songs & instruments in connection with how music can help express & manage emotions. Participants are welcome to enjoy music-making to improve their day & connection to the community! Check locations for young children\, adolescents\, adults with disabilities or senior program availability\, led by staff from Piedmont Music Therapy. No prior musical experience required. Register online or via phone (803-206-2044)
URL:https://artsandscience.org/event/community-grooves-adolescents/2025-09-04/
LOCATION:Arbor Glen Outreach Facility\, 1520 Clanton Rd\, Charlotte\, NC\, 28208
CATEGORIES:Afternoon,Block 4: West Charlotte,Culture Blocks,Music,New,Teens
END:VEVENT
BEGIN:VEVENT
DTSTART;TZID=UTC:20250905T090000
DTEND;TZID=UTC:20250905T100000
DTSTAMP:20260426T021341
CREATED:20250617T004251Z
LAST-MODIFIED:20250617T004251Z
UID:10001432-1757062800-1757066400@artsandscience.org
SUMMARY:Community Dance Classes for Seniors
DESCRIPTION:Presented by Movement Migration\nWhen: Every Friday through December 2025 (9am)*\nWhere: David B. Waymer Recreation Center (14008 Holbrooks Rd\, Huntersville\, NC 28078) \n*Please note: There will be no classes on May 23 (Memorial Day\, observed)\, June 27\, July 4 (Independence Day)\, November 28 (Thanksgiving Friday)\, and December 26 (Christmas Friday). \n \n\n\n\n\n\n\n\n\nJoin Movement Migration for free community dance classes for seniors. Classes will be taught by Movement Migration dance artists and select classes will have live music by local musicians! \n\n\n\n\n\n\n\n\n\n \n\n\n\n\n\n\n\n\n\n\n 
URL:https://artsandscience.org/event/community-dance-classes-for-seniors/2025-09-05/
LOCATION:David B. Waymer Recreation Center\, 14008 Holbrooks Rd.\, Huntersville\, 28078\, United States
CATEGORIES:Block 10: North County,Culture Blocks,Dance,Morning,Music,New,Seniors
ATTACH;FMTTYPE=image/png:https://artsandscience.org/wp-content/uploads/2023/06/movement.png
END:VEVENT
BEGIN:VEVENT
DTSTART;TZID=UTC:20250906T110000
DTEND;TZID=UTC:20250906T120000
DTSTAMP:20260426T021341
CREATED:20250902T182251Z
LAST-MODIFIED:20250902T182251Z
UID:10002068-1757156400-1757160000@artsandscience.org
SUMMARY:Musical Storytime: Noah's Big Opera Dream
DESCRIPTION:Presented by Opera Carolina\nWhen: Saturday\, September 6 (11am)\nWhere: South Blvd. Library (4429 South Blvd\, Charlotte\, NC 28209)
URL:https://artsandscience.org/event/musical-storytime-noahs-big-opera-dream-5/
LOCATION:South Blvd. Library\, 4429 South Blvd.\, Charlotte\, 28209\, United States
CATEGORIES:Block 5: Southwest Charlotte,Children,Culture Blocks,Family-Friendly,Morning,Music,New
ATTACH;FMTTYPE=image/png:https://artsandscience.org/wp-content/uploads/2025/07/Musical-Storytime-General-Flyer-e1753733043571.png
END:VEVENT
BEGIN:VEVENT
DTSTART;TZID=UTC:20250909T103000
DTEND;TZID=UTC:20250909T113000
DTSTAMP:20260426T021341
CREATED:20250617T000230Z
LAST-MODIFIED:20250617T000230Z
UID:10001401-1757413800-1757417400@artsandscience.org
SUMMARY:Community Grooves (Young Children & Guardians)
DESCRIPTION:Presented by Piedmont Music Therapy\nWhen: July 8\, August 12\, Sept. 9\, & Oct. 21\nWhere: Allegra Westbrooks Regional Library (2412 Beatties Ford Rd\, Charlotte\, NC 28216) \n\n\n\n\n\n\n\n\nNeighbors of all abilities are invited for a 4-week series to explore songs & instruments in connection with how music can help express & manage emotions. Participants are welcome to enjoy music-making to improve their day & connection to the community! Check locations for young children\, adolescents\, adults with disabilities or senior program availability\, led by staff from Piedmont Music Therapy. No prior musical experience required. Register online or via phone (803-206-2044)
URL:https://artsandscience.org/event/community-grooves-young-children-guardians/2025-09-09/
LOCATION:Allegra Westbrooks Regional Library\, 2412 Beatties Ford Rd\, Charlotte\, 28216\, United States
CATEGORIES:Block 1: Northwest Charlotte,Children,Culture Blocks,Family-Friendly,Morning,Music,New
END:VEVENT
BEGIN:VEVENT
DTSTART;TZID=UTC:20250911T110000
DTEND;TZID=UTC:20250911T120000
DTSTAMP:20260426T021341
CREATED:20250902T182714Z
LAST-MODIFIED:20250902T182714Z
UID:10002069-1757588400-1757592000@artsandscience.org
SUMMARY:Musical Storytime: The Magic Flute
DESCRIPTION:Presented by Opera Carolina\nWhen: Thursday\, September 11 (11am)\nWhere: Hickory Grove Library (5935 Hickory Grove Rd\, Charlotte\, NC 28215)
URL:https://artsandscience.org/event/musical-storytime-the-magic-flute/
LOCATION:Hickory Grove Library\, 5935 Hickory Grove Rd\, Charlotte\, NC\, 28215\, United States
CATEGORIES:Block 3: East Charlotte,Children,Culture Blocks,Family-Friendly,Morning,Music,New
ATTACH;FMTTYPE=image/png:https://artsandscience.org/wp-content/uploads/2025/07/Musical-Storytime-General-Flyer-e1753733043571.png
END:VEVENT
BEGIN:VEVENT
DTSTART;TZID=UTC:20250911T164500
DTEND;TZID=UTC:20250911T174500
DTSTAMP:20260426T021341
CREATED:20250617T001153Z
LAST-MODIFIED:20250617T001153Z
UID:10001408-1757609100-1757612700@artsandscience.org
SUMMARY:Community Grooves (Adolescents)
DESCRIPTION:Presented by Piedmont Music Therapy\nWhen: Thursdays\, Sept. 4 – 27 (4:45pm)\nWhere: Arbor Glen Rec Center (1520 Clanton Rd\, Charlotte\, NC 28217) \n\n\n\n\n\n\n\n\nNeighbors of all abilities are invited for a 4-week series to explore songs & instruments in connection with how music can help express & manage emotions. Participants are welcome to enjoy music-making to improve their day & connection to the community! Check locations for young children\, adolescents\, adults with disabilities or senior program availability\, led by staff from Piedmont Music Therapy. No prior musical experience required. Register online or via phone (803-206-2044)
URL:https://artsandscience.org/event/community-grooves-adolescents/2025-09-11/
LOCATION:Arbor Glen Outreach Facility\, 1520 Clanton Rd\, Charlotte\, NC\, 28208
CATEGORIES:Afternoon,Block 4: West Charlotte,Culture Blocks,Music,New,Teens
END:VEVENT
BEGIN:VEVENT
DTSTART;TZID=UTC:20250912T090000
DTEND;TZID=UTC:20250912T100000
DTSTAMP:20260426T021341
CREATED:20250617T004251Z
LAST-MODIFIED:20250617T004251Z
UID:10001433-1757667600-1757671200@artsandscience.org
SUMMARY:Community Dance Classes for Seniors
DESCRIPTION:Presented by Movement Migration\nWhen: Every Friday through December 2025 (9am)*\nWhere: David B. Waymer Recreation Center (14008 Holbrooks Rd\, Huntersville\, NC 28078) \n*Please note: There will be no classes on May 23 (Memorial Day\, observed)\, June 27\, July 4 (Independence Day)\, November 28 (Thanksgiving Friday)\, and December 26 (Christmas Friday). \n \n\n\n\n\n\n\n\n\nJoin Movement Migration for free community dance classes for seniors. Classes will be taught by Movement Migration dance artists and select classes will have live music by local musicians! \n\n\n\n\n\n\n\n\n\n \n\n\n\n\n\n\n\n\n\n\n 
URL:https://artsandscience.org/event/community-dance-classes-for-seniors/2025-09-12/
LOCATION:David B. Waymer Recreation Center\, 14008 Holbrooks Rd.\, Huntersville\, 28078\, United States
CATEGORIES:Block 10: North County,Culture Blocks,Dance,Morning,Music,New,Seniors
ATTACH;FMTTYPE=image/png:https://artsandscience.org/wp-content/uploads/2023/06/movement.png
END:VEVENT
BEGIN:VEVENT
DTSTART;TZID=UTC:20250913T100000
DTEND;TZID=UTC:20250913T120000
DTSTAMP:20260426T021341
CREATED:20250902T184711Z
LAST-MODIFIED:20250902T185953Z
UID:10002071-1757757600-1757764800@artsandscience.org
SUMMARY:Chinese Traditional Art Workshop for Children – Ink Diffusion Painting 晕染画
DESCRIPTION:Presented by Charlotte Chinese Story Time\nWhen: Saturday\, September 13 (10am)\nWhere: Pineville Library (505 Main St #100\, Pineville\, NC 28134) \nDiscover the magic of Chinese ink diffusion using watercolor markers\, water\, and rice paper! In this creative workshop\, children will experiment with how colors naturally blend and spread on rice paper\, producing beautiful and dreamy patterns—just like traditional Chinese art.\n\nRegister here: https://www.cltchinesestorytime.org/event-details/ink-diffusion-painting
URL:https://artsandscience.org/event/chinese-traditional-art-workshop-for-children-ink-diffusion-painting-%e6%99%95%e6%9f%93%e7%94%bb/
LOCATION:Pineville Library\, 505 Main St #100\, Pineville\, NC\, 28134\, United States
CATEGORIES:Block 7: Pineville,Children,Culture Blocks,Family-Friendly,Music,New,Painting
ATTACH;FMTTYPE=image/png:https://artsandscience.org/wp-content/uploads/2025/09/inkdiffusion-e1756838815749.png
END:VEVENT
BEGIN:VEVENT
DTSTART;TZID=UTC:20250917T110000
DTEND;TZID=UTC:20250917T120000
DTSTAMP:20260426T021341
CREATED:20250728T193018Z
LAST-MODIFIED:20250728T193018Z
UID:10001629-1758106800-1758110400@artsandscience.org
SUMMARY:EXPLORE: Community Concerts at Mallard Creek Recreation
DESCRIPTION:Presented by Dear Soul Music\nWhen: Sep 17\, Oct 15\, Nov 19 and Dec 10\nWhere: Mallard Creek Rec Center (2530 Johnston Oehler Road Charlotte\, NC 28269) \nDear Soul Music Co Presents the EXPLORE: Community Concert sponsored by ASC Culture Blocks\, a community partnership funded by Mecklenburg County. Join us for a FREE afternoon concert featuring live music by the following 2025 line up: \nSept 17: ARSENA \nOct 15: Groove8 \nNov 19: Kenya Templeton \nDec 10: Amanda Hampton \nIt’s a free show hosted by Dear Soul Music Co. \nQuestions\, email: info@dearsoulmusic.co
URL:https://artsandscience.org/event/explore-community-concerts-at-mallard-creek-recreation/2025-09-17/
LOCATION:Mallard Creek Recreation Center\, 2530 Johnston Oehler Rd.\, Charlotte\, NC\, 28269\, United States
CATEGORIES:Block 6: University City / Mallard Creek,Culture Blocks,Morning,Music,New,Performance
ATTACH;FMTTYPE=image/jpeg:https://artsandscience.org/wp-content/uploads/2025/07/https___cdn.evbuc_.com_images_1026482383_169099210208_1_original.jpg
END:VEVENT
BEGIN:VEVENT
DTSTART;TZID=UTC:20250918T164500
DTEND;TZID=UTC:20250918T174500
DTSTAMP:20260426T021341
CREATED:20250617T001153Z
LAST-MODIFIED:20250617T001153Z
UID:10001409-1758213900-1758217500@artsandscience.org
SUMMARY:Community Grooves (Adolescents)
DESCRIPTION:Presented by Piedmont Music Therapy\nWhen: Thursdays\, Sept. 4 – 27 (4:45pm)\nWhere: Arbor Glen Rec Center (1520 Clanton Rd\, Charlotte\, NC 28217) \n\n\n\n\n\n\n\n\nNeighbors of all abilities are invited for a 4-week series to explore songs & instruments in connection with how music can help express & manage emotions. Participants are welcome to enjoy music-making to improve their day & connection to the community! Check locations for young children\, adolescents\, adults with disabilities or senior program availability\, led by staff from Piedmont Music Therapy. No prior musical experience required. Register online or via phone (803-206-2044)
URL:https://artsandscience.org/event/community-grooves-adolescents/2025-09-18/
LOCATION:Arbor Glen Outreach Facility\, 1520 Clanton Rd\, Charlotte\, NC\, 28208
CATEGORIES:Afternoon,Block 4: West Charlotte,Culture Blocks,Music,New,Teens
END:VEVENT
BEGIN:VEVENT
DTSTART;TZID=UTC:20250919T090000
DTEND;TZID=UTC:20250919T100000
DTSTAMP:20260426T021341
CREATED:20250617T004251Z
LAST-MODIFIED:20250617T004251Z
UID:10001434-1758272400-1758276000@artsandscience.org
SUMMARY:Community Dance Classes for Seniors
DESCRIPTION:Presented by Movement Migration\nWhen: Every Friday through December 2025 (9am)*\nWhere: David B. Waymer Recreation Center (14008 Holbrooks Rd\, Huntersville\, NC 28078) \n*Please note: There will be no classes on May 23 (Memorial Day\, observed)\, June 27\, July 4 (Independence Day)\, November 28 (Thanksgiving Friday)\, and December 26 (Christmas Friday). \n \n\n\n\n\n\n\n\n\nJoin Movement Migration for free community dance classes for seniors. Classes will be taught by Movement Migration dance artists and select classes will have live music by local musicians! \n\n\n\n\n\n\n\n\n\n \n\n\n\n\n\n\n\n\n\n\n 
URL:https://artsandscience.org/event/community-dance-classes-for-seniors/2025-09-19/
LOCATION:David B. Waymer Recreation Center\, 14008 Holbrooks Rd.\, Huntersville\, 28078\, United States
CATEGORIES:Block 10: North County,Culture Blocks,Dance,Morning,Music,New,Seniors
ATTACH;FMTTYPE=image/png:https://artsandscience.org/wp-content/uploads/2023/06/movement.png
END:VEVENT
BEGIN:VEVENT
DTSTART;TZID=UTC:20250920T100000
DTEND;TZID=UTC:20250920T110000
DTSTAMP:20260426T021341
CREATED:20250917T180102Z
LAST-MODIFIED:20250917T180102Z
UID:10002097-1758362400-1758366000@artsandscience.org
SUMMARY:Name That Tune
DESCRIPTION:Presented by Phoenix Down RPG\nWhen: September 20 (10am)\nWhere: Sugar Creek Library (4045 N Tryon St suite a\, Charlotte\, NC 28206) \n 
URL:https://artsandscience.org/event/name-that-tune-4/
LOCATION:Sugar Creek Library\, 4045 N Tryon St\, Charlotte\, NC\, 28206\, United States
CATEGORIES:Block 2: North End, Sugar Creek, Hidden Valley,Culture Blocks,Morning,Music,New
ATTACH;FMTTYPE=image/png:https://artsandscience.org/wp-content/uploads/2025/02/Name-That-Tune-Feb-Allegra-Westbrooks-e1739909717198.png
END:VEVENT
BEGIN:VEVENT
DTSTART;TZID=UTC:20250920T100000
DTEND;TZID=UTC:20250920T120000
DTSTAMP:20260426T021341
CREATED:20250902T185112Z
LAST-MODIFIED:20250902T185908Z
UID:10002072-1758362400-1758369600@artsandscience.org
SUMMARY:Chinese Traditional Art Workshop for Children – Chinese Brush Painting
DESCRIPTION:Presented by Charlotte Chinese Story Time\nWhen: Saturday\, September 20 (10am)\nWhere: Pineville Library (505 Main St #100\, Pineville\, NC 28134) \nIntroduce your child to the graceful world of traditional Chinese brush painting! In this workshop\, young artists will use brush and ink to create beautiful images inspired by nature—such as birds\, flowers\, and landscapes—while learning the basics of brush techniques and composition.\n\n\nRegister here: https://www.cltchinesestorytime.org/event-details/chinese-brush-painting
URL:https://artsandscience.org/event/chinese-traditional-art-workshop-for-children-chinese-brush-painting/
LOCATION:Pineville Library\, 505 Main St #100\, Pineville\, NC\, 28134\, United States
CATEGORIES:Block 7: Pineville,Children,Culture Blocks,Family-Friendly,Music,New,Painting
ATTACH;FMTTYPE=image/png:https://artsandscience.org/wp-content/uploads/2025/09/Screenshot-2025-09-02-145054-e1756839058598.png
END:VEVENT
BEGIN:VEVENT
DTSTART;TZID=UTC:20250920T150000
DTEND;TZID=UTC:20250920T160000
DTSTAMP:20260426T021341
CREATED:20250902T191031Z
LAST-MODIFIED:20250902T191031Z
UID:10002075-1758380400-1758384000@artsandscience.org
SUMMARY:Bilingual Concert by Latin Band Café Amaretto - Feel it with Music
DESCRIPTION:Presented by Divins Music\nWhen: Saturday\, September 20 (3pm)\nWhere: Matthews Public Library (230 Matthews Station\, Matthews\, NC\, 28105) \nEmbark on a bilingual musical journey through Latin America with the musicians from the Latin band Café Amaretto – Ana Lucía Divins (Vocals)\, Carlos Crespo (Guitar)\, Carlos Baez (Bass)\, Franklin Pire (piano) and Edgar Marcano (Percussion). Featuring a range of smooth\, uplifting and relaxing Latin-American songs while exploring the diversity behind the genres\, countries of origin and timeframe of the songs. This concert is part of the “Feel it with Music” series\, a program sponsored by ASC’s Culture Blocks – a community partnership funded by Mecklenburg County. \nTe invitamos a un viaje musical bilingüe por América Latina junto a los músicos de la banda latina Café Amaretto: Ana Lucía Divins (voz)\, Carlos Crespo (guitarra)\, Carlos Báez (bajo)\, Franklin Pire (piano) y Edgar Marcano (percusión). Disfruta de una selección de canciones latinoamericanas suaves\, reconfortantes y alegres\, mientras\nexploras la diversidad de los géneros\, los países de origen y la época de las canciones. Este concierto forma parte de la serie “Siente con la Música”\, un programa patrocinado por Culture Blocks de ASC\, una colaboración comunitaria financiada por el condado de Mecklenburg.
URL:https://artsandscience.org/event/bilingual-concert-by-latin-band-cafe-amaretto-feel-it-with-music/
LOCATION:Matthews Library\, 230 Matthews Station St\, Matthews\, NC\, 28105\, United States
CATEGORIES:Afternoon,Bilingual,Bilingual: Spanish,Block 9: Matthews & Mint Hill,Culture Blocks,Music,New,Performance
ATTACH;FMTTYPE=image/jpeg:https://artsandscience.org/wp-content/uploads/2025/09/amareto-e1756840183499.jpg
END:VEVENT
BEGIN:VEVENT
DTSTART;TZID=UTC:20250925T164500
DTEND;TZID=UTC:20250925T174500
DTSTAMP:20260426T021341
CREATED:20250617T001153Z
LAST-MODIFIED:20250617T001153Z
UID:10001410-1758818700-1758822300@artsandscience.org
SUMMARY:Community Grooves (Adolescents)
DESCRIPTION:Presented by Piedmont Music Therapy\nWhen: Thursdays\, Sept. 4 – 27 (4:45pm)\nWhere: Arbor Glen Rec Center (1520 Clanton Rd\, Charlotte\, NC 28217) \n\n\n\n\n\n\n\n\nNeighbors of all abilities are invited for a 4-week series to explore songs & instruments in connection with how music can help express & manage emotions. Participants are welcome to enjoy music-making to improve their day & connection to the community! Check locations for young children\, adolescents\, adults with disabilities or senior program availability\, led by staff from Piedmont Music Therapy. No prior musical experience required. Register online or via phone (803-206-2044)
URL:https://artsandscience.org/event/community-grooves-adolescents/2025-09-25/
LOCATION:Arbor Glen Outreach Facility\, 1520 Clanton Rd\, Charlotte\, NC\, 28208
CATEGORIES:Afternoon,Block 4: West Charlotte,Culture Blocks,Music,New,Teens
END:VEVENT
BEGIN:VEVENT
DTSTART;TZID=UTC:20250926T090000
DTEND;TZID=UTC:20250926T100000
DTSTAMP:20260426T021341
CREATED:20250617T004251Z
LAST-MODIFIED:20250617T004251Z
UID:10001435-1758877200-1758880800@artsandscience.org
SUMMARY:Community Dance Classes for Seniors
DESCRIPTION:Presented by Movement Migration\nWhen: Every Friday through December 2025 (9am)*\nWhere: David B. Waymer Recreation Center (14008 Holbrooks Rd\, Huntersville\, NC 28078) \n*Please note: There will be no classes on May 23 (Memorial Day\, observed)\, June 27\, July 4 (Independence Day)\, November 28 (Thanksgiving Friday)\, and December 26 (Christmas Friday). \n \n\n\n\n\n\n\n\n\nJoin Movement Migration for free community dance classes for seniors. Classes will be taught by Movement Migration dance artists and select classes will have live music by local musicians! \n\n\n\n\n\n\n\n\n\n \n\n\n\n\n\n\n\n\n\n\n 
URL:https://artsandscience.org/event/community-dance-classes-for-seniors/2025-09-26/
LOCATION:David B. Waymer Recreation Center\, 14008 Holbrooks Rd.\, Huntersville\, 28078\, United States
CATEGORIES:Block 10: North County,Culture Blocks,Dance,Morning,Music,New,Seniors
ATTACH;FMTTYPE=image/png:https://artsandscience.org/wp-content/uploads/2023/06/movement.png
END:VEVENT
BEGIN:VEVENT
DTSTART;TZID=UTC:20250927T100000
DTEND;TZID=UTC:20250927T120000
DTSTAMP:20260426T021341
CREATED:20250902T185534Z
LAST-MODIFIED:20250902T185534Z
UID:10002073-1758967200-1758974400@artsandscience.org
SUMMARY:Chinese Traditional Art Workshop for Children – Foam Block Printing 拓印体验
DESCRIPTION:Presented by Charlotte Chinese Story Time\nWhen: Saturday\, September 27 (10am)\nWhere: Pineville Library (505 Main St #100\, Pineville\, NC 28134) \nIntroduce your child to the graceful world of traditional Chinese brush painting! In this workshop\, young artists will use brush and ink to create beautiful images inspired by nature—such as birds\, flowers\, and landscapes—while learning the basics of brush techniques and composition.\n\n\nRegister here: https://www.cltchinesestorytime.org/event-details/foam-block-printing
URL:https://artsandscience.org/event/chinese-traditional-art-workshop-for-children-foam-block-printing-%e6%8b%93%e5%8d%b0%e4%bd%93%e9%aa%8c/
LOCATION:Pineville Library\, 505 Main St #100\, Pineville\, NC\, 28134\, United States
CATEGORIES:Block 7: Pineville,Children,Culture Blocks,Family-Friendly,Music,New,Painting
ATTACH;FMTTYPE=image/png:https://artsandscience.org/wp-content/uploads/2025/09/block-e1756839328798.png
END:VEVENT
BEGIN:VEVENT
DTSTART;TZID=UTC:20250927T103000
DTEND;TZID=UTC:20250927T113000
DTSTAMP:20260426T021341
CREATED:20250902T182937Z
LAST-MODIFIED:20250902T182937Z
UID:10002070-1758969000-1758972600@artsandscience.org
SUMMARY:Musical Storytime: The Magic Flute
DESCRIPTION:Presented by Opera Carolina\nWhen: Saturday\, September 27 (10:30am)\nWhere: West Blvd Library (2157 West Blvd\, Charlotte\, NC 28208)
URL:https://artsandscience.org/event/musical-storytime-the-magic-flute-2/
LOCATION:West Blvd. Library\, 2157 West Blvd\, Charlotte\, NC\, 28208\, United States
CATEGORIES:Block 4: West Charlotte,Children,Culture Blocks,Family-Friendly,Morning,Music,New
ATTACH;FMTTYPE=image/png:https://artsandscience.org/wp-content/uploads/2025/07/Musical-Storytime-General-Flyer-e1753733043571.png
END:VEVENT
END:VCALENDAR