BEGIN:VCALENDAR
VERSION:2.0
PRODID:-//Arts &amp; Science Council - ECPv6.15.20//NONSGML v1.0//EN
CALSCALE:GREGORIAN
METHOD:PUBLISH
X-WR-CALNAME:Arts &amp; Science Council
X-ORIGINAL-URL:https://artsandscience.org
X-WR-CALDESC:Events for Arts &amp; Science Council
REFRESH-INTERVAL;VALUE=DURATION:PT1H
X-Robots-Tag:noindex
X-PUBLISHED-TTL:PT1H
BEGIN:VTIMEZONE
TZID:UTC
BEGIN:STANDARD
TZOFFSETFROM:+0000
TZOFFSETTO:+0000
TZNAME:UTC
DTSTART:20250101T000000
END:STANDARD
END:VTIMEZONE
BEGIN:VEVENT
DTSTART;TZID=UTC:20260430T100000
DTEND;TZID=UTC:20260430T110000
DTSTAMP:20260425T142155
CREATED:20260317T184048Z
LAST-MODIFIED:20260317T185747Z
UID:10002903-1777543200-1777546800@artsandscience.org
SUMMARY:Life Skills Through Theatre Skills @ Huntersville
DESCRIPTION:Presented by Children’s Theatre of Charlotte\nWhen: January through April\nWhere: David B. Waymer Rec Center (14008 Holbrooks Road\, Huntersville\, NC 28078) \n\n\n\n\n\n\n\nJoin us as we host free theatre classes for ages 2-5. All classes take place from 10-11 AM on the days listed. \nCelebrate creativity and explore the artist within through guided theatre and art activities with “Life Skills Through Theatre Skills.” \nCreative DramaJan 29Feb 5\, 12\, 19\, 26Mar 5\, 12\, 19\, 26Apr 2\, 16\, 23\, 30Creative Movement Jan 27Feb 3\, 10\, 17\, 24Mar 10\, 17\, 24\, 31Apr 14\, 21\, 28Contact: Akwari Roberson: 980-314-1127 | Akwari.Roberson@mecklenburgcountync.gov
URL:https://artsandscience.org/event/life-skills-through-theatre-skills-huntersville/2026-04-30/
LOCATION:David B. Waymer Recreation Center\, 14008 Holbrooks Rd.\, Huntersville\, 28078\, United States
CATEGORIES:Block 10: North County,Children,Culture Blocks,Morning,New,Theater
ATTACH;FMTTYPE=image/jpeg:https://artsandscience.org/wp-content/uploads/2026/03/2526-Culture-Blocks545x390-2.jpg
END:VEVENT
BEGIN:VEVENT
DTSTART;TZID=UTC:20260430T170000
DTEND;TZID=UTC:20260430T190000
DTSTAMP:20260425T142155
CREATED:20251224T170539Z
LAST-MODIFIED:20251224T170539Z
UID:10002176-1777568400-1777575600@artsandscience.org
SUMMARY:Paint With Me: Art Classes
DESCRIPTION:Presented by Janeva Tyree\nWhen: Select dates from January 29 – April 30 (5 – 7pm)\nWhere: North County Regional Library (16500 Holly Crest Ln\, Huntersville\, NC 28078) \n\nPaint\, relax\, create\, have fun let loose\, learn\, and express yourself! Registration required at cmlibrary.com. \n\nJanuary 29 / February 26 / March 12 / April 30
URL:https://artsandscience.org/event/paint-with-me-art-classes-2/2026-04-30/
LOCATION:North County Regional Library\, 16500 Holly Crest Lane\, HUntersville\, NC\, 28078\, United States
CATEGORIES:Block 10: North County,Culture Blocks,Evening,New,Painting,Workshop
ATTACH;FMTTYPE=image/png:https://artsandscience.org/wp-content/uploads/2025/12/Paint-With-Me-Group-Graphics-2-e1766595465506.png
END:VEVENT
END:VCALENDAR