BEGIN:VCALENDAR
VERSION:2.0
PRODID:-//Arts &amp; Science Council - ECPv6.15.20//NONSGML v1.0//EN
CALSCALE:GREGORIAN
METHOD:PUBLISH
X-WR-CALNAME:Arts &amp; Science Council
X-ORIGINAL-URL:https://artsandscience.org
X-WR-CALDESC:Events for Arts &amp; Science Council
REFRESH-INTERVAL;VALUE=DURATION:PT1H
X-Robots-Tag:noindex
X-PUBLISHED-TTL:PT1H
BEGIN:VTIMEZONE
TZID:UTC
BEGIN:STANDARD
TZOFFSETFROM:+0000
TZOFFSETTO:+0000
TZNAME:UTC
DTSTART:20250101T000000
END:STANDARD
END:VTIMEZONE
BEGIN:VEVENT
DTSTART;TZID=UTC:20260327T090000
DTEND;TZID=UTC:20260327T100000
DTSTAMP:20260425T194753
CREATED:20251229T200822Z
LAST-MODIFIED:20260203T144021Z
UID:10002725-1774602000-1774605600@artsandscience.org
SUMMARY:Chair Movement  and Dance for Seniors
DESCRIPTION:Presented by Movement Migration\nWhen: Various dates\nWhere: David B. Waymer Recreation Center (14008 Holbrooks Rd\, Huntersville\, NC 28078) \n  \n 
URL:https://artsandscience.org/event/chair-movement-and-dance-for-seniors-2/2026-03-27/
LOCATION:David B. Waymer Recreation Center\, 14008 Holbrooks Rd.\, Huntersville\, 28078\, United States
CATEGORIES:Block 10: North County,Culture Blocks,New,Seniors
ATTACH;FMTTYPE=image/jpeg:https://artsandscience.org/wp-content/uploads/2024/10/DSC_1520_ByCorineOlarte.jpg
END:VEVENT
END:VCALENDAR