BEGIN:VCALENDAR
VERSION:2.0
PRODID:-//Arts &amp; Science Council - ECPv6.15.20//NONSGML v1.0//EN
CALSCALE:GREGORIAN
METHOD:PUBLISH
X-ORIGINAL-URL:https://artsandscience.org
X-WR-CALDESC:Events for Arts &amp; Science Council
REFRESH-INTERVAL;VALUE=DURATION:PT1H
X-Robots-Tag:noindex
X-PUBLISHED-TTL:PT1H
BEGIN:VTIMEZONE
TZID:UTC
BEGIN:STANDARD
TZOFFSETFROM:+0000
TZOFFSETTO:+0000
TZNAME:UTC
DTSTART:20250101T000000
END:STANDARD
END:VTIMEZONE
BEGIN:VEVENT
DTSTART;TZID=UTC:20260505T120000
DTEND;TZID=UTC:20260505T130000
DTSTAMP:20260425T122919
CREATED:20260302T153151Z
LAST-MODIFIED:20260302T153151Z
UID:10002844-1777982400-1777986000@artsandscience.org
SUMMARY:The Nature of Watercolors: Art Series for Senior Adults
DESCRIPTION:Presented by RA Arts for All\nWhen:\nTuesdays from January 13 – March 3 (12-1pm)\nTuesdays from March 31 – May 19 (12-1pm)\nWhere: North County Regional Library (16500 Holly Crest Lane\, Huntersville NC 28078)
URL:https://artsandscience.org/event/the-nature-of-watercolors-art-series-for-senior-adults-2/2026-05-05/
LOCATION:North County Regional Library\, 16500 Holly Crest Lane\, HUntersville\, NC\, 28078\, United States
CATEGORIES:Adults,Afternoon,Block 10: North County,Culture Blocks,New,Painting,Seniors
ATTACH;FMTTYPE=image/png:https://artsandscience.org/wp-content/uploads/2026/02/Watercolors-Class-e1770131213174.png
END:VEVENT
BEGIN:VEVENT
DTSTART;TZID=UTC:20260512T120000
DTEND;TZID=UTC:20260512T130000
DTSTAMP:20260425T122919
CREATED:20260302T153151Z
LAST-MODIFIED:20260302T153151Z
UID:10002845-1778587200-1778590800@artsandscience.org
SUMMARY:The Nature of Watercolors: Art Series for Senior Adults
DESCRIPTION:Presented by RA Arts for All\nWhen:\nTuesdays from January 13 – March 3 (12-1pm)\nTuesdays from March 31 – May 19 (12-1pm)\nWhere: North County Regional Library (16500 Holly Crest Lane\, Huntersville NC 28078)
URL:https://artsandscience.org/event/the-nature-of-watercolors-art-series-for-senior-adults-2/2026-05-12/
LOCATION:North County Regional Library\, 16500 Holly Crest Lane\, HUntersville\, NC\, 28078\, United States
CATEGORIES:Adults,Afternoon,Block 10: North County,Culture Blocks,New,Painting,Seniors
ATTACH;FMTTYPE=image/png:https://artsandscience.org/wp-content/uploads/2026/02/Watercolors-Class-e1770131213174.png
END:VEVENT
BEGIN:VEVENT
DTSTART;TZID=UTC:20260513T100000
DTEND;TZID=UTC:20260513T110000
DTSTAMP:20260425T122919
CREATED:20251229T193032Z
LAST-MODIFIED:20260109T165753Z
UID:10002312-1778666400-1778670000@artsandscience.org
SUMMARY:Interactive Art: Make & Take
DESCRIPTION:Presented by Mert\nWhen: Various dates from 10am – 11am\nWhere: Davidson Library \n\nJoin us for a series of art workshops exploring different mediums\, including Collage\, Painting\, Photography\, Printmaking\, and Jewelry Design. \nAdults of all Skill Levels and abilities welcome! \nJanuary 14 / February 11 / March 11 / April 8 / May 13 / June 10
URL:https://artsandscience.org/event/interactive-art-make-take-2/2026-05-13/
LOCATION:Davidson Library\, 119 S Main St\, Davidson\, 28036\, United States
CATEGORIES:Block 10: North County,Culture Blocks,Morning,New
ATTACH;FMTTYPE=image/jpeg:https://artsandscience.org/wp-content/uploads/2025/12/image003-1-scaled-e1767977861535.jpg
END:VEVENT
BEGIN:VEVENT
DTSTART;TZID=UTC:20260519T120000
DTEND;TZID=UTC:20260519T130000
DTSTAMP:20260425T122919
CREATED:20260302T153151Z
LAST-MODIFIED:20260302T153151Z
UID:10002846-1779192000-1779195600@artsandscience.org
SUMMARY:The Nature of Watercolors: Art Series for Senior Adults
DESCRIPTION:Presented by RA Arts for All\nWhen:\nTuesdays from January 13 – March 3 (12-1pm)\nTuesdays from March 31 – May 19 (12-1pm)\nWhere: North County Regional Library (16500 Holly Crest Lane\, Huntersville NC 28078)
URL:https://artsandscience.org/event/the-nature-of-watercolors-art-series-for-senior-adults-2/2026-05-19/
LOCATION:North County Regional Library\, 16500 Holly Crest Lane\, HUntersville\, NC\, 28078\, United States
CATEGORIES:Adults,Afternoon,Block 10: North County,Culture Blocks,New,Painting,Seniors
ATTACH;FMTTYPE=image/png:https://artsandscience.org/wp-content/uploads/2026/02/Watercolors-Class-e1770131213174.png
END:VEVENT
END:VCALENDAR