BEGIN:VCALENDAR
VERSION:2.0
PRODID:-//Arts &amp; Science Council - ECPv6.15.20//NONSGML v1.0//EN
CALSCALE:GREGORIAN
METHOD:PUBLISH
X-WR-CALNAME:Arts &amp; Science Council
X-ORIGINAL-URL:https://artsandscience.org
X-WR-CALDESC:Events for Arts &amp; Science Council
REFRESH-INTERVAL;VALUE=DURATION:PT1H
X-Robots-Tag:noindex
X-PUBLISHED-TTL:PT1H
BEGIN:VTIMEZONE
TZID:UTC
BEGIN:STANDARD
TZOFFSETFROM:+0000
TZOFFSETTO:+0000
TZNAME:UTC
DTSTART:20250101T000000
END:STANDARD
END:VTIMEZONE
BEGIN:VEVENT
DTSTART;TZID=UTC:20260423T093000
DTEND;TZID=UTC:20260423T101500
DTSTAMP:20260423T103549
CREATED:20251229T182542Z
LAST-MODIFIED:20260302T142413Z
UID:10002289-1776936600-1776939300@artsandscience.org
SUMMARY:Preschool Ballet Classes
DESCRIPTION:Presented by Ignite Dance Productions\nWhen: From January 8 through May 21 (no class April 9th)\nWhere: Mallard Creek Recreation Center (2530 Johnston- Oehler Rd\, Charlotte\, NC 28269) \n\n\n\n\n\nTwirl\, leap\, and dance with joy! Our preschool ballet class introduces little dancers to the magic of movement through imaginative games\, music\, and simple ballet steps. Perfect for building coordination\, confidence\, and creativity — all while having fun! \n\n\n\n\n\n\n\n\n\n\n\n\n\n\n\n\n\n\n\n\n\nRegister via phone 704-412-1665 or online through our website\, IgniteDanceProductions.com
URL:https://artsandscience.org/event/preschool-ballet-classes/2026-04-23/
LOCATION:Mallard Creek Recreation Center\, 2530 Johnston Oehler Rd.\, Charlotte\, NC\, 28269\, United States
CATEGORIES:Block 6: University City / Mallard Creek,Children,Culture Blocks,Dance,Morning,New
ATTACH;FMTTYPE=image/jpeg:https://artsandscience.org/wp-content/uploads/2025/12/image004.jpg
END:VEVENT
BEGIN:VEVENT
DTSTART;TZID=UTC:20260423T093000
DTEND;TZID=UTC:20260423T110000
DTSTAMP:20260423T103549
CREATED:20260317T195534Z
LAST-MODIFIED:20260317T195534Z
UID:10002940-1776936600-1776942000@artsandscience.org
SUMMARY:Tai Chi Classes
DESCRIPTION:Presented by\nWhen: April – June (9:30 – 11am)\nWhere: University City Library (5528 Waters Edge Vlg Dr\, Charlotte\, NC 28262) \n\nReduce stress. Improve balance. Increase flexibility. Build strength.
URL:https://artsandscience.org/event/tai-chi-classes/2026-04-23/
LOCATION:University City Library\, 5528 Waters Edge Village Drive\, Charlotte\, NC\, 28262\, United States
CATEGORIES:Adults,Block 6: University City / Mallard Creek,Culture Blocks,Morning,New,Workshop
ATTACH;FMTTYPE=image/png:https://artsandscience.org/wp-content/uploads/2026/03/University-library-Flyer-Tai-Chi-For-Health.png
END:VEVENT
BEGIN:VEVENT
DTSTART;TZID=UTC:20260423T100000
DTEND;TZID=UTC:20260423T110000
DTSTAMP:20260423T103549
CREATED:20260317T184048Z
LAST-MODIFIED:20260317T185747Z
UID:10002901-1776938400-1776942000@artsandscience.org
SUMMARY:Life Skills Through Theatre Skills @ Huntersville
DESCRIPTION:Presented by Children’s Theatre of Charlotte\nWhen: January through April\nWhere: David B. Waymer Rec Center (14008 Holbrooks Road\, Huntersville\, NC 28078) \n\n\n\n\n\n\n\nJoin us as we host free theatre classes for ages 2-5. All classes take place from 10-11 AM on the days listed. \nCelebrate creativity and explore the artist within through guided theatre and art activities with “Life Skills Through Theatre Skills.” \nCreative DramaJan 29Feb 5\, 12\, 19\, 26Mar 5\, 12\, 19\, 26Apr 2\, 16\, 23\, 30Creative Movement Jan 27Feb 3\, 10\, 17\, 24Mar 10\, 17\, 24\, 31Apr 14\, 21\, 28Contact: Akwari Roberson: 980-314-1127 | Akwari.Roberson@mecklenburgcountync.gov
URL:https://artsandscience.org/event/life-skills-through-theatre-skills-huntersville/2026-04-23/
LOCATION:David B. Waymer Recreation Center\, 14008 Holbrooks Rd.\, Huntersville\, 28078\, United States
CATEGORIES:Block 10: North County,Children,Culture Blocks,Morning,New,Theater
ATTACH;FMTTYPE=image/jpeg:https://artsandscience.org/wp-content/uploads/2026/03/2526-Culture-Blocks545x390-2.jpg
END:VEVENT
BEGIN:VEVENT
DTSTART;TZID=UTC:20260423T100000
DTEND;TZID=UTC:20260423T110000
DTSTAMP:20260423T103549
CREATED:20260317T185532Z
LAST-MODIFIED:20260317T185532Z
UID:10002935-1776938400-1776942000@artsandscience.org
SUMMARY:Life Skills Through Theatre Skills @ Eastway
DESCRIPTION:Presented by Children’s Theatre of Charlotte\nWhen: January through April\nWhere: Eastway Regional Rec Center (3150 Eastway Pk Dr\, Charlotte\, NC 28213) \n\nJoin us as we host free theatre classes for ages 2-5. All classes take place from 10-11 AM on the days listed. \nCelebrate creativity and explore the artist within through guided theatre and art activities with “Life Skills Through Theatre Skills.” \nCreative DramaJan 27 Feb 3\, 10\, 17\, 24 Mar 10\, 17\, 24\, 31Ap 14\, 21\, 28Creative MovementJan 29 Feb 5\, 12\, 19\, 26 Mar 5\, 12\, 19\, 26 Apr 2\, 16\, 23\, 30Contact: Tari Cottman: 980-314-1444 | Tari.Cottman@Mecknc.gov
URL:https://artsandscience.org/event/life-skills-through-theatre-skills-eastway-2/2026-04-23/
LOCATION:Eastway Regional Recreation Center\, 3150 Eastway Pk Dr.\, Charlotte\, 28213\, United States
CATEGORIES:Block 2: North End, Sugar Creek, Hidden Valley,Children,Culture Blocks,Morning,New,Theater,Workshop
ATTACH;FMTTYPE=image/jpeg:https://artsandscience.org/wp-content/uploads/2026/03/2526-Culture-Blocks545x390-2.jpg
END:VEVENT
BEGIN:VEVENT
DTSTART;TZID=UTC:20260423T103000
DTEND;TZID=UTC:20260423T113000
DTSTAMP:20260423T103549
CREATED:20251229T180345Z
LAST-MODIFIED:20260302T142449Z
UID:10002270-1776940200-1776943800@artsandscience.org
SUMMARY:Adult Ballet Classes
DESCRIPTION:Presented by Ignite Dance Productions\nWhen: Thursdays from January 8 through May 21 (no class April 9th)\nWhere: Mallard Creek Recreation Center (530 Johnston- Oehler Rd\, Charlotte\, NC 28269) \n\n\n\n\n\nDiscover the joy of movement at any age! Our ballet classes are designed for adults and seniors of all mobility levels. Improve balance\, flexibility\, and posture while expressing yourself through beautiful\, low-impact movement — no experience needed! \n\n\n\n\n\n\n\n\n\n\n\n\n\n\n\n\n\n\n\n\n\nRegister via phone 704-412-1665 or online through our website\, IgniteDanceProductions.com
URL:https://artsandscience.org/event/adult-ballet-classes/2026-04-23/
LOCATION:Mallard Creek Recreation Center\, 2530 Johnston Oehler Rd.\, Charlotte\, NC\, 28269\, United States
CATEGORIES:Adults,Block 6: University City / Mallard Creek,Culture Blocks,Dance,Morning,New
ATTACH;FMTTYPE=image/jpeg:https://artsandscience.org/wp-content/uploads/2025/12/image004.jpg
END:VEVENT
BEGIN:VEVENT
DTSTART;TZID=UTC:20260423T110000
DTEND;TZID=UTC:20260423T120000
DTSTAMP:20260423T103549
CREATED:20260203T150734Z
LAST-MODIFIED:20260203T150734Z
UID:10002748-1776942000-1776945600@artsandscience.org
SUMMARY:The Nature of Watercolors: Art Series for Senior Adults
DESCRIPTION:Presented by RA Arts for All\nWhen:\nThursdays from January 15 – March 12 *no class on Jan 29\nThursdays from April 2 – May 21\nWhere: Hickory Grove Library (5935 Hickory Grove Rd\, Charlotte\, NC 28215)
URL:https://artsandscience.org/event/the-nature-of-watercolors-art-series-for-senior-adults/2026-04-23/
LOCATION:Hickory Grove Library\, 5935 Hickory Grove Rd\, Charlotte\, NC\, 28215\, United States
CATEGORIES:Block 3: East Charlotte,Culture Blocks,New,Painting,Seniors,Workshop
ATTACH;FMTTYPE=image/png:https://artsandscience.org/wp-content/uploads/2026/02/Watercolors-Class-e1770131213174.png
END:VEVENT
BEGIN:VEVENT
DTSTART;TZID=UTC:20260423T130000
DTEND;TZID=UTC:20260423T140000
DTSTAMP:20260423T103549
CREATED:20260327T173248Z
LAST-MODIFIED:20260327T173248Z
UID:10003057-1776949200-1776952800@artsandscience.org
SUMMARY:African Drumming
DESCRIPTION:Presented by Charlotte Ballet\nWhen: Thursdays\, Mar. 5 – Apr. 23 (1-2pm)\nWhere: West Charlotte Recreation Center (2401 Kendall Dr\, Charlotte\, NC 28216) \n\n\nOpen to all ages and skill levels. Classes take place weekly\, excluding holidays. For more information please contact Community Engagement Coordinator\, Deborah Maine\, dmaine@charlotteballet.org | 704.414.2792 \nThis dynamic African drumming program offers participants an engaging\, hands-on introduction to the rich musical traditions of West Africa\, with a central focus on the djembe drum. Open to all skill levels\, the class provides accessible instruction in proper hand technique\, traditional rhythmic patterns\, and ensemble playing – encouraging both individual creativity and collaborative learning. \nRooted in cultural authenticity and respect\, the program blends music education\, physical activity\, and cross-cultural exploration. Participants gain not only musical skills\, but also a deeper understanding of the cultural significance and historical context of West African drumming.
URL:https://artsandscience.org/event/african-drumming-2/2026-04-23/
LOCATION:West Charlotte Recreation Center\, 2401 Kendall Dr.\, Charlotte\, 28216\, United States
CATEGORIES:Afternoon,Block 4: West Charlotte,Culture Blocks,New,Workshop
ATTACH;FMTTYPE=image/jpeg:https://artsandscience.org/wp-content/uploads/2026/03/African-Dance-Class-by-Charlotte-Ballet-@-1st-Baptist-Church-West-1-28-17-by-Jon-Strayhorn-009.jpg
ORGANIZER;CN="Charlotte Ballet":MAILTO:jdomini@charlotteballet.org. 
END:VEVENT
BEGIN:VEVENT
DTSTART;TZID=UTC:20260423T160000
DTEND;TZID=UTC:20260423T180000
DTSTAMP:20260423T103549
CREATED:20260413T132026Z
LAST-MODIFIED:20260413T132026Z
UID:10003067-1776960000-1776967200@artsandscience.org
SUMMARY:Studio Hours: Create Your Crown Hat Design Workshop
DESCRIPTION:Presented by\nWhen: Tuesday\, April 21 & Thursday April 22 (4–6 PM)\nWhere: Do Greater Charlotte (2400 Greenland Ave\, Charlotte\, NC 28208) \n\n\nIn this two-part workshop\, students will get the opportunity to step into the world of apparel design and experience what it takes to create a product from concept to finished piece. Over two days\, students will explore the fundamentals of design\, understand the value of creativity in the fashion industry\, and develop their own original hat design using Canva Pro. On production day\, students will get the opportunity to cut their DTF designs\, learn how to use a heat press\, and walk away with two custom hats they designed and made themselves.
URL:https://artsandscience.org/event/studio-hours-create-your-crown-hat-design-workshop/2026-04-23/
LOCATION:Do Greater\, 2400 Greenland Ave\, Charlotte\, NC\, 28208\, United States
CATEGORIES:Block 4: West Charlotte,Culture Blocks,New,Workshop
ATTACH;FMTTYPE=image/png:https://artsandscience.org/wp-content/uploads/2026/04/crown-e1776086420303.png
END:VEVENT
BEGIN:VEVENT
DTSTART;TZID=UTC:20260423T183000
DTEND;TZID=UTC:20260423T193000
DTSTAMP:20260423T103549
CREATED:20260407T141134Z
LAST-MODIFIED:20260407T141134Z
UID:10003063-1776969000-1776972600@artsandscience.org
SUMMARY:Soulful Moves: African Diaspora Dance
DESCRIPTION:Presented by Moving Spirits\nWhen: Thursdays in April (6:30pm)\nWhere: Tuckaseegee Recreation Center (4820 Tuckaseegee Rd\, Charlotte\, NC 28208) \n\nDive into the studies of various African Diasporic dances.\n\nFrom these experiences\, participants will gain:\n• A deeper connection to African diasporic cultural traditions through movement\n• Representation of dance and cultural practices rooted in family and community lineages\n• A sense of community fellowship and wellness\n\nOpen to pre-teens and adults. All levels welcome!\n\nContact us at BlocoAfroAyedun@gmail.com
URL:https://artsandscience.org/event/soulful-moves-african-diaspora-dance/2026-04-23/
LOCATION:Tuckaseegee Recreation Center\, 4820 Tuckaseegee Rd.\, Charlotte\, NC\, 28208\, United States
CATEGORIES:Block 1: Northwest Charlotte,Culture Blocks,Dance,Evening,New
ATTACH;FMTTYPE=image/png:https://artsandscience.org/wp-content/uploads/2026/04/screenshot-2026-03-30-at-31922-pm_gtUuGjag.png
END:VEVENT
BEGIN:VEVENT
DTSTART;TZID=UTC:20260423T190000
DTEND;TZID=UTC:20260423T210000
DTSTAMP:20260423T103549
CREATED:20260401T234050Z
LAST-MODIFIED:20260407T141952Z
UID:10003058-1776970800-1776978000@artsandscience.org
SUMMARY:Of Thee We Sing: Celebrate America's 250th!
DESCRIPTION:Presented by North Mecklenburg Community Chorus\nWhen: April 23 (7pm)\nWhere: Cain Center for the Arts (21348 Catawba Ave\, Cornelius\, NC 28031) \nJoin us as we celebrate America turning 250! Take a musical journey and hear songs that shaped our nation’s rich cultural tapestry – ranging from soulful folk tunes\, heartfelt blues\, catchy pop hits and dazzling Broadway melodies. Experience the music that tells America’s story and echoes America’s history and ideals\, bringing 250 years of pride and passion to life through music.
URL:https://artsandscience.org/event/of-thee-we-sing-celebrate-americas-250th/
LOCATION:Cain Center for the Arts\, 21348 Catawba Ave\, Cornelius\, NC\, 28031\, United States
CATEGORIES:Block 10: North County,Culture Blocks,Music,New,Performance
ATTACH;FMTTYPE=image/jpeg:https://artsandscience.org/wp-content/uploads/2026/04/NMCC-156-1-scaled-e1775086841294.jpeg
END:VEVENT
END:VCALENDAR